From mboxrd@z Thu Jan 1 00:00:00 1970 Return-Path: Received: from mails.dpdk.org (mails.dpdk.org [217.70.189.124]) by inbox.dpdk.org (Postfix) with ESMTP id 5483548A19 for ; Wed, 29 Oct 2025 00:49:03 +0100 (CET) Received: from mails.dpdk.org (localhost [127.0.0.1]) by mails.dpdk.org (Postfix) with ESMTP id 3F67540262; Wed, 29 Oct 2025 00:49:03 +0100 (CET) Received: from mail-il1-f228.google.com (mail-il1-f228.google.com [209.85.166.228]) by mails.dpdk.org (Postfix) with ESMTP id 300C840262 for ; Wed, 29 Oct 2025 00:49:02 +0100 (CET) Received: by mail-il1-f228.google.com with SMTP id e9e14a558f8ab-430ca4647c7so27715375ab.3 for ; Tue, 28 Oct 2025 16:49:02 -0700 (PDT) DKIM-Signature: v=1; a=rsa-sha256; c=relaxed/relaxed; d=iol.unh.edu; s=unh-iol; t=1761695341; x=1762300141; darn=dpdk.org; h=references:in-reply-to:cc:to:from:subject:message-id:date:from:to :cc:subject:date:message-id:reply-to; bh=j33LLU8dCP/sq0+IV3Gc+1ytpQVEIVuE9igHat8Dbso=; b=P5Nyd6liuEUGsyc3ALV/BBfRnkv3z+LEvAu/brnMWp1OABCktCqjQAzC22o+nA5eQ3 8ZEQa5VvoQCfQ0HU0VA/ivoE3gUGckc4khOxpQ30HrFp1a1OuQlVYjmQT9pHsE5yuFmE cZALP9qyUrMncRuNowGVy+dUX2hc5ASF+BsBI= X-Google-DKIM-Signature: v=1; a=rsa-sha256; c=relaxed/relaxed; d=1e100.net; s=20230601; t=1761695341; x=1762300141; h=references:in-reply-to:cc:to:from:subject:message-id:date :x-gm-message-state:from:to:cc:subject:date:message-id:reply-to; bh=j33LLU8dCP/sq0+IV3Gc+1ytpQVEIVuE9igHat8Dbso=; b=BRQtcIUykZJ4PBGlWkHWlrEnCU/MThvotovwP+Gf69c28ou+8sG2hiHt96MX5HOHWU 5Ccqju2DZc8gHM8//RfkQD8fK2juM44NfDDO2ZGF0nUV3vaqkgz8xRRrxyMhlna5Q6sH TiGPKo17fDrjvJ0mXD65LJRL1CvGj9Kkilld+bzQLqVDH6Eeodmj23JBPYpvBfgxjb6q 3pA4vW0syEWNTJfQ1euG/nGzAOz4680z/lb7ao3os4genEYxNkMEG35RwE8dyteIrvrV E2F9lMk9iHnC02pKtkGQsyKbBReVXDo5AMKhf6ss0ZVvcZtBCcrZroMWbj8+OJzKrM6k eTug== X-Gm-Message-State: AOJu0YxDV/supVeH2N0W9Zu11DlvxnUNwE62XanNmhdo5SqyMlGmpqRM Q71JGCjPXulhPYgYn+ZQGhOOSNb6GjYPTkdJ7R5xJzBLrzpOjVfhV3tS4v8l+MmJoXkdnLVD3Co 1B5jM/3ikkj7v1RZW2T7FXrEEIQVs+lGBhF5pXeL6UZDqvSv5/bqvxzqLNQ6e X-Gm-Gg: ASbGncvac/FR9Pkwl/4ioC2MXxTjS6910yiA8h0/aB3FOQ1Sv1X2Eda3pZb/s1nkjF1 Pw2uDr5qbesy8ywbkET2YjRr3nlNd3uN1l1XpPE2kovuTIM2DtHNcdFu2XhXQFB1Vqx9kaw9qb/ 3GldF6LoVP0c8WxrJ6jl/G82w+nRVJfuyImhBdwxmdPV3X3SA3SLt7Rqe760jUNuYmJLT53PqsD fPvIbZ/SZP/0VKpGy1m4abElXZdnU1G2iEL5UTfRjZ5haJeh4HkP58ZlPAKVfIWXGCN3oolGxyT yuSGRrjHT0WytzjPfhaw/wOHMJSYW3SbZdwL8BE7WY7EYYoRTUwqkD0bOsNf0XyA3LBAs08b2ra H5qgM0iY8 X-Google-Smtp-Source: AGHT+IEV7OqEguROYpCrqLEParYQ3hDKW6ZM/2PeCddu0TJC7iMTMIOhhfDbBBokYoRKKR/BtDl23mpseIGr X-Received: by 2002:a05:6e02:2701:b0:430:ea1f:ff82 with SMTP id e9e14a558f8ab-432f90446a3mr14406405ab.23.1761695341433; Tue, 28 Oct 2025 16:49:01 -0700 (PDT) Received: from postal.iol.unh.edu (postal.iol.unh.edu. [2606:4100:3880:1234::84]) by smtp-relay.gmail.com with ESMTPS id e9e14a558f8ab-431f688c3a8sm10890105ab.20.2025.10.28.16.49.01 (version=TLS1_2 cipher=ECDHE-ECDSA-AES128-GCM-SHA256 bits=128/128); Tue, 28 Oct 2025 16:49:01 -0700 (PDT) X-Relaying-Domain: iol.unh.edu Date: Tue, 28 Oct 2025 16:49:01 -0700 (PDT) Message-ID: <6901566d.050a0220.3a1f5c.2254SMTPIN_ADDED_MISSING@mx.google.com> Received: from [172.21.0.2] (unknown [172.18.0.240]) by postal.iol.unh.edu (Postfix) with ESMTP id EF8A3604D420; Tue, 28 Oct 2025 19:49:00 -0400 (EDT) Subject: |SUCCESS| pw158203 [PATCH] [v3] fib6: implement RCU rule reclamation From: dpdklab@iol.unh.edu To: Test Report Cc: dpdk-test-reports@iol.unh.edu In-Reply-To: <20251028173703.548656-3-rjarry@redhat.com> References: <20251028173703.548656-3-rjarry@redhat.com> Content-Type: text/plain X-BeenThere: test-report@dpdk.org X-Mailman-Version: 2.1.29 Precedence: list List-Id: automatic DPDK test reports List-Unsubscribe: , List-Archive: List-Post: List-Help: List-Subscribe: , Errors-To: test-report-bounces@dpdk.org Test-Label: iol-unit-amd64-testing Test-Status: SUCCESS http://dpdk.org/patch/158203 _Testing PASS_ Submitter: Robin Jarry Date: Tuesday, October 28 2025 17:37:05 DPDK git baseline: Repo:dpdk Branch: master CommitID:39b54f2dcf44ad1f91eabc7080cd5dea763607fd 158203 --> testing pass Upstream job id: Generic-VM-Unit-Test-DPDK#32136 Test environment and result as below: +-------------------------------+----------------+ | Environment | dpdk_unit_test | +===============================+================+ | CentOS Stream 9 | PASS | +-------------------------------+----------------+ | CentOS Stream 10 | PASS | +-------------------------------+----------------+ | Debian GNU/Linux 12 | PASS | +-------------------------------+----------------+ | Fedora Linux 40 | PASS | +-------------------------------+----------------+ | Fedora Linux 41 | PASS | +-------------------------------+----------------+ | Red Hat Enterprise Linux 8.10 | PASS | +-------------------------------+----------------+ | Fedora Linux 42 | PASS | +-------------------------------+----------------+ | Red Hat Enterprise Linux 9.5 | PASS | +-------------------------------+----------------+ | Ubuntu 20.04 | PASS | +-------------------------------+----------------+ | Ubuntu 24.04 | PASS | +-------------------------------+----------------+ | Ubuntu 22.04 | PASS | +-------------------------------+----------------+ | Windows Server 2022 | PASS | +-------------------------------+----------------+ CentOS Stream 9 Kernel: 5.15 Compiler: gcc gcc (GCC) 11.5.0 20240719 (Red Hat 11.5.0-11) CentOS Stream 10 Kernel: 5.15 Compiler: gcc gcc (GCC) 14.2.1 20250110 (Red Hat 14.2.1-8) Debian GNU/Linux 12 Kernel: 5.15 Compiler: gcc gcc (Debian 12.2.0-14+deb12u1) 12.2.0 Fedora Linux 40 Kernel: 5.15 Compiler: gcc gcc (GCC) 14.2.1 20240912 (Red Hat 14.2.1-3) Fedora Linux 41 Kernel: 5.15 Compiler: gcc gcc (GCC) 14.3.1 20250523 (Red Hat 14.3.1-1) Red Hat Enterprise Linux 8.10 Kernel: 5.15 Compiler: gcc gcc (GCC) 8.5.0 20210514 (Red Hat 8.5.0-22) Fedora Linux 42 Kernel: 5.15 Compiler: clang gcc (GCC) 15.2.1 20250808 (Red Hat 15.2.1-1) Red Hat Enterprise Linux 9.5 Kernel: 5.15 Compiler: gcc gcc (GCC) 11.5.0 20240719 (Red Hat 11.5.0-2) Ubuntu 20.04 Kernel: 5.15 Compiler: gcc gcc (Ubuntu 9.4.0-1ubuntu1~20.04.2) 9.4.0 Ubuntu 24.04 Kernel: 5.15 Compiler: gcc gcc (Ubuntu 13.3.0-6ubuntu2~24.04) 13.3.0 Ubuntu 22.04 Kernel: 5.15 Compiler: gcc gcc (Ubuntu 11.4.0-1ubuntu1~22.04) 11.4.0 Windows Server 2022 Kernel: 10.0.20348.2031 Compiler: clang 15.0.7, gcc 14.1.0 (MinGW), and MSVC VS 19.39.33521 To view detailed results, visit: https://lab.dpdk.org/results/dashboard/patchsets/34407/ UNH-IOL DPDK Community Lab To manage your email subscriptions, visit: https://lab.dpdk.org/results/dashboard/preferences/subscriptions/