From mboxrd@z Thu Jan 1 00:00:00 1970 Return-Path: Received: from mails.dpdk.org (mails.dpdk.org [217.70.189.124]) by inbox.dpdk.org (Postfix) with ESMTP id 8E132489FC for ; Wed, 29 Oct 2025 00:51:24 +0100 (CET) Received: from mails.dpdk.org (localhost [127.0.0.1]) by mails.dpdk.org (Postfix) with ESMTP id 7862740262; Wed, 29 Oct 2025 00:51:24 +0100 (CET) Received: from mail-io1-f98.google.com (mail-io1-f98.google.com [209.85.166.98]) by mails.dpdk.org (Postfix) with ESMTP id B4C9440262 for ; Wed, 29 Oct 2025 00:51:22 +0100 (CET) Received: by mail-io1-f98.google.com with SMTP id ca18e2360f4ac-945a33e0d55so162745539f.1 for ; Tue, 28 Oct 2025 16:51:22 -0700 (PDT) DKIM-Signature: v=1; a=rsa-sha256; c=relaxed/relaxed; d=iol.unh.edu; s=unh-iol; t=1761695482; x=1762300282; darn=dpdk.org; h=references:in-reply-to:cc:to:from:subject:message-id:date:from:to :cc:subject:date:message-id:reply-to; bh=PhlOFiO2aI3QIMpaWbJre4HOkW+FP+Qts/c7mUfTDpQ=; b=OYz7F+s+6byhlxgWEetUoOp0jsRk7DeR32ZbaObktG+uh3Pnh4Fy/q0PberKW3qN2A ggLvyhXSH8mQ64mldAFOWDAw8Rz+k/NN1HPDQqttDJ0T2gYBWCXYmwQJuG6ny0nmqBgy FW7oEn6wXV4TXEjeSCZhZ1EA1ac9XcptPl5+8= X-Google-DKIM-Signature: v=1; a=rsa-sha256; c=relaxed/relaxed; d=1e100.net; s=20230601; t=1761695482; x=1762300282; h=references:in-reply-to:cc:to:from:subject:message-id:date :x-gm-message-state:from:to:cc:subject:date:message-id:reply-to; bh=PhlOFiO2aI3QIMpaWbJre4HOkW+FP+Qts/c7mUfTDpQ=; b=niryG+80aO/TkVqvOoqlw36t67dP/O2wbgV4sldcy3b6AMoBcI4Mr5ZNREonrsEHuJ 62U91oIt5c0SUB7zgRYqroQixvdNATpkBeRYxUl4Huq64w9gMCfitxvdiL5d9URSXpHd 4mq2LpQQYoMscvzJduCyIKsR6N8/8cs4UC+JmSZe7qN2RjtKWes/mr9IX/nEPy2NLXoI gHlCF2RuaRf/ECp5BZ+VeSwjX0BuZ894o/uN5sjQf7JYktomGOaLoqzap/bKPWcczivd YVg+gER91K+LFJvua+DEYnwypyPHQiUK+90I9YEtYC9IjASlIzXedKQP0ztw6ukLWUND AdPQ== X-Gm-Message-State: AOJu0YyO4E0ZYt0tPTaQzq8VB5ZcY9zmb1bf7L+vqcsLGl+qFlJVhqc9 lPReUb42uVjU76XOVTbzZKWaogppP7tb4vnqS9IxEpnuu9rsoOtjn1zDp1L+jnWMYGzAUHGsEus c9wu3/RJy2hTAOAZ2dGhtBple6m1aE1Z4BVbePJ5ljPDzvz7s7hlyapf17nTN X-Gm-Gg: ASbGnct1zwjgk9ZcHMAdiYbxyFMIL2TFWM6+pwQhve/590lBo7RC7wbX8AT5kuoFR1x FqouxYA6Eix+5WPdZw8KsgxBPPLRPyp0dahRq1Fbm/QbCUgNbLjiekhnN5xLDETWtIUs+fMU08U +cIHK8Djs9Rw5GKfRTJg87foUssYCFeWWnOnkj6uDVoAIXgtfND0QKRzPLoEpUwfAfw01tqxj2l dhRdANxVwrb7rmMXslG0T+rrFrr3GzyRXSDfJdX+TFbFbsZ+0nh8yBGHywtVsG7Kd9qMpGwb/q+ me9rNyqNfiF/ZkwKPyYU+jSZDPEOdmAhIH+LS1ZYU7REzQEtmb3DGnG6SBDLrrhqwigq6gzSLBm o6NoyZGGN X-Google-Smtp-Source: AGHT+IFE9KTtWFY9k2xN7cSHRafnU9HORHIM+uQR4M+Ddfxrh5ZWtVJNIVfBnnys4op9AIrwC9S9n1Etb3pE X-Received: by 2002:a05:6e02:3303:b0:42e:72ee:cde6 with SMTP id e9e14a558f8ab-432f8fad6eemr19685935ab.12.1761695481969; Tue, 28 Oct 2025 16:51:21 -0700 (PDT) Received: from postal.iol.unh.edu (postal.iol.unh.edu. [2606:4100:3880:1234::84]) by smtp-relay.gmail.com with ESMTPS id e9e14a558f8ab-431f689a184sm11830905ab.27.2025.10.28.16.51.21 (version=TLS1_2 cipher=ECDHE-ECDSA-AES128-GCM-SHA256 bits=128/128); Tue, 28 Oct 2025 16:51:21 -0700 (PDT) X-Relaying-Domain: iol.unh.edu Date: Tue, 28 Oct 2025 16:51:21 -0700 (PDT) Message-ID: <690156f9.050a0220.332832.6dbbSMTPIN_ADDED_MISSING@mx.google.com> Received: from [172.21.0.2] (unknown [172.18.0.240]) by postal.iol.unh.edu (Postfix) with ESMTP id 847AD604D420; Tue, 28 Oct 2025 19:51:21 -0400 (EDT) Subject: |WARNING| pw158206 [PATCH] bitmap: change return value of rte_bitmap From: dpdklab@iol.unh.edu To: Test Report Cc: dpdk-test-reports@iol.unh.edu In-Reply-To: <20251028204432.880074-1-stephen@networkplumber.org> References: <20251028204432.880074-1-stephen@networkplumber.org> Content-Type: text/plain X-BeenThere: test-report@dpdk.org X-Mailman-Version: 2.1.29 Precedence: list List-Id: automatic DPDK test reports List-Unsubscribe: , List-Archive: List-Post: List-Help: List-Subscribe: , Errors-To: test-report-bounces@dpdk.org Test-Label: iol-compile-amd64-testing Test-Status: WARNING http://dpdk.org/patch/158206 _Testing issues_ Submitter: Stephen Hemminger Date: Tuesday, October 28 2025 20:44:32 DPDK git baseline: Repo:dpdk Branch: master CommitID:39b54f2dcf44ad1f91eabc7080cd5dea763607fd 158206 --> testing issues Upstream job id: Generic-DPDK-Compile-Meson#438802 Test environment and result as below: +-------------------------------+--------------------+-------------------+-------------------+------------------+-------------------------+----------------------+ | Environment | dpdk_meson_compile | dpdk_msvc_compile | dpdk_compile_spdk | dpdk_compile_ovs | dpdk_llvm_clang_compile | dpdk_mingw64_compile | +===============================+====================+===================+===================+==================+=========================+======================+ | Ubuntu 20.04 | PEND | SKIPPED | SKIPPED | SKIPPED | SKIPPED | SKIPPED | +-------------------------------+--------------------+-------------------+-------------------+------------------+-------------------------+----------------------+ | FreeBSD 14.2 | PASS | SKIPPED | SKIPPED | SKIPPED | SKIPPED | SKIPPED | +-------------------------------+--------------------+-------------------+-------------------+------------------+-------------------------+----------------------+ | CentOS Stream 9 | PEND | SKIPPED | PEND | SKIPPED | SKIPPED | SKIPPED | +-------------------------------+--------------------+-------------------+-------------------+------------------+-------------------------+----------------------+ | CentOS Stream 10 | PASS | SKIPPED | SKIPPED | SKIPPED | SKIPPED | SKIPPED | +-------------------------------+--------------------+-------------------+-------------------+------------------+-------------------------+----------------------+ | Debian GNU/Linux 12 | PASS | SKIPPED | WARN | SKIPPED | SKIPPED | SKIPPED | +-------------------------------+--------------------+-------------------+-------------------+------------------+-------------------------+----------------------+ | Fedora Linux 42 | PEND | SKIPPED | PEND | PEND | SKIPPED | SKIPPED | +-------------------------------+--------------------+-------------------+-------------------+------------------+-------------------------+----------------------+ | openSUSE Leap 15.6 | PEND | SKIPPED | SKIPPED | SKIPPED | SKIPPED | SKIPPED | +-------------------------------+--------------------+-------------------+-------------------+------------------+-------------------------+----------------------+ | Red Hat Enterprise Linux 8.10 | PEND | SKIPPED | SKIPPED | SKIPPED | SKIPPED | SKIPPED | +-------------------------------+--------------------+-------------------+-------------------+------------------+-------------------------+----------------------+ | Red Hat Enterprise Linux 9.5 | PEND | SKIPPED | SKIPPED | SKIPPED | SKIPPED | SKIPPED | +-------------------------------+--------------------+-------------------+-------------------+------------------+-------------------------+----------------------+ | Ubuntu 22.04 | PEND | SKIPPED | PEND | SKIPPED | SKIPPED | SKIPPED | +-------------------------------+--------------------+-------------------+-------------------+------------------+-------------------------+----------------------+ | Ubuntu 24.04 | PEND | SKIPPED | PEND | PEND | SKIPPED | SKIPPED | +-------------------------------+--------------------+-------------------+-------------------+------------------+-------------------------+----------------------+ | Alpine Linux 3.22.0 | PEND | SKIPPED | SKIPPED | SKIPPED | SKIPPED | SKIPPED | +-------------------------------+--------------------+-------------------+-------------------+------------------+-------------------------+----------------------+ | Windows Server 2022 | SKIPPED | PASS | SKIPPED | SKIPPED | PASS | PASS | +-------------------------------+--------------------+-------------------+-------------------+------------------+-------------------------+----------------------+ ==== 20 line log output for Debian GNU/Linux 12 (dpdk_compile_spdk): ==== --- Failed to get log output --- ==== End log output ==== Ubuntu 20.04 Kernel: 4.19 Compiler: gcc gcc (Ubuntu 9.4.0-1ubuntu1~20.04.2) 9.4.0 FreeBSD 14.2 Kernel: 14.2-RELEASE Compiler: clang 18.1.6 CentOS Stream 9 Kernel: 5.15 Compiler: gcc gcc (GCC) 11.5.0 20240719 (Red Hat 11.5.0-11) CentOS Stream 10 Kernel: 5.15 Compiler: gcc gcc (GCC) 14.2.1 20250110 (Red Hat 14.2.1-8) Debian GNU/Linux 12 Kernel: 5.15 Compiler: gcc gcc (Debian 12.2.0-14+deb12u1) 12.2.0 Fedora Linux 42 Kernel: 5.15 Compiler: clang gcc (GCC) 15.2.1 20250808 (Red Hat 15.2.1-1) openSUSE Leap 15.6 Kernel: 5.15 Compiler: gcc gcc (SUSE Linux) 7.5.0 Red Hat Enterprise Linux 8.10 Kernel: 5.15 Compiler: gcc gcc (GCC) 8.5.0 20210514 (Red Hat 8.5.0-22) Red Hat Enterprise Linux 9.5 Kernel: 5.15 Compiler: gcc gcc (GCC) 11.5.0 20240719 (Red Hat 11.5.0-2) Ubuntu 22.04 Kernel: 5.15 Compiler: gcc gcc (Ubuntu 11.4.0-1ubuntu1~22.04) 11.4.0 Ubuntu 24.04 Kernel: 5.15 Compiler: gcc gcc (Ubuntu 13.3.0-6ubuntu2~24.04) 13.3.0 Alpine Linux 3.22.0 Kernel: 5.15 Compiler: gcc gcc (Alpine 14.2.0) 14.2.0 Windows Server 2022 Kernel: 10.0.20348.2031 Compiler: clang 15.0.7, gcc 14.1.0 (MinGW), and MSVC VS 19.39.33521 To view detailed results, visit: https://lab.dpdk.org/results/dashboard/patchsets/34409/ UNH-IOL DPDK Community Lab To manage your email subscriptions, visit: https://lab.dpdk.org/results/dashboard/preferences/subscriptions/