From mboxrd@z Thu Jan 1 00:00:00 1970 Return-Path: Received: from mails.dpdk.org (mails.dpdk.org [217.70.189.124]) by inbox.dpdk.org (Postfix) with ESMTP id 918E9489FC for ; Wed, 29 Oct 2025 00:51:34 +0100 (CET) Received: from mails.dpdk.org (localhost [127.0.0.1]) by mails.dpdk.org (Postfix) with ESMTP id 8D2CC40262; Wed, 29 Oct 2025 00:51:34 +0100 (CET) Received: from mail-pl1-f226.google.com (mail-pl1-f226.google.com [209.85.214.226]) by mails.dpdk.org (Postfix) with ESMTP id 5266D40262 for ; Wed, 29 Oct 2025 00:51:33 +0100 (CET) Received: by mail-pl1-f226.google.com with SMTP id d9443c01a7336-2698d47e776so52711565ad.1 for ; Tue, 28 Oct 2025 16:51:33 -0700 (PDT) DKIM-Signature: v=1; a=rsa-sha256; c=relaxed/relaxed; d=iol.unh.edu; s=unh-iol; t=1761695492; x=1762300292; darn=dpdk.org; h=references:in-reply-to:cc:to:from:subject:message-id:date:from:to :cc:subject:date:message-id:reply-to; bh=hIUhs6uiaiyb2uEsrZmNcq7cCWfx8O1WLYMpgQtKl34=; b=RBwdPIdU5nKEsXmb8BqNvnn7+OPM73YCxfU6cb/ueVZH5XyZaOE74x50FqouLdDIny 5Nl7O7E8i5gyAjNq+2N/4wd4vVgz9HQF9Jqsmton1Hf6gk5ed/p+37ympfKN1/aXSWs1 dgiQ+NrC0Ny1F65n0eMFqPeNbdZLR8uOl1Eis= X-Google-DKIM-Signature: v=1; a=rsa-sha256; c=relaxed/relaxed; d=1e100.net; s=20230601; t=1761695492; x=1762300292; h=references:in-reply-to:cc:to:from:subject:message-id:date :x-gm-message-state:from:to:cc:subject:date:message-id:reply-to; bh=hIUhs6uiaiyb2uEsrZmNcq7cCWfx8O1WLYMpgQtKl34=; b=APti2K5b+hhtbasBc1+lNqODMLI4S4wWvj0hYkXiKkWIc28H4ZpWhacZmQye2fY/l0 N7dFzv5nE3tRxNj/lndSrqXlHF5uAEQ1vSVWJPEVwzFJlXTlwHd/0mNPzSxsEGXfFoEG xc2vh65aBV3YxFa/kMH1iWj2X9eU/mdtT1Bl+k9ZOYrYP7eAn+bHIJ4DIu9hXolG+DB0 5QhVMq7OlOb9Re9WnfpDNViRfhq3Yop3Zhjbrtzog5g3s4nmFHhpO9Fi8+Na71457gPq eZk5Z2qkGJMN4+APupijdrNn4Og2+Z7u2ioFrT5cwNfPOH7LRoDXdxr8qYToO7OcEYzW YtLA== X-Gm-Message-State: AOJu0YxHWMkQlPpK3iuAPVxI3gDcKgbfybXVQ2t9X20WaIyBQ5VgCNDZ v1mcRWHewAlFUki6M8mLazJFlvKt+uBABMTZKAG4Tt1WdKib2YXzA4imlgw4XXGrtNdg+gLBZ+W 2J9Bf9CUO64SqqGqzxnVVvhZuc1byrqDizg3bixch969byzH6WRVKt+gENPYi X-Gm-Gg: ASbGncsAmQvD3xOS9LBiO00wwCEadlhFg9wZvRD+vqI4Y9SOlMfiwPfBmanfKg86AcT R2HsRMUvTZIKTgeS6vtAhtqJ4fTVXS3r+CKpt1RoitK5NkwPXpmPGVwVQB8MLWLqDuk3ROd+9R2 U02MG6ehgfJO1f79ZmE47clM8JjwMFw5pkORfSHEEEPuhinSe2Xc798nmvaHxbjnUA4GQb0xcsl A1UBPndo0mbLZd8sTZ0RTVl3nGf2cQ3UuTdKvP+Pkryggfs4jogc/0tJxyIRkDd8Q8JOxXZNMmZ MNAknYz7Ank/tpn0ELl1afvY0L5d8Iad2yG+Blv1PChowL9bbY9ozT6w1HBw3E7gv3COHfsN0Rg Q8Cj1fAUO X-Google-Smtp-Source: AGHT+IE88Q5JfmlngTe1hqb7h0Z4Ev0y8ZPHYGWmiO2SGeVYRNzK9prdYS2Y53BjIAWjjR+xc/HDlN1EGrw4 X-Received: by 2002:a17:903:178b:b0:269:b65a:cbb2 with SMTP id d9443c01a7336-294def46d00mr10938255ad.47.1761695492439; Tue, 28 Oct 2025 16:51:32 -0700 (PDT) Received: from postal.iol.unh.edu (postal.iol.unh.edu. [2606:4100:3880:1234::84]) by smtp-relay.gmail.com with ESMTPS id d9443c01a7336-29498d29903sm11203825ad.37.2025.10.28.16.51.32 (version=TLS1_2 cipher=ECDHE-ECDSA-AES128-GCM-SHA256 bits=128/128); Tue, 28 Oct 2025 16:51:32 -0700 (PDT) X-Relaying-Domain: iol.unh.edu Date: Tue, 28 Oct 2025 16:51:32 -0700 (PDT) Message-ID: <69015704.170a0220.2af05e.4650SMTPIN_ADDED_MISSING@mx.google.com> Received: from [172.21.0.2] (unknown [172.18.0.240]) by postal.iol.unh.edu (Postfix) with ESMTP id D67BD604D421; Tue, 28 Oct 2025 19:51:31 -0400 (EDT) Subject: |WARNING| pw158206 [PATCH] bitmap: change return value of rte_bitmap From: dpdklab@iol.unh.edu To: Test Report Cc: dpdk-test-reports@iol.unh.edu In-Reply-To: <20251028204432.880074-1-stephen@networkplumber.org> References: <20251028204432.880074-1-stephen@networkplumber.org> Content-Type: text/plain X-BeenThere: test-report@dpdk.org X-Mailman-Version: 2.1.29 Precedence: list List-Id: automatic DPDK test reports List-Unsubscribe: , List-Archive: List-Post: List-Help: List-Subscribe: , Errors-To: test-report-bounces@dpdk.org Test-Label: iol-compile-amd64-testing Test-Status: WARNING http://dpdk.org/patch/158206 _Testing issues_ Submitter: Stephen Hemminger Date: Tuesday, October 28 2025 20:44:32 DPDK git baseline: Repo:dpdk Branch: master CommitID:39b54f2dcf44ad1f91eabc7080cd5dea763607fd 158206 --> testing issues Upstream job id: Generic-DPDK-Compile-Meson#438804 Test environment and result as below: +-------------------------------+--------------------+-------------------+-------------------+------------------+-------------------------+----------------------+ | Environment | dpdk_meson_compile | dpdk_msvc_compile | dpdk_compile_spdk | dpdk_compile_ovs | dpdk_llvm_clang_compile | dpdk_mingw64_compile | +===============================+====================+===================+===================+==================+=========================+======================+ | Ubuntu 20.04 | PEND | SKIPPED | SKIPPED | SKIPPED | SKIPPED | SKIPPED | +-------------------------------+--------------------+-------------------+-------------------+------------------+-------------------------+----------------------+ | FreeBSD 14.2 | PASS | SKIPPED | SKIPPED | SKIPPED | SKIPPED | SKIPPED | +-------------------------------+--------------------+-------------------+-------------------+------------------+-------------------------+----------------------+ | CentOS Stream 9 | PEND | SKIPPED | PEND | SKIPPED | SKIPPED | SKIPPED | +-------------------------------+--------------------+-------------------+-------------------+------------------+-------------------------+----------------------+ | CentOS Stream 10 | PASS | SKIPPED | SKIPPED | SKIPPED | SKIPPED | SKIPPED | +-------------------------------+--------------------+-------------------+-------------------+------------------+-------------------------+----------------------+ | Debian GNU/Linux 12 | PASS | SKIPPED | WARN | SKIPPED | SKIPPED | SKIPPED | +-------------------------------+--------------------+-------------------+-------------------+------------------+-------------------------+----------------------+ | Fedora Linux 42 | PEND | SKIPPED | PEND | PEND | SKIPPED | SKIPPED | +-------------------------------+--------------------+-------------------+-------------------+------------------+-------------------------+----------------------+ | openSUSE Leap 15.6 | PEND | SKIPPED | SKIPPED | SKIPPED | SKIPPED | SKIPPED | +-------------------------------+--------------------+-------------------+-------------------+------------------+-------------------------+----------------------+ | Red Hat Enterprise Linux 8.10 | PEND | SKIPPED | SKIPPED | SKIPPED | SKIPPED | SKIPPED | +-------------------------------+--------------------+-------------------+-------------------+------------------+-------------------------+----------------------+ | Red Hat Enterprise Linux 9.5 | PEND | SKIPPED | SKIPPED | SKIPPED | SKIPPED | SKIPPED | +-------------------------------+--------------------+-------------------+-------------------+------------------+-------------------------+----------------------+ | Ubuntu 22.04 | PEND | SKIPPED | PEND | SKIPPED | SKIPPED | SKIPPED | +-------------------------------+--------------------+-------------------+-------------------+------------------+-------------------------+----------------------+ | Ubuntu 24.04 | PEND | SKIPPED | PEND | PEND | SKIPPED | SKIPPED | +-------------------------------+--------------------+-------------------+-------------------+------------------+-------------------------+----------------------+ | Alpine Linux 3.22.0 | PEND | SKIPPED | SKIPPED | SKIPPED | SKIPPED | SKIPPED | +-------------------------------+--------------------+-------------------+-------------------+------------------+-------------------------+----------------------+ | Windows Server 2022 | SKIPPED | PASS | SKIPPED | SKIPPED | PASS | PASS | +-------------------------------+--------------------+-------------------+-------------------+------------------+-------------------------+----------------------+ ==== 20 line log output for Debian GNU/Linux 12 (dpdk_compile_spdk): ==== --- Failed to get log output --- ==== End log output ==== Ubuntu 20.04 Kernel: 4.19 Compiler: gcc gcc (Ubuntu 9.4.0-1ubuntu1~20.04.2) 9.4.0 FreeBSD 14.2 Kernel: 14.2-RELEASE Compiler: clang 18.1.6 CentOS Stream 9 Kernel: 5.15 Compiler: gcc gcc (GCC) 11.5.0 20240719 (Red Hat 11.5.0-11) CentOS Stream 10 Kernel: 5.15 Compiler: gcc gcc (GCC) 14.2.1 20250110 (Red Hat 14.2.1-8) Debian GNU/Linux 12 Kernel: 5.15 Compiler: gcc gcc (Debian 12.2.0-14+deb12u1) 12.2.0 Fedora Linux 42 Kernel: 5.15 Compiler: clang gcc (GCC) 15.2.1 20250808 (Red Hat 15.2.1-1) openSUSE Leap 15.6 Kernel: 5.15 Compiler: gcc gcc (SUSE Linux) 7.5.0 Red Hat Enterprise Linux 8.10 Kernel: 5.15 Compiler: gcc gcc (GCC) 8.5.0 20210514 (Red Hat 8.5.0-22) Red Hat Enterprise Linux 9.5 Kernel: 5.15 Compiler: gcc gcc (GCC) 11.5.0 20240719 (Red Hat 11.5.0-2) Ubuntu 22.04 Kernel: 5.15 Compiler: gcc gcc (Ubuntu 11.4.0-1ubuntu1~22.04) 11.4.0 Ubuntu 24.04 Kernel: 5.15 Compiler: gcc gcc (Ubuntu 13.3.0-6ubuntu2~24.04) 13.3.0 Alpine Linux 3.22.0 Kernel: 5.15 Compiler: gcc gcc (Alpine 14.2.0) 14.2.0 Windows Server 2022 Kernel: 10.0.20348.2031 Compiler: clang 15.0.7, gcc 14.1.0 (MinGW), and MSVC VS 19.39.33521 To view detailed results, visit: https://lab.dpdk.org/results/dashboard/patchsets/34409/ UNH-IOL DPDK Community Lab To manage your email subscriptions, visit: https://lab.dpdk.org/results/dashboard/preferences/subscriptions/