From mboxrd@z Thu Jan 1 00:00:00 1970 Return-Path: Received: from mails.dpdk.org (mails.dpdk.org [217.70.189.124]) by inbox.dpdk.org (Postfix) with ESMTP id 84EF948A19 for ; Wed, 29 Oct 2025 00:59:40 +0100 (CET) Received: from mails.dpdk.org (localhost [127.0.0.1]) by mails.dpdk.org (Postfix) with ESMTP id 6235740262; Wed, 29 Oct 2025 00:59:40 +0100 (CET) Received: from mail-il1-f226.google.com (mail-il1-f226.google.com [209.85.166.226]) by mails.dpdk.org (Postfix) with ESMTP id 7C7BF40262 for ; Wed, 29 Oct 2025 00:59:39 +0100 (CET) Received: by mail-il1-f226.google.com with SMTP id e9e14a558f8ab-431d2ca8323so37274715ab.3 for ; Tue, 28 Oct 2025 16:59:39 -0700 (PDT) DKIM-Signature: v=1; a=rsa-sha256; c=relaxed/relaxed; d=iol.unh.edu; s=unh-iol; t=1761695979; x=1762300779; darn=dpdk.org; h=references:in-reply-to:cc:to:from:subject:message-id:date:from:to :cc:subject:date:message-id:reply-to; bh=I0ZEpSRovW3Pm6SOfkqxYpQcAadSCDJBdwepWq6azYM=; b=Sf8PZ4oBlafrkCPuUHYEXdjUCHMB5NAz/J+TQWc6vHaWQnvIT5ixEtBd0zeimpNBss Ws5R0g0yQxAUEt8HEBTtmQNxjr9MODaFaAZvUZpFkM2CroMFhEK4lcabMIvRkX+jHzLi Iel66JIeoLtfgsce+p71VABG85jhUPAwOVT3E= X-Google-DKIM-Signature: v=1; a=rsa-sha256; c=relaxed/relaxed; d=1e100.net; s=20230601; t=1761695979; x=1762300779; h=references:in-reply-to:cc:to:from:subject:message-id:date :x-gm-message-state:from:to:cc:subject:date:message-id:reply-to; bh=I0ZEpSRovW3Pm6SOfkqxYpQcAadSCDJBdwepWq6azYM=; b=oB997/G5J/e0yiyIk73FFfv+HlQ7+j7vEPmBTtdwrBHjERBbeFcKddnwvkiUPIADsv 32UCQQtQmIO/CCsgx5GF8L+/Idk7jNvcRRT4e4x0Wo+1ACjbloFYeqlASrrahD5DzMcs BY9ILQjJSzCc/Zp4NyTz6Gu+QdHrmcK7ZpRsl9oTXWkXzAxHNRey2JO38eTaj5oxsaO5 t/1BoMmJwQuQmvH07IxS6JCEEGdAzGBHe0Kp1ihMNNfF55JxG+nWnRb/s6FvyBSxTCI2 vXB+M6uKiDf7gY+aftXUiLP46QikgADYYs2sHmNYoD1qMVdDl3dAIStcd1F51enuZlpr pJOg== X-Gm-Message-State: AOJu0Yw3LuFexwxbFZSgvrVJQZis3ZV/dZ5uC8T92oKSeLWcnyMRc+V+ ygaBN2gRNtwoAN33pf7ee4DK0iGnSnuIiJOIUOJq0g0jAkjsIC/TW7xXr7LA0OZg9b/oROn1qLR WFy4lEAbEA8a4igMte6UVQ47I0AZB8CCogc0oxw9N1XwZ X-Gm-Gg: ASbGncvYByPT1/OTdLQ2OGUvniPR0P0yk0QSGSBzYwGLNZ7IuGZSGYvm28Up5K8P/M1 wMOYefjjyh9C1aPn4NNd25w3T4xrlnA6791Rkkh7JEhHS/JgjfLveNuPt5+PoVljjElde1lXT9M ysQ8RPnWOSGlU0HtYQqDWHTxNHYxgRzF0Jyze7VNZJkOjTTTfhiA1QXMvafO2JmCwiKEeL+rjLY Wfffmdipad/02BFHT8i2UvmcFjrxhZ3XwIyZjgXPx7lHVrxmEbc4gG8A8IRcFU3q0vgHscHIMBA mA/YhLgiwRdPuF9jeTXN3ctr6WkEfgctPmUat/3aGCXgJXquDEBkGEJoKwWU7PYGpk1SQx0IpiV a7VYqB7X2gVMMDxy4GhycTZyzpwq35IE= X-Google-Smtp-Source: AGHT+IEXvXSjwCurtQ5mLQHGxezBH1H67ZT7YWQq5grp78loDFF7Hupx9rwi7K1Rwi0ciSwlQDsAom+24jNA X-Received: by 2002:a05:6e02:3284:b0:430:a5fa:5e05 with SMTP id e9e14a558f8ab-432f8f86f93mr15421425ab.2.1761695978812; Tue, 28 Oct 2025 16:59:38 -0700 (PDT) Received: from postal.iol.unh.edu (postal.iol.unh.edu. [132.177.123.84]) by smtp-relay.gmail.com with ESMTPS id e9e14a558f8ab-431f688c957sm11804635ab.22.2025.10.28.16.59.38 (version=TLS1_2 cipher=ECDHE-ECDSA-AES128-GCM-SHA256 bits=128/128); Tue, 28 Oct 2025 16:59:38 -0700 (PDT) X-Relaying-Domain: iol.unh.edu Date: Tue, 28 Oct 2025 16:59:38 -0700 (PDT) Message-ID: <690158ea.050a0220.261cce.825eSMTPIN_ADDED_MISSING@mx.google.com> Received: from [172.21.0.3] (unknown [172.18.0.240]) by postal.iol.unh.edu (Postfix) with ESMTP id 5842B604D420; Tue, 28 Oct 2025 19:59:38 -0400 (EDT) Subject: |SUCCESS| pw158205-158204 [PATCH] [v1,3/3] app/test: fix issues with From: dpdklab@iol.unh.edu To: Test Report Cc: dpdk-test-reports@iol.unh.edu In-Reply-To: <20251028172324.3149379-3-jerinj@marvell.com> References: <20251028172324.3149379-3-jerinj@marvell.com> Content-Type: text/plain X-BeenThere: test-report@dpdk.org X-Mailman-Version: 2.1.29 Precedence: list List-Id: automatic DPDK test reports List-Unsubscribe: , List-Archive: List-Post: List-Help: List-Subscribe: , Errors-To: test-report-bounces@dpdk.org Test-Label: iol-unit-amd64-testing Test-Status: SUCCESS http://dpdk.org/patch/158204 _Testing PASS_ Submitter: Jerin Jacob Date: Tuesday, October 28 2025 17:23:23 DPDK git baseline: Repo:dpdk Branch: master CommitID:39b54f2dcf44ad1f91eabc7080cd5dea763607fd 158205-158204 --> testing pass Upstream job id: Generic-VM-Unit-Test-DPDK#32137 Test environment and result as below: +-------------------------------+----------------+ | Environment | dpdk_unit_test | +===============================+================+ | Fedora Linux 40 | PASS | +-------------------------------+----------------+ | CentOS Stream 10 | PASS | +-------------------------------+----------------+ | CentOS Stream 9 | PASS | +-------------------------------+----------------+ | Debian GNU/Linux 12 | PASS | +-------------------------------+----------------+ | Fedora Linux 42 | PASS | +-------------------------------+----------------+ | Fedora Linux 41 | PASS | +-------------------------------+----------------+ | Red Hat Enterprise Linux 8.10 | PASS | +-------------------------------+----------------+ | Ubuntu 20.04 | PASS | +-------------------------------+----------------+ | Red Hat Enterprise Linux 9.5 | PASS | +-------------------------------+----------------+ | Ubuntu 22.04 | PASS | +-------------------------------+----------------+ | Ubuntu 24.04 | PASS | +-------------------------------+----------------+ | Windows Server 2022 | PASS | +-------------------------------+----------------+ Fedora Linux 40 Kernel: 5.15 Compiler: gcc gcc (GCC) 14.2.1 20240912 (Red Hat 14.2.1-3) CentOS Stream 10 Kernel: 5.15 Compiler: gcc gcc (GCC) 14.2.1 20250110 (Red Hat 14.2.1-8) CentOS Stream 9 Kernel: 5.15 Compiler: gcc gcc (GCC) 11.5.0 20240719 (Red Hat 11.5.0-11) Debian GNU/Linux 12 Kernel: 5.15 Compiler: gcc gcc (Debian 12.2.0-14+deb12u1) 12.2.0 Fedora Linux 42 Kernel: 5.15 Compiler: gcc gcc (GCC) 15.2.1 20250808 (Red Hat 15.2.1-1) Fedora Linux 41 Kernel: 5.15 Compiler: gcc gcc (GCC) 14.3.1 20250523 (Red Hat 14.3.1-1) Red Hat Enterprise Linux 8.10 Kernel: 5.15 Compiler: gcc gcc (GCC) 8.5.0 20210514 (Red Hat 8.5.0-22) Ubuntu 20.04 Kernel: 5.15 Compiler: gcc gcc (Ubuntu 9.4.0-1ubuntu1~20.04.2) 9.4.0 Red Hat Enterprise Linux 9.5 Kernel: 5.15 Compiler: gcc gcc (GCC) 11.5.0 20240719 (Red Hat 11.5.0-2) Ubuntu 22.04 Kernel: 5.15 Compiler: gcc gcc (Ubuntu 11.4.0-1ubuntu1~22.04) 11.4.0 Ubuntu 24.04 Kernel: 5.15 Compiler: gcc gcc (Ubuntu 13.3.0-6ubuntu2~24.04) 13.3.0 Windows Server 2022 Kernel: 10.0.20348.2031 Compiler: clang 15.0.7, gcc 14.1.0 (MinGW), and MSVC VS 19.39.33521 To view detailed results, visit: https://lab.dpdk.org/results/dashboard/patchsets/34408/ UNH-IOL DPDK Community Lab To manage your email subscriptions, visit: https://lab.dpdk.org/results/dashboard/preferences/subscriptions/