From mboxrd@z Thu Jan 1 00:00:00 1970 Return-Path: Received: from mails.dpdk.org (mails.dpdk.org [217.70.189.124]) by inbox.dpdk.org (Postfix) with ESMTP id 8818A48A19 for ; Wed, 29 Oct 2025 01:00:25 +0100 (CET) Received: from mails.dpdk.org (localhost [127.0.0.1]) by mails.dpdk.org (Postfix) with ESMTP id 828B040262; Wed, 29 Oct 2025 01:00:25 +0100 (CET) Received: from mail-pf1-f225.google.com (mail-pf1-f225.google.com [209.85.210.225]) by mails.dpdk.org (Postfix) with ESMTP id AE55540262 for ; Wed, 29 Oct 2025 01:00:24 +0100 (CET) Received: by mail-pf1-f225.google.com with SMTP id d2e1a72fcca58-7a23208a0c2so5062195b3a.0 for ; Tue, 28 Oct 2025 17:00:24 -0700 (PDT) DKIM-Signature: v=1; a=rsa-sha256; c=relaxed/relaxed; d=iol.unh.edu; s=unh-iol; t=1761696024; x=1762300824; darn=dpdk.org; h=references:in-reply-to:cc:to:from:subject:message-id:date:from:to :cc:subject:date:message-id:reply-to; bh=XtHv3ubnR3CchzUUO9j2J35G1HMqNNP/3F7DbEk4Q/g=; b=KYAjT7cfqTJ40B07FfaHZ5Z3HOdImppCUsw3JPXQvD30KDKtMOpogskOTdjKdFds8M EwJCzN1i/pw8P/1I5dJCkrntuDdd6DaFzpnoD2HHt076ISX09/2zdtzehjejySHbWQ+Y iQqC3k+b51Og7mHhpyQ2t//V9/ZgaOJd9dFUE= X-Google-DKIM-Signature: v=1; a=rsa-sha256; c=relaxed/relaxed; d=1e100.net; s=20230601; t=1761696024; x=1762300824; h=references:in-reply-to:cc:to:from:subject:message-id:date :x-gm-message-state:from:to:cc:subject:date:message-id:reply-to; bh=XtHv3ubnR3CchzUUO9j2J35G1HMqNNP/3F7DbEk4Q/g=; b=eGICB7F6rBZMB1fEPKr6/GZlLpEMOy9gDOhwT3N3N90LZU+bcNWVjtyMHFseLwzF51 i/ppmXFmjun/WpY3Tw01k5b31WAjtFu3CBcXy9MNhW9xIjGcklnefG0k916DkKnyq8SS Q7sT3T9nWevDhDVjHMC2Wu8Sl41CeE5TzroI9eXKP0AE1cWu2zBZ11YSSsobeT2LBUVM Jkk9XOmWFJ8gTZPU6Qqrr26dzSmPVzh5SC38zE0emlXbW9HYlY6VAR8VuiSEDB1GPi9W F2tiR+cyRL4G14Lj8BMHzJ1Ii5FOBhZBjLvDXIXI57V522KuSbX6GOiVJ1yiZw5Pe3Ky L7Jw== X-Gm-Message-State: AOJu0Yy2yr+2ASRKSzIBClCA5S5vVE5s25sY3bwcWQ9ctgms9IFstWTa c+nkteajFz693D6Thf6COZcNEtDM+AC9+OtMTEImFAAGdcFkUwBXaoTkfOo2D2oEadj9unc/QAs niTuLswWDJRieq5ZgyF6j2IW0WfE+qKs2YgFMfmlKV1Ue+2rDhAr/FNvK4Yet X-Gm-Gg: ASbGncvxYVYsmjt0yL4NVrikA0kaEvWQq4tprof5TYQE3zczEXRatNepkEbsuRWHfCZ +5B4veJl4c6Xq4Oj9r+LMa5gaF2HHZ58LVgRFTcUK96yAmn5Fter1rXAfiZqOVQN/efEqtDXgjM z5pLQ8ymQc1E4hwxlVbO8OMoais54o6vz07CQujmXyJSUJXYaXIPYe3i3WBW7NSTjpAz/Flrh4Y 5/ho/2k3Mf45otVSPBI1sV5TZp0BzsdIKoKIc3hNspcFJCmiAnDt1RCFBHg9GjLZWwDuL0xEztS 37fJ4YtXoZ2Gn0BxdxHqSqAw9PJzs9K6mXUjxveOj66wYStBOSJF4fTtsLaMRf7mhHRR7YZuONd UHR51zy2b X-Google-Smtp-Source: AGHT+IGUt077Bn2Xbi+NSR6gN5vZYl8gr1mDatRzsePiGy3NrP/porh8/iJCRYW3K4dsny8ZnYPZ6CKCFECE X-Received: by 2002:a05:6a21:99a2:b0:343:6639:f1b2 with SMTP id adf61e73a8af0-34652941f7cmr1007908637.15.1761696023606; Tue, 28 Oct 2025 17:00:23 -0700 (PDT) Received: from postal.iol.unh.edu (postal.iol.unh.edu. [2606:4100:3880:1234::84]) by smtp-relay.gmail.com with ESMTPS id 41be03b00d2f7-b8087fac576sm447086a12.3.2025.10.28.17.00.23 (version=TLS1_2 cipher=ECDHE-ECDSA-AES128-GCM-SHA256 bits=128/128); Tue, 28 Oct 2025 17:00:23 -0700 (PDT) X-Relaying-Domain: iol.unh.edu Date: Tue, 28 Oct 2025 17:00:23 -0700 (PDT) Message-ID: <69015917.050a0220.1404a8.6449SMTPIN_ADDED_MISSING@mx.google.com> Received: from [172.21.0.3] (unknown [172.18.0.240]) by postal.iol.unh.edu (Postfix) with ESMTP id CBB5F604D420; Tue, 28 Oct 2025 20:00:22 -0400 (EDT) Subject: |WARNING| pw158205-158204 [PATCH] [v1,3/3] app/test: fix issues with From: dpdklab@iol.unh.edu To: Test Report Cc: dpdk-test-reports@iol.unh.edu In-Reply-To: <20251028172324.3149379-3-jerinj@marvell.com> References: <20251028172324.3149379-3-jerinj@marvell.com> Content-Type: text/plain X-BeenThere: test-report@dpdk.org X-Mailman-Version: 2.1.29 Precedence: list List-Id: automatic DPDK test reports List-Unsubscribe: , List-Archive: List-Post: List-Help: List-Subscribe: , Errors-To: test-report-bounces@dpdk.org Test-Label: iol-compile-amd64-testing Test-Status: WARNING http://dpdk.org/patch/158204 _Testing issues_ Submitter: Jerin Jacob Date: Tuesday, October 28 2025 17:23:23 DPDK git baseline: Repo:dpdk Branch: master CommitID:39b54f2dcf44ad1f91eabc7080cd5dea763607fd 158205-158204 --> testing issues Upstream job id: Generic-DPDK-Compile-Meson#438752 Test environment and result as below: +-------------------------------+--------------------+-------------------+-------------------+------------------+-------------------------+----------------------+ | Environment | dpdk_meson_compile | dpdk_compile_spdk | dpdk_msvc_compile | dpdk_compile_ovs | dpdk_llvm_clang_compile | dpdk_mingw64_compile | +===============================+====================+===================+===================+==================+=========================+======================+ | Ubuntu 20.04 | PASS | SKIPPED | SKIPPED | SKIPPED | SKIPPED | SKIPPED | +-------------------------------+--------------------+-------------------+-------------------+------------------+-------------------------+----------------------+ | FreeBSD 14.2 | PASS | SKIPPED | SKIPPED | SKIPPED | SKIPPED | SKIPPED | +-------------------------------+--------------------+-------------------+-------------------+------------------+-------------------------+----------------------+ | CentOS Stream 9 | PASS | WARN | SKIPPED | SKIPPED | SKIPPED | SKIPPED | +-------------------------------+--------------------+-------------------+-------------------+------------------+-------------------------+----------------------+ | CentOS Stream 10 | PASS | SKIPPED | SKIPPED | SKIPPED | SKIPPED | SKIPPED | +-------------------------------+--------------------+-------------------+-------------------+------------------+-------------------------+----------------------+ | Debian GNU/Linux 12 | PASS | WARN | SKIPPED | SKIPPED | SKIPPED | SKIPPED | +-------------------------------+--------------------+-------------------+-------------------+------------------+-------------------------+----------------------+ | Fedora Linux 42 | PASS | WARN | SKIPPED | PASS | SKIPPED | SKIPPED | +-------------------------------+--------------------+-------------------+-------------------+------------------+-------------------------+----------------------+ | openSUSE Leap 15.6 | PASS | SKIPPED | SKIPPED | SKIPPED | SKIPPED | SKIPPED | +-------------------------------+--------------------+-------------------+-------------------+------------------+-------------------------+----------------------+ | Red Hat Enterprise Linux 8.10 | PASS | SKIPPED | SKIPPED | SKIPPED | SKIPPED | SKIPPED | +-------------------------------+--------------------+-------------------+-------------------+------------------+-------------------------+----------------------+ | Red Hat Enterprise Linux 9.5 | PASS | SKIPPED | SKIPPED | SKIPPED | SKIPPED | SKIPPED | +-------------------------------+--------------------+-------------------+-------------------+------------------+-------------------------+----------------------+ | Ubuntu 22.04 | PASS | WARN | SKIPPED | SKIPPED | SKIPPED | SKIPPED | +-------------------------------+--------------------+-------------------+-------------------+------------------+-------------------------+----------------------+ | Ubuntu 24.04 | PASS | WARN | SKIPPED | PASS | SKIPPED | SKIPPED | +-------------------------------+--------------------+-------------------+-------------------+------------------+-------------------------+----------------------+ | Alpine Linux 3.22.0 | PASS | SKIPPED | SKIPPED | SKIPPED | SKIPPED | SKIPPED | +-------------------------------+--------------------+-------------------+-------------------+------------------+-------------------------+----------------------+ | Windows Server 2022 | SKIPPED | SKIPPED | PASS | SKIPPED | PASS | PASS | +-------------------------------+--------------------+-------------------+-------------------+------------------+-------------------------+----------------------+ ==== 20 line log output for Ubuntu 24.04 (dpdk_compile_spdk): ==== --- Failed to get log output --- ==== End log output ==== Ubuntu 20.04 Kernel: 4.19 Compiler: gcc gcc (Ubuntu 9.4.0-1ubuntu1~20.04.2) 9.4.0 FreeBSD 14.2 Kernel: 14.2-RELEASE Compiler: clang 18.1.6 CentOS Stream 9 Kernel: 5.15 Compiler: gcc gcc (GCC) 11.5.0 20240719 (Red Hat 11.5.0-11) CentOS Stream 10 Kernel: 5.15 Compiler: gcc gcc (GCC) 14.2.1 20250110 (Red Hat 14.2.1-8) Debian GNU/Linux 12 Kernel: 5.15 Compiler: gcc gcc (Debian 12.2.0-14+deb12u1) 12.2.0 Fedora Linux 42 Kernel: 5.15 Compiler: clang gcc (GCC) 15.2.1 20250808 (Red Hat 15.2.1-1) openSUSE Leap 15.6 Kernel: 5.15 Compiler: gcc gcc (SUSE Linux) 7.5.0 Red Hat Enterprise Linux 8.10 Kernel: 5.15 Compiler: gcc gcc (GCC) 8.5.0 20210514 (Red Hat 8.5.0-22) Red Hat Enterprise Linux 9.5 Kernel: 5.15 Compiler: gcc gcc (GCC) 11.5.0 20240719 (Red Hat 11.5.0-2) Ubuntu 22.04 Kernel: 5.15 Compiler: gcc gcc (Ubuntu 11.4.0-1ubuntu1~22.04) 11.4.0 Ubuntu 24.04 Kernel: 5.15 Compiler: gcc gcc (Ubuntu 13.3.0-6ubuntu2~24.04) 13.3.0 Alpine Linux 3.22.0 Kernel: 5.15 Compiler: gcc gcc (Alpine 14.2.0) 14.2.0 Windows Server 2022 Kernel: 10.0.20348.2031 Compiler: clang 15.0.7, gcc 14.1.0 (MinGW), and MSVC VS 19.39.33521 To view detailed results, visit: https://lab.dpdk.org/results/dashboard/patchsets/34408/ UNH-IOL DPDK Community Lab To manage your email subscriptions, visit: https://lab.dpdk.org/results/dashboard/preferences/subscriptions/