From mboxrd@z Thu Jan 1 00:00:00 1970 Return-Path: Received: from mails.dpdk.org (mails.dpdk.org [217.70.189.124]) by inbox.dpdk.org (Postfix) with ESMTP id F1DF548A1B for ; Wed, 29 Oct 2025 01:33:15 +0100 (CET) Received: from mails.dpdk.org (localhost [127.0.0.1]) by mails.dpdk.org (Postfix) with ESMTP id BD2E540262; Wed, 29 Oct 2025 01:33:15 +0100 (CET) Received: from mail-qv1-f99.google.com (mail-qv1-f99.google.com [209.85.219.99]) by mails.dpdk.org (Postfix) with ESMTP id C512840262 for ; Wed, 29 Oct 2025 01:33:13 +0100 (CET) Received: by mail-qv1-f99.google.com with SMTP id 6a1803df08f44-78ea15d3489so58126756d6.3 for ; Tue, 28 Oct 2025 17:33:13 -0700 (PDT) DKIM-Signature: v=1; a=rsa-sha256; c=relaxed/relaxed; d=iol.unh.edu; s=unh-iol; t=1761697993; x=1762302793; darn=dpdk.org; h=references:in-reply-to:cc:to:from:subject:message-id:date:from:to :cc:subject:date:message-id:reply-to; bh=q+ywczsQSSBfjvCOAF3ANOoaUP36l/4t9ztkFTOa8ko=; b=Tscy5GZ2cIknviHfTGLxJfRcRTQVPGdZnTLk5acDLR6GWegJOTynrMXpC+xTXPYfuv LLYD0gBOrRMeCMb0ylPGyqj6Sel4liXDlnE3nUSJM+NU64CRl/hpxdAgpbXzvN5fX+qV AKXFbiQsoVyVyLYDLW9f77jO08yJoJyJ4EsbA= X-Google-DKIM-Signature: v=1; a=rsa-sha256; c=relaxed/relaxed; d=1e100.net; s=20230601; t=1761697993; x=1762302793; h=references:in-reply-to:cc:to:from:subject:message-id:date :x-gm-message-state:from:to:cc:subject:date:message-id:reply-to; bh=q+ywczsQSSBfjvCOAF3ANOoaUP36l/4t9ztkFTOa8ko=; b=NfLS3yM37lEje7qn1OPx8P2lZn9mweVXWoQKWrw9ZsgjGJfwWhbFE1do+tI5IZD2cH Hu5BHrSMBYqkwd/z+CmvC8QqKDr1UK+eIPelWcYuolzZ66W23QeoRldB3tlHCkzju10d tULhc09MGS8iMT8HG224OQHf1nEv/K9xQ1+glL91cDGuqMvlfDa87biIeka0kcHssy6N BW8UQsbHmvx764LYPkFmYNMBtrtv8tcu4Pv01GKTOFau7uoc+v6HEa8j4f1L3rvjcjVc vh+pYRjdcGdl7Y2kl/2YRdWVjpW69ReLOZHDrK4Xo8aI+mgpK1w1/2Wkw1lufU86AcaB rHLA== X-Gm-Message-State: AOJu0Yy9CZYkY+XAgk63QBV2rako0AhQRhMVfeRQ1WC1PpOTYFRxDvBm hOGf5CFMgEVtFXd+lSJWT+Wrzg9lN232+FDDt9c8nKBwOmaC5WwIickBmGzOA2d+fIi9EXJGV+Y CSfJ8j7diORHzoHqHrKxLKCCuPxmK4D2n/26TfD5us9uRpuEKw/rEXEIWm/vi X-Gm-Gg: ASbGncuOH451xSeDToUJcFN8dmxuRB8ZQvI5bhF/4lweb4hTGGYSW3lvsHhZ01qpBdD yVviKXB9ndI+lc3x53aGpvBzPwduIBjphV3cUnmWhOrC9W5kKy3Op4dCDz6YlxxrQVrUfZkSY1i w+mvDX1O03FRXLxUVoiMk7PZv7Of7GTp9Jj7ZQ3PQjCg4w7IcDLzxvsy78v2uMT1LvkRcyM+1G5 fQYGjj40IBxGxYHNhe7w13Qi8DewIeSjR8PZcYRuXo24aqz3F1+ZKbV7e+yRuf0jJXBKrqemN4n l2remsOGX0dqQ4Di+JUVh0oAIQ6z4Molq49rb0Hnb8EyzOvPeoC2emaQucIBjhb3dllqYxuEgir SWT9Iemxi X-Google-Smtp-Source: AGHT+IG9+TyQkxq2mPrCBUsVRpvjLYIoMm6xAKmBUhs59WelON40nGrAVujHzG9wndHyTq3YNQabORVKwlSQ X-Received: by 2002:a05:6214:2023:b0:87c:2bb6:741 with SMTP id 6a1803df08f44-88009b34e02mr15865916d6.29.1761697993078; Tue, 28 Oct 2025 17:33:13 -0700 (PDT) Received: from postal.iol.unh.edu (postal.iol.unh.edu. [2606:4100:3880:1234::84]) by smtp-relay.gmail.com with ESMTPS id 6a1803df08f44-87fc48dbc14sm12363946d6.6.2025.10.28.17.33.13 (version=TLS1_2 cipher=ECDHE-ECDSA-AES128-GCM-SHA256 bits=128/128); Tue, 28 Oct 2025 17:33:13 -0700 (PDT) X-Relaying-Domain: iol.unh.edu Date: Tue, 28 Oct 2025 17:33:13 -0700 (PDT) Message-ID: <690160c9.050a0220.298b87.a9dbSMTPIN_ADDED_MISSING@mx.google.com> Received: from [172.21.0.2] (unknown [172.18.0.240]) by postal.iol.unh.edu (Postfix) with ESMTP id C89C86051830; Tue, 28 Oct 2025 20:33:12 -0400 (EDT) Subject: |WARNING| pw158206 [PATCH] bitmap: change return value of rte_bitmap From: dpdklab@iol.unh.edu To: Test Report Cc: dpdk-test-reports@iol.unh.edu In-Reply-To: <20251028204432.880074-1-stephen@networkplumber.org> References: <20251028204432.880074-1-stephen@networkplumber.org> Content-Type: text/plain X-BeenThere: test-report@dpdk.org X-Mailman-Version: 2.1.29 Precedence: list List-Id: automatic DPDK test reports List-Unsubscribe: , List-Archive: List-Post: List-Help: List-Subscribe: , Errors-To: test-report-bounces@dpdk.org Test-Label: iol-compile-amd64-testing Test-Status: WARNING http://dpdk.org/patch/158206 _Testing issues_ Submitter: Stephen Hemminger Date: Tuesday, October 28 2025 20:44:32 DPDK git baseline: Repo:dpdk Branch: master CommitID:39b54f2dcf44ad1f91eabc7080cd5dea763607fd 158206 --> testing issues Upstream job id: Generic-DPDK-Compile-Meson#438816 Test environment and result as below: +-------------------------------+--------------------+-------------------+-------------------+------------------+-------------------------+----------------------+ | Environment | dpdk_meson_compile | dpdk_msvc_compile | dpdk_compile_spdk | dpdk_compile_ovs | dpdk_llvm_clang_compile | dpdk_mingw64_compile | +===============================+====================+===================+===================+==================+=========================+======================+ | Ubuntu 20.04 | PASS | SKIPPED | SKIPPED | SKIPPED | SKIPPED | SKIPPED | +-------------------------------+--------------------+-------------------+-------------------+------------------+-------------------------+----------------------+ | FreeBSD 14.2 | PASS | SKIPPED | SKIPPED | SKIPPED | SKIPPED | SKIPPED | +-------------------------------+--------------------+-------------------+-------------------+------------------+-------------------------+----------------------+ | CentOS Stream 9 | PASS | SKIPPED | WARN | SKIPPED | SKIPPED | SKIPPED | +-------------------------------+--------------------+-------------------+-------------------+------------------+-------------------------+----------------------+ | CentOS Stream 10 | PASS | SKIPPED | SKIPPED | SKIPPED | SKIPPED | SKIPPED | +-------------------------------+--------------------+-------------------+-------------------+------------------+-------------------------+----------------------+ | Debian GNU/Linux 12 | PASS | SKIPPED | WARN | SKIPPED | SKIPPED | SKIPPED | +-------------------------------+--------------------+-------------------+-------------------+------------------+-------------------------+----------------------+ | Fedora Linux 42 | PASS | SKIPPED | WARN | PASS | SKIPPED | SKIPPED | +-------------------------------+--------------------+-------------------+-------------------+------------------+-------------------------+----------------------+ | openSUSE Leap 15.6 | PASS | SKIPPED | SKIPPED | SKIPPED | SKIPPED | SKIPPED | +-------------------------------+--------------------+-------------------+-------------------+------------------+-------------------------+----------------------+ | Red Hat Enterprise Linux 8.10 | PASS | SKIPPED | SKIPPED | SKIPPED | SKIPPED | SKIPPED | +-------------------------------+--------------------+-------------------+-------------------+------------------+-------------------------+----------------------+ | Red Hat Enterprise Linux 9.5 | PASS | SKIPPED | SKIPPED | SKIPPED | SKIPPED | SKIPPED | +-------------------------------+--------------------+-------------------+-------------------+------------------+-------------------------+----------------------+ | Ubuntu 22.04 | PASS | SKIPPED | WARN | SKIPPED | SKIPPED | SKIPPED | +-------------------------------+--------------------+-------------------+-------------------+------------------+-------------------------+----------------------+ | Ubuntu 24.04 | PASS | SKIPPED | WARN | PASS | SKIPPED | SKIPPED | +-------------------------------+--------------------+-------------------+-------------------+------------------+-------------------------+----------------------+ | Alpine Linux 3.22.0 | PASS | SKIPPED | SKIPPED | SKIPPED | SKIPPED | SKIPPED | +-------------------------------+--------------------+-------------------+-------------------+------------------+-------------------------+----------------------+ | Windows Server 2022 | SKIPPED | PASS | SKIPPED | SKIPPED | PASS | PASS | +-------------------------------+--------------------+-------------------+-------------------+------------------+-------------------------+----------------------+ ==== 20 line log output for Ubuntu 24.04 (dpdk_compile_spdk): ==== --- Failed to get log output --- ==== End log output ==== Ubuntu 20.04 Kernel: 4.19 Compiler: gcc gcc (Ubuntu 9.4.0-1ubuntu1~20.04.2) 9.4.0 FreeBSD 14.2 Kernel: 14.2-RELEASE Compiler: clang 18.1.6 CentOS Stream 9 Kernel: 5.15 Compiler: gcc gcc (GCC) 11.5.0 20240719 (Red Hat 11.5.0-11) CentOS Stream 10 Kernel: 5.15 Compiler: gcc gcc (GCC) 14.2.1 20250110 (Red Hat 14.2.1-8) Debian GNU/Linux 12 Kernel: 5.15 Compiler: gcc gcc (Debian 12.2.0-14+deb12u1) 12.2.0 Fedora Linux 42 Kernel: 5.15 Compiler: clang gcc (GCC) 15.2.1 20250808 (Red Hat 15.2.1-1) openSUSE Leap 15.6 Kernel: 5.15 Compiler: gcc gcc (SUSE Linux) 7.5.0 Red Hat Enterprise Linux 8.10 Kernel: 5.15 Compiler: gcc gcc (GCC) 8.5.0 20210514 (Red Hat 8.5.0-22) Red Hat Enterprise Linux 9.5 Kernel: 5.15 Compiler: gcc gcc (GCC) 11.5.0 20240719 (Red Hat 11.5.0-2) Ubuntu 22.04 Kernel: 5.15 Compiler: gcc gcc (Ubuntu 11.4.0-1ubuntu1~22.04) 11.4.0 Ubuntu 24.04 Kernel: 5.15 Compiler: gcc gcc (Ubuntu 13.3.0-6ubuntu2~24.04) 13.3.0 Alpine Linux 3.22.0 Kernel: 5.15 Compiler: gcc gcc (Alpine 14.2.0) 14.2.0 Windows Server 2022 Kernel: 10.0.20348.2031 Compiler: clang 15.0.7, gcc 14.1.0 (MinGW), and MSVC VS 19.39.33521 To view detailed results, visit: https://lab.dpdk.org/results/dashboard/patchsets/34409/ UNH-IOL DPDK Community Lab To manage your email subscriptions, visit: https://lab.dpdk.org/results/dashboard/preferences/subscriptions/