From mboxrd@z Thu Jan 1 00:00:00 1970 Return-Path: Received: from mails.dpdk.org (mails.dpdk.org [217.70.189.124]) by inbox.dpdk.org (Postfix) with ESMTP id 60E5A48A1C for ; Wed, 29 Oct 2025 02:08:06 +0100 (CET) Received: from mails.dpdk.org (localhost [127.0.0.1]) by mails.dpdk.org (Postfix) with ESMTP id 3B50440262; Wed, 29 Oct 2025 02:08:06 +0100 (CET) Received: from mail-yx1-f100.google.com (mail-yx1-f100.google.com [74.125.224.100]) by mails.dpdk.org (Postfix) with ESMTP id 7AE9540262 for ; Wed, 29 Oct 2025 02:08:05 +0100 (CET) Received: by mail-yx1-f100.google.com with SMTP id 956f58d0204a3-63f533fbfd0so3083437d50.3 for ; Tue, 28 Oct 2025 18:08:05 -0700 (PDT) DKIM-Signature: v=1; a=rsa-sha256; c=relaxed/relaxed; d=iol.unh.edu; s=unh-iol; t=1761700084; x=1762304884; darn=dpdk.org; h=references:in-reply-to:cc:to:from:subject:message-id:date:from:to :cc:subject:date:message-id:reply-to; bh=GG4xe2HFC5YEauBqlMbnu5sVgiuq2gzJm5+rZFPkRZ8=; b=W2DV7Mb7srSugmGrEmCFwHONutUwXYfU5hp/UasMTykp/W/EP5r45SJ3bdHy+8B2ZP l3TwHiJDnMCkcvkm3lGKbsw2IMuAvcsOZHIIuStF30M+XbS2VcPDACkiAU3RW/TaddES lhT0AgOI8dtozKE7sLA4fvNMlGMArydqlVkAc= X-Google-DKIM-Signature: v=1; a=rsa-sha256; c=relaxed/relaxed; d=1e100.net; s=20230601; t=1761700084; x=1762304884; h=references:in-reply-to:cc:to:from:subject:message-id:date :x-gm-message-state:from:to:cc:subject:date:message-id:reply-to; bh=GG4xe2HFC5YEauBqlMbnu5sVgiuq2gzJm5+rZFPkRZ8=; b=OU3RTScVMsQJ3moeF2cHipnDqmQIj5OopEn2o+o7f6/jH3NvYWEsF38WaZcGj10XYG lT6vKMdur/b1xeTGPVx55uzSnayNLC3/V6MmFkwkZ+Z7pxQn3YVZSBSq2u3XJ1Sszye2 D0vk1tG8XZIfaaLkPtjg0oW16QY4PGQKJ/4hQ2js4FN23a/rDalFfmMSMgDHKxZfJYq/ GvGr5CsQE/BDiOkjzsa4orf1KI1MWKdkMZqV5JSxXSLa4Yz+6QkdTKpxsNAMw9dm90ZK qum6N8wv5g2nrn6tiHhZBkMMDlsaDrvEG5NOTgUWNbbWQ6yr4YQq/BlaM0kHF1HlRGg5 8pZA== X-Gm-Message-State: AOJu0YxMW8OXKOS8ZxsvSaiWbpWzzFueJyWco/oHpXXGpiL5uN870Pmo wq4ope4xmgkJ+EbKJ5PtRbc/HnNtGiN3eeIQAb64Sah79spSOqCdIL2EO0l4FtwEZDiR3L/8eyc Q8jy2LFAuGz1XO9YaLxlnnOE5wWLkXvzt4/4mrz9K7BkB X-Gm-Gg: ASbGncuj9hyRYH9sFriFF7O9kaKbTQ2YACCP7kX0IhzJXJXPHqwseCaixGVC8gMtPJv ibLwqWJoLcBfk3YauQpcTJ1Brxetvdzg9T6IGN5UGHR9bxq5HsjA5lDM+w0hkGR1JqiY0oDYcn+ 1g4TgCWJRAvV22E8INcbAIWGy94Gk5BBRqcrt4eqt63bUO3VT/q65BWfK50U0xf6VbAVB6hCDmv n70z0GavlL7Cy2am0eouKG3R67Fq8Xp0FZSPx4tXFZnHZQOovFX9IOLW9eSVJOHkndkdOVbXjdW cUNCFQifddNzKtCpsF15+WlXhxMmI74JYJclGKl0yYW9c4FRHlfYxYnLyNDobMYxRi4V3HsTKNy iVMjr7DUl/DfGTglJBv3rpoJD6imlmSs= X-Google-Smtp-Source: AGHT+IGlxaLTEI8I/LFX2RGqzzEBW/UWZ9kY8Hk1Uy4ivKrukhZNNlowknAq7KqmFvvvogXwULYQL+ofGBCl X-Received: by 2002:a53:c986:0:b0:63b:8ed2:f996 with SMTP id 956f58d0204a3-63f76db12cbmr1087252d50.33.1761700084749; Tue, 28 Oct 2025 18:08:04 -0700 (PDT) Received: from postal.iol.unh.edu (postal.iol.unh.edu. [132.177.123.84]) by smtp-relay.gmail.com with ESMTPS id 956f58d0204a3-63f4c46eda2sm986019d50.12.2025.10.28.18.08.04 (version=TLS1_2 cipher=ECDHE-ECDSA-AES128-GCM-SHA256 bits=128/128); Tue, 28 Oct 2025 18:08:04 -0700 (PDT) X-Relaying-Domain: iol.unh.edu Date: Tue, 28 Oct 2025 18:08:04 -0700 (PDT) Message-ID: <690168f4.530a0220.1844fe.ef4eSMTPIN_ADDED_MISSING@mx.google.com> Received: from [172.21.0.2] (unknown [172.18.0.240]) by postal.iol.unh.edu (Postfix) with ESMTP id 6E0D460003F4; Tue, 28 Oct 2025 21:08:04 -0400 (EDT) Subject: |SUCCESS| pw158206 [PATCH] bitmap: change return value of rte_bitmap From: dpdklab@iol.unh.edu To: Test Report Cc: dpdk-test-reports@iol.unh.edu In-Reply-To: <20251028204432.880074-1-stephen@networkplumber.org> References: <20251028204432.880074-1-stephen@networkplumber.org> Content-Type: text/plain X-BeenThere: test-report@dpdk.org X-Mailman-Version: 2.1.29 Precedence: list List-Id: automatic DPDK test reports List-Unsubscribe: , List-Archive: List-Post: List-Help: List-Subscribe: , Errors-To: test-report-bounces@dpdk.org Test-Label: iol-unit-amd64-testing Test-Status: SUCCESS http://dpdk.org/patch/158206 _Testing PASS_ Submitter: Stephen Hemminger Date: Tuesday, October 28 2025 20:44:32 DPDK git baseline: Repo:dpdk Branch: master CommitID:39b54f2dcf44ad1f91eabc7080cd5dea763607fd 158206 --> testing pass Upstream job id: Generic-Unit-Test-DPDK#386432 Test environment and result as below: +-------------------------------+----------------+ | Environment | dpdk_unit_test | +===============================+================+ | CentOS Stream 9 | PASS | +-------------------------------+----------------+ | Debian GNU/Linux 12 | PASS | +-------------------------------+----------------+ | CentOS Stream 10 | PASS | +-------------------------------+----------------+ | Fedora Linux 40 | PASS | +-------------------------------+----------------+ | Fedora Linux 41 | PASS | +-------------------------------+----------------+ | Fedora Linux 42 | PASS | +-------------------------------+----------------+ | Red Hat Enterprise Linux 8.10 | PASS | +-------------------------------+----------------+ | Ubuntu 22.04 | PASS | +-------------------------------+----------------+ | Red Hat Enterprise Linux 9.5 | PASS | +-------------------------------+----------------+ | Ubuntu 24.04 | PASS | +-------------------------------+----------------+ | Ubuntu 20.04 | PASS | +-------------------------------+----------------+ | Windows Server 2022 | PASS | +-------------------------------+----------------+ CentOS Stream 9 Kernel: 5.15 Compiler: gcc gcc (GCC) 11.5.0 20240719 (Red Hat 11.5.0-11) Debian GNU/Linux 12 Kernel: 5.15 Compiler: gcc gcc (Debian 12.2.0-14+deb12u1) 12.2.0 CentOS Stream 10 Kernel: 5.15 Compiler: gcc gcc (GCC) 14.2.1 20250110 (Red Hat 14.2.1-8) Fedora Linux 40 Kernel: 5.15 Compiler: gcc gcc (GCC) 14.2.1 20240912 (Red Hat 14.2.1-3) Fedora Linux 41 Kernel: 5.15 Compiler: gcc gcc (GCC) 14.3.1 20250523 (Red Hat 14.3.1-1) Fedora Linux 42 Kernel: 5.15 Compiler: gcc gcc (GCC) 15.2.1 20250808 (Red Hat 15.2.1-1) Red Hat Enterprise Linux 8.10 Kernel: 5.15 Compiler: gcc gcc (GCC) 8.5.0 20210514 (Red Hat 8.5.0-22) Ubuntu 22.04 Kernel: 5.15 Compiler: gcc gcc (Ubuntu 11.4.0-1ubuntu1~22.04) 11.4.0 Red Hat Enterprise Linux 9.5 Kernel: 5.15 Compiler: gcc gcc (GCC) 11.5.0 20240719 (Red Hat 11.5.0-2) Ubuntu 24.04 Kernel: 5.15 Compiler: gcc gcc (Ubuntu 13.3.0-6ubuntu2~24.04) 13.3.0 Ubuntu 20.04 Kernel: 5.15 Compiler: gcc gcc (Ubuntu 9.4.0-1ubuntu1~20.04.2) 9.4.0 Windows Server 2022 Kernel: 10.0.20348.2031 Compiler: clang 15.0.7, gcc 14.1.0 (MinGW), and MSVC VS 19.39.33521 To view detailed results, visit: https://lab.dpdk.org/results/dashboard/patchsets/34409/ UNH-IOL DPDK Community Lab To manage your email subscriptions, visit: https://lab.dpdk.org/results/dashboard/preferences/subscriptions/