From mboxrd@z Thu Jan 1 00:00:00 1970 Return-Path: Received: from mails.dpdk.org (mails.dpdk.org [217.70.189.124]) by inbox.dpdk.org (Postfix) with ESMTP id AB9D648A20 for ; Wed, 29 Oct 2025 03:06:39 +0100 (CET) Received: from mails.dpdk.org (localhost [127.0.0.1]) by mails.dpdk.org (Postfix) with ESMTP id A58F340262; Wed, 29 Oct 2025 03:06:39 +0100 (CET) Received: from mail-il1-f228.google.com (mail-il1-f228.google.com [209.85.166.228]) by mails.dpdk.org (Postfix) with ESMTP id 369DA40262 for ; Wed, 29 Oct 2025 03:06:38 +0100 (CET) Received: by mail-il1-f228.google.com with SMTP id e9e14a558f8ab-430abca3354so62758355ab.2 for ; Tue, 28 Oct 2025 19:06:38 -0700 (PDT) DKIM-Signature: v=1; a=rsa-sha256; c=relaxed/relaxed; d=iol.unh.edu; s=unh-iol; t=1761703597; x=1762308397; darn=dpdk.org; h=references:in-reply-to:cc:to:from:subject:message-id:date:from:to :cc:subject:date:message-id:reply-to; bh=H8iseeyOGSnDcQOr3+2WNIoMQurUb3w/Ze9mvyuJDZU=; b=Nn1AdJq6jIrIo+KauexlPfvaUiiw2shmY9XWvWorJS/iEFfeirbpeH6iD2OXC+7/0L t0VvqGbtF/i90mcD4+3Rw3ZRG8G6rSLJkdTD4jAj8G6LMJNbzzgCQlq/cpV7k4Yj9XRK e5MkqaJXwn+0jAz3HN1JdcDm83yJDRGMMUvSc= X-Google-DKIM-Signature: v=1; a=rsa-sha256; c=relaxed/relaxed; d=1e100.net; s=20230601; t=1761703597; x=1762308397; h=references:in-reply-to:cc:to:from:subject:message-id:date :x-gm-message-state:from:to:cc:subject:date:message-id:reply-to; bh=H8iseeyOGSnDcQOr3+2WNIoMQurUb3w/Ze9mvyuJDZU=; b=DHjE957/7SbU2/BjavgEhVgjrS84si6au9LB0rCrpSgY8ZVlbW4Rt86bB7+kbgYB/G SIPKzVxw42a3ik8u/qTtg9QLOIEKkydOzxdd4lFcxmHws3aRClh6/oae4GmP4BmIryCO 1UFad4+rNMHnY0O+jtH4dfIDvfPe05b1fIkuJqseeXpBdAJ08rgFt/KOlnLDRcm3RXih qCjMoc60ebhkZ/LDJe2N83q6t5L/Rx5kqg4nmnlyFJS8MzyTFcsz/QZ7vfk+U3DwTjLf k/xsCyssW4UOYK5vNOoCEUlJwgd5UOkzOqbu7hJjvQH6gXHoK8AgpFtupUCqZNJVY8cA A2nQ== X-Gm-Message-State: AOJu0Yy89THwQLJic+BQKBp3IrJKR1J25c5vRLgZqAYpelOkcus5uxGi +0QA413FO++YEge+WLsqgcT7hY1UYUymWbjMoIiMysbfiyrR/ETT4xx//048eZusyrH9Gswh3gk diJWfSAQLuUGgSBIQ5QUjpZHkr0RYOyJuDowcDvHm0I5ek+nK6M4WFbFfQ992 X-Gm-Gg: ASbGncvC5jUVt4B0a2mbGGdbTofJCnjBhyjNsvbLW0sSX8uFXvW16e3/oI8i7H0Mdcy ftHV4JsFJM2UPlBBa5LjjKou3n//a1Z2NjWWKE0QfEyraYKQiErT2vk8Wwep9+0mCS1ivufyeoN rpt1WVjH9Dl2HuwJg2bJXRhvsQVXFpunbqKG0JUmZObOOCI1X5Zf0v/bTwf91r+CwlW0FjFy000 yIt3IWbw5la3VT42pYWXU1NHlg2vutZiVRefu1OmDb9AtO2pD8/jbzqY8m/6zD16uKI0wVhRXwt pl+2eL+E6DYl86fwuRc589i9tTM718q7xRzOFiljkIjCNuJGN4XNPJRLfmsNzShwNidu2cZN038 4YYEzaSek X-Google-Smtp-Source: AGHT+IFAWgLzJLkZX7i9CYAzxeykn8sIS+HHwgY5jMrzQociSuFxmUGq5dRr6esYFtfNVl3G3qSgWbchrtla X-Received: by 2002:a05:6e02:1805:b0:425:8c47:13fb with SMTP id e9e14a558f8ab-432f9064b2amr20123415ab.17.1761703597537; Tue, 28 Oct 2025 19:06:37 -0700 (PDT) Received: from postal.iol.unh.edu (postal.iol.unh.edu. [2606:4100:3880:1234::84]) by smtp-relay.gmail.com with ESMTPS id e9e14a558f8ab-431f67ea775sm12230745ab.2.2025.10.28.19.06.37 (version=TLS1_2 cipher=ECDHE-ECDSA-AES128-GCM-SHA256 bits=128/128); Tue, 28 Oct 2025 19:06:37 -0700 (PDT) X-Relaying-Domain: iol.unh.edu Date: Tue, 28 Oct 2025 19:06:37 -0700 (PDT) Message-ID: <690176ad.050a0220.30d4aa.9deaSMTPIN_ADDED_MISSING@mx.google.com> Received: from [172.21.0.2] (unknown [172.18.0.240]) by postal.iol.unh.edu (Postfix) with ESMTP id 1F2216051830; Tue, 28 Oct 2025 22:06:37 -0400 (EDT) Subject: |SUCCESS| pw158193 [PATCH] trace: fix build with clang 21 From: dpdklab@iol.unh.edu To: Test Report Cc: dpdk-test-reports@iol.unh.edu In-Reply-To: <20251028143952.4160487-1-david.marchand@redhat.com> References: <20251028143952.4160487-1-david.marchand@redhat.com> Content-Type: text/plain X-BeenThere: test-report@dpdk.org X-Mailman-Version: 2.1.29 Precedence: list List-Id: automatic DPDK test reports List-Unsubscribe: , List-Archive: List-Post: List-Help: List-Subscribe: , Errors-To: test-report-bounces@dpdk.org Test-Label: iol-compile-arm64-testing Test-Status: SUCCESS http://dpdk.org/patch/158193 _Testing PASS_ Submitter: David Marchand Date: Tuesday, October 28 2025 14:39:52 DPDK git baseline: Repo:dpdk Branch: master CommitID:39b54f2dcf44ad1f91eabc7080cd5dea763607fd 158193 --> testing pass Upstream job id: Generic-DPDK-Compile-Meson#438666 Test environment and result as below: +------------------------------+--------------------+ | Environment | dpdk_meson_compile | +==============================+====================+ | Red Hat Enterprise Linux 9.5 | PASS | +------------------------------+--------------------+ | Ubuntu 20.04 | PASS | +------------------------------+--------------------+ | Debian GNU/Linux 12 | PASS | +------------------------------+--------------------+ | Fedora Linux 42 | PASS | +------------------------------+--------------------+ | Ubuntu 22.04 | PASS | +------------------------------+--------------------+ | Ubuntu 24.04 | PASS | +------------------------------+--------------------+ | CentOS Stream 9 | PASS | +------------------------------+--------------------+ | CentOS Stream 10 | PASS | +------------------------------+--------------------+ Red Hat Enterprise Linux 9.5 Kernel: 5.4 Compiler: gcc gcc (GCC) 11.5.0 20240719 (Red Hat 11.5.0-2) Ubuntu 20.04 Kernel: 5.15 Compiler: aarch64-linux-gnu-gcc gcc (Ubuntu 9.4.0-1ubuntu1~20.04.2) 9.4.0 Debian GNU/Linux 12 Kernel: 5.4 Compiler: gcc gcc (Debian 12.2.0-14+deb12u1) 12.2.0 Fedora Linux 42 Kernel: 5.4 Compiler: gcc gcc (GCC) 15.2.1 20250808 (Red Hat 15.2.1-1) Ubuntu 22.04 Kernel: 5.4 Compiler: gcc gcc (Ubuntu 11.4.0-1ubuntu1~22.04) 11.4.0 Ubuntu 24.04 Kernel: 5.4 Compiler: gcc gcc (Ubuntu 13.3.0-6ubuntu2~24.04) 13.3.0 CentOS Stream 9 Kernel: 5.4 Compiler: gcc gcc (GCC) 11.5.0 20240719 (Red Hat 11.5.0-11) CentOS Stream 10 Kernel: 5.4 Compiler: gcc gcc (GCC) 14.2.1 20250110 (Red Hat 14.2.1-8) To view detailed results, visit: https://lab.dpdk.org/results/dashboard/patchsets/34405/ UNH-IOL DPDK Community Lab To manage your email subscriptions, visit: https://lab.dpdk.org/results/dashboard/preferences/subscriptions/