From mboxrd@z Thu Jan 1 00:00:00 1970 Return-Path: Received: from mails.dpdk.org (mails.dpdk.org [217.70.189.124]) by inbox.dpdk.org (Postfix) with ESMTP id B8A6548A20 for ; Wed, 29 Oct 2025 03:06:46 +0100 (CET) Received: from mails.dpdk.org (localhost [127.0.0.1]) by mails.dpdk.org (Postfix) with ESMTP id B0A4C40262; Wed, 29 Oct 2025 03:06:46 +0100 (CET) Received: from mail-oa1-f99.google.com (mail-oa1-f99.google.com [209.85.160.99]) by mails.dpdk.org (Postfix) with ESMTP id D4FCA40262 for ; Wed, 29 Oct 2025 03:06:44 +0100 (CET) Received: by mail-oa1-f99.google.com with SMTP id 586e51a60fabf-30cce892b7dso3577557fac.1 for ; Tue, 28 Oct 2025 19:06:44 -0700 (PDT) DKIM-Signature: v=1; a=rsa-sha256; c=relaxed/relaxed; d=iol.unh.edu; s=unh-iol; t=1761703604; x=1762308404; darn=dpdk.org; h=references:in-reply-to:cc:to:from:subject:message-id:date:from:to :cc:subject:date:message-id:reply-to; bh=RLE9CLparkctwAUCGDrWrdbZ1OZQvrBo/5pRvdR/bLk=; b=L1JhtY7tRpKXnnfdH+nKWm6FJwphJ/eiYhmOEkE1jdQXUWrSD0iH+7+uqT47h3TtVT N8UdlHczCiTuytS6ukpeKo/omIBm5dWn8s1xCbjdBYYbdyiQXr0v+c7pxv5vH4M3aO2o epnAgoSLq91SxQHNqRCTz8rod7oaPtZe8cxJY= X-Google-DKIM-Signature: v=1; a=rsa-sha256; c=relaxed/relaxed; d=1e100.net; s=20230601; t=1761703604; x=1762308404; h=references:in-reply-to:cc:to:from:subject:message-id:date :x-gm-message-state:from:to:cc:subject:date:message-id:reply-to; bh=RLE9CLparkctwAUCGDrWrdbZ1OZQvrBo/5pRvdR/bLk=; b=oDHs9aEt74LbwycCnBzew0XcDaBxfldMnv/YrqB+R9oKCsLGku2KQOh6rlFcdw1T0P LgH7BOX6rKmWoYjHJsLQQ9PxqkrbygPeEKRXzBZGmyb/HA8NFapxlmWkGYzW0Fx8awGe hGTMba+MY/TJj6io78leHWVKUATHYe0rV0tiK9OXUEFhhE1qHI1i0LDwHVw6QyNd6CPT y1CSVmtPqJjYomA0081eAnWP4ZvgrhAb3FF4Xrdu93yUorLP+pHfcAw5/C7rQ2q5LQd3 urFOLxQccmDC4YybuomsPAZEmTkPEof6wMinW0X+pu0IK+DgVUAGp3+BpXYjUOmKjvyx 6KCg== X-Gm-Message-State: AOJu0YyQBjbffAva6X8aPriyq665qhpbVVV7XETnXJgpuyM3NZhQLPO4 oAZUoY8iCKLm9QHdeR9tljHvNgW2AYb+M0EahAYaf5GvNM0HIz7ST6VKmjsYgI09tG1bJbnt24n Ajk+k+jLjwg/TVhLwL4mB3n9oZcIcrXE1AOKAH1w+5SbDyNg9RWRRHZH5eufV X-Gm-Gg: ASbGncsNMCf14PRtfmOMYYM5fFl7SpxV8ramsDNHkMPPPAnHi4fpg/l+2+0xHsdVdnM XNupzOuH5Luf2rAe9n/NMZp1Q/SNHPh8cznQjDbEfY9OzG0V1cRI/xUVuUQSmcLtfifB9iYGX6H K/ijTraYh385FVMKtS/KJTK5bq7OV9Nubf+Mb1/7VI8nwzGmfyT7jOqTBxh0My9Qll2qIRcVT9X IFWDyWv8CeL/p+XG6r/O2h7RXPi1qRxSdsa8c48F7azuLZIyMA6+ZiMlkRyJiqUerLoAcEEZSrN WxU6LbTElTB0pbwabXI4xAS0xeHym1ffpWeJsQ6Z1z4P2uwiy7KrumQQxzmdAYa9Du1cBK+usSW sma4N2WS4 X-Google-Smtp-Source: AGHT+IGlLcdpq8n7y+CDZD3SheidlTkIlMk0wwfqvNPlqqlbfbElpQZHozMGVWIqJjs+nmLIacjOBqOdQiLj X-Received: by 2002:a05:6870:1591:b0:37d:71cc:8823 with SMTP id 586e51a60fabf-3d747b388admr866111fac.34.1761703604021; Tue, 28 Oct 2025 19:06:44 -0700 (PDT) Received: from postal.iol.unh.edu (postal.iol.unh.edu. [2606:4100:3880:1234::84]) by smtp-relay.gmail.com with ESMTPS id 006d021491bc7-654ef2e0f7fsm336765eaf.9.2025.10.28.19.06.43 (version=TLS1_2 cipher=ECDHE-ECDSA-AES128-GCM-SHA256 bits=128/128); Tue, 28 Oct 2025 19:06:44 -0700 (PDT) X-Relaying-Domain: iol.unh.edu Date: Tue, 28 Oct 2025 19:06:44 -0700 (PDT) Message-ID: <690176b4.050a0220.1dac59.fd9bSMTPIN_ADDED_MISSING@mx.google.com> Received: from [172.21.0.2] (unknown [172.18.0.240]) by postal.iol.unh.edu (Postfix) with ESMTP id 2BADE6051830; Tue, 28 Oct 2025 22:06:43 -0400 (EDT) Subject: |SUCCESS| pw158203 [PATCH] [v3] fib6: implement RCU rule reclamation From: dpdklab@iol.unh.edu To: Test Report Cc: dpdk-test-reports@iol.unh.edu In-Reply-To: <20251028173703.548656-3-rjarry@redhat.com> References: <20251028173703.548656-3-rjarry@redhat.com> Content-Type: text/plain X-BeenThere: test-report@dpdk.org X-Mailman-Version: 2.1.29 Precedence: list List-Id: automatic DPDK test reports List-Unsubscribe: , List-Archive: List-Post: List-Help: List-Subscribe: , Errors-To: test-report-bounces@dpdk.org Test-Label: iol-compile-arm64-testing Test-Status: SUCCESS http://dpdk.org/patch/158203 _Testing PASS_ Submitter: Robin Jarry Date: Tuesday, October 28 2025 17:37:05 DPDK git baseline: Repo:dpdk Branch: master CommitID:39b54f2dcf44ad1f91eabc7080cd5dea763607fd 158203 --> testing pass Upstream job id: Generic-DPDK-Compile-Meson#438714 Test environment and result as below: +------------------------------+--------------------+ | Environment | dpdk_meson_compile | +==============================+====================+ | Red Hat Enterprise Linux 9.5 | PASS | +------------------------------+--------------------+ | Ubuntu 20.04 | PASS | +------------------------------+--------------------+ | Debian GNU/Linux 12 | PASS | +------------------------------+--------------------+ | Fedora Linux 42 | PASS | +------------------------------+--------------------+ | Ubuntu 22.04 | PASS | +------------------------------+--------------------+ | Ubuntu 24.04 | PASS | +------------------------------+--------------------+ | CentOS Stream 9 | PASS | +------------------------------+--------------------+ | CentOS Stream 10 | PASS | +------------------------------+--------------------+ Red Hat Enterprise Linux 9.5 Kernel: 5.4 Compiler: gcc gcc (GCC) 11.5.0 20240719 (Red Hat 11.5.0-2) Ubuntu 20.04 Kernel: 5.15 Compiler: aarch64-linux-gnu-gcc gcc (Ubuntu 9.4.0-1ubuntu1~20.04.2) 9.4.0 Debian GNU/Linux 12 Kernel: 5.4 Compiler: gcc gcc (Debian 12.2.0-14+deb12u1) 12.2.0 Fedora Linux 42 Kernel: 5.4 Compiler: gcc gcc (GCC) 15.2.1 20250808 (Red Hat 15.2.1-1) Ubuntu 22.04 Kernel: 5.4 Compiler: gcc gcc (Ubuntu 11.4.0-1ubuntu1~22.04) 11.4.0 Ubuntu 24.04 Kernel: 5.4 Compiler: gcc gcc (Ubuntu 13.3.0-6ubuntu2~24.04) 13.3.0 CentOS Stream 9 Kernel: 5.4 Compiler: gcc gcc (GCC) 11.5.0 20240719 (Red Hat 11.5.0-11) CentOS Stream 10 Kernel: 5.4 Compiler: gcc gcc (GCC) 14.2.1 20250110 (Red Hat 14.2.1-8) To view detailed results, visit: https://lab.dpdk.org/results/dashboard/patchsets/34407/ UNH-IOL DPDK Community Lab To manage your email subscriptions, visit: https://lab.dpdk.org/results/dashboard/preferences/subscriptions/