From mboxrd@z Thu Jan 1 00:00:00 1970 Return-Path: Received: from mails.dpdk.org (mails.dpdk.org [217.70.189.124]) by inbox.dpdk.org (Postfix) with ESMTP id CA2FF48A22 for ; Wed, 29 Oct 2025 03:21:56 +0100 (CET) Received: from mails.dpdk.org (localhost [127.0.0.1]) by mails.dpdk.org (Postfix) with ESMTP id B6FE740262; Wed, 29 Oct 2025 03:21:56 +0100 (CET) Received: from mail-io1-f98.google.com (mail-io1-f98.google.com [209.85.166.98]) by mails.dpdk.org (Postfix) with ESMTP id 3D61C40262 for ; Wed, 29 Oct 2025 03:21:55 +0100 (CET) Received: by mail-io1-f98.google.com with SMTP id ca18e2360f4ac-9435969137aso423788039f.1 for ; Tue, 28 Oct 2025 19:21:55 -0700 (PDT) DKIM-Signature: v=1; a=rsa-sha256; c=relaxed/relaxed; d=iol.unh.edu; s=unh-iol; t=1761704514; x=1762309314; darn=dpdk.org; h=references:in-reply-to:cc:to:from:subject:message-id:date:from:to :cc:subject:date:message-id:reply-to; bh=A6KbucF6BAd52/XptVceKF3FYAMokJwsWkZLlIYBf38=; b=UFw311e2HM7PZLx5P7269bi3vdd6jMEdJKPuUO+ExKsD0vIdMfQufXXB4ikbbojN0E 3beTYS0bWOx39L6fg84HTVX1jQMeGHugicaVk+O7vUP5lxwHFiQj8q7R6q2nXIsn/dsz 5aUo53/8r2Oajc4IdCz35UVYaq5N2LAIkFfhA= X-Google-DKIM-Signature: v=1; a=rsa-sha256; c=relaxed/relaxed; d=1e100.net; s=20230601; t=1761704514; x=1762309314; h=references:in-reply-to:cc:to:from:subject:message-id:date :x-gm-message-state:from:to:cc:subject:date:message-id:reply-to; bh=A6KbucF6BAd52/XptVceKF3FYAMokJwsWkZLlIYBf38=; b=fx98UNfplxJ4IPpRa5pw3NjUsvqH7mP24J32sSpYW+lY/vxY/jUjwflHTvRdrCAkRL zbZ8yBNXvxsIqmsVT8UyUY58rY2Oga3NMZuipFItGHbc2/WNu61jKqytJnE/hWBalWI1 XItcGLLhQXTMt0vyXQN8fk6L7z4+IytN87qvUuemtE0jDgfXvZkidYunweDqOJNrr/hH a6gsTph83Bv4t/tykAGNDpEl7cDzAHcD9TPJSdSp0zyC09gttxj0OOM8XdOC3puBoEHf qJWc203xqCaBORvtg1NOMKVD2myn+rpCCu6SxVUQvMwSr3qo0hadP/Z8BTVVHbc3YImk EY+w== X-Gm-Message-State: AOJu0YyCDpx8h6+B8Pqrm3AhCzVbAku9gvcpnc40Hx9VaR6+XHVpXOZM o2HSh+PRS+RLLGUx33llJudLMTf902d63fvbPBqPQtrEG28gVYZY3ww9oenAEJUZif0bYofz/W5 WDS5Q6Dqt6ravHYpAgimY8Vem5bqn7P+oyKgPnUPdFTib X-Gm-Gg: ASbGncvSpX9zdJDCNTR0GrJSI0ej5WUHWb8Dj6P82e98+lrH3NIpstGDa9VezwQAH2W 3a80WfuKOvER98n01NH0SJWASnePp6EY+K2uf4tox09bnyPrmIa7bOspg33g2UCtwnXHd5qmlRQ 28KHgBpLKxpHwKeKgfGrcdEgEhUp4E2sxNmdWaT07Oy03HhQ+SM9dxJmfzk6CGA63tS5Zkb+QuC NuK4HbuDPG9GIhIN8YJVLUsJb/UZdJqFa7KoHwdBOjouRAmD7wwOv3KCD4pJISDVE+70LQkBY3A O+WOtOvF+uDOOsQx3lN6L2GrOjnN5WSskrgQVivrCQ9waf7c/0aGJyJNVVN/CCuiep8AhzxqvIc aRhQh+riiGzvSgNUkrK/vlzWwURq/Em0= X-Google-Smtp-Source: AGHT+IEVlKa340URVdYYQBVFR77HsQAYNITV6MAfKdgNJ7d07ImmT0MVjTd457cx1GcLQIoCOZ3z8QBxY9cm X-Received: by 2002:a05:6602:718b:b0:93e:8bab:e17f with SMTP id ca18e2360f4ac-945c9865452mr205073239f.14.1761704514491; Tue, 28 Oct 2025 19:21:54 -0700 (PDT) Received: from postal.iol.unh.edu (postal.iol.unh.edu. [132.177.123.84]) by smtp-relay.gmail.com with ESMTPS id 8926c6da1cb9f-5aea77de958sm962447173.3.2025.10.28.19.21.54 (version=TLS1_2 cipher=ECDHE-ECDSA-AES128-GCM-SHA256 bits=128/128); Tue, 28 Oct 2025 19:21:54 -0700 (PDT) X-Relaying-Domain: iol.unh.edu Date: Tue, 28 Oct 2025 19:21:54 -0700 (PDT) Message-ID: <69017a42.050a0220.2f9afb.e3ceSMTPIN_ADDED_MISSING@mx.google.com> Received: from [172.21.0.2] (unknown [172.18.0.240]) by postal.iol.unh.edu (Postfix) with ESMTP id 110986051830; Tue, 28 Oct 2025 22:21:54 -0400 (EDT) Subject: |SUCCESS| pw158208 [PATCH] [v2] config/arm: add HiSilicon HIP12 From: dpdklab@iol.unh.edu To: Test Report Cc: dpdk-test-reports@iol.unh.edu In-Reply-To: <20251029011626.9298-1-fengchengwen@huawei.com> References: <20251029011626.9298-1-fengchengwen@huawei.com> Content-Type: text/plain X-BeenThere: test-report@dpdk.org X-Mailman-Version: 2.1.29 Precedence: list List-Id: automatic DPDK test reports List-Unsubscribe: , List-Archive: List-Post: List-Help: List-Subscribe: , Errors-To: test-report-bounces@dpdk.org Test-Label: iol-unit-amd64-testing Test-Status: SUCCESS http://dpdk.org/patch/158208 _Testing PASS_ Submitter: fengchengwen Date: Wednesday, October 29 2025 01:16:26 DPDK git baseline: Repo:dpdk Branch: master CommitID:39b54f2dcf44ad1f91eabc7080cd5dea763607fd 158208 --> testing pass Upstream job id: Generic-Unit-Test-DPDK#386455 Test environment and result as below: +-------------------------------+----------------+ | Environment | dpdk_unit_test | +===============================+================+ | CentOS Stream 10 | PASS | +-------------------------------+----------------+ | CentOS Stream 9 | PASS | +-------------------------------+----------------+ | Fedora Linux 42 | PASS | +-------------------------------+----------------+ | Fedora Linux 41 | PASS | +-------------------------------+----------------+ | Debian GNU/Linux 12 | PASS | +-------------------------------+----------------+ | Ubuntu 22.04 | PASS | +-------------------------------+----------------+ | Ubuntu 24.04 | PASS | +-------------------------------+----------------+ | Red Hat Enterprise Linux 8.10 | PASS | +-------------------------------+----------------+ | Ubuntu 20.04 | PASS | +-------------------------------+----------------+ | Red Hat Enterprise Linux 9.5 | PASS | +-------------------------------+----------------+ | Fedora Linux 40 | PASS | +-------------------------------+----------------+ | Windows Server 2022 | PASS | +-------------------------------+----------------+ CentOS Stream 10 Kernel: 5.15 Compiler: gcc gcc (GCC) 14.2.1 20250110 (Red Hat 14.2.1-8) CentOS Stream 9 Kernel: 5.15 Compiler: gcc gcc (GCC) 11.5.0 20240719 (Red Hat 11.5.0-11) Fedora Linux 42 Kernel: 5.15 Compiler: gcc gcc (GCC) 15.2.1 20250808 (Red Hat 15.2.1-1) Fedora Linux 41 Kernel: 5.15 Compiler: clang gcc (GCC) 14.3.1 20250523 (Red Hat 14.3.1-1) Debian GNU/Linux 12 Kernel: 5.15 Compiler: gcc gcc (Debian 12.2.0-14+deb12u1) 12.2.0 Ubuntu 22.04 Kernel: 5.15 Compiler: gcc gcc (Ubuntu 11.4.0-1ubuntu1~22.04) 11.4.0 Ubuntu 24.04 Kernel: 5.15 Compiler: gcc gcc (Ubuntu 13.3.0-6ubuntu2~24.04) 13.3.0 Red Hat Enterprise Linux 8.10 Kernel: 5.15 Compiler: gcc gcc (GCC) 8.5.0 20210514 (Red Hat 8.5.0-22) Ubuntu 20.04 Kernel: 5.15 Compiler: gcc gcc (Ubuntu 9.4.0-1ubuntu1~20.04.2) 9.4.0 Red Hat Enterprise Linux 9.5 Kernel: 5.15 Compiler: gcc gcc (GCC) 11.5.0 20240719 (Red Hat 11.5.0-2) Fedora Linux 40 Kernel: 5.15 Compiler: clang gcc (GCC) 14.2.1 20240912 (Red Hat 14.2.1-3) Windows Server 2022 Kernel: 10.0.20348.2031 Compiler: clang 15.0.7, gcc 14.1.0 (MinGW), and MSVC VS 19.39.33521 To view detailed results, visit: https://lab.dpdk.org/results/dashboard/patchsets/34411/ UNH-IOL DPDK Community Lab To manage your email subscriptions, visit: https://lab.dpdk.org/results/dashboard/preferences/subscriptions/