From mboxrd@z Thu Jan 1 00:00:00 1970 Return-Path: Received: from mails.dpdk.org (mails.dpdk.org [217.70.189.124]) by inbox.dpdk.org (Postfix) with ESMTP id 75E7C48A22 for ; Wed, 29 Oct 2025 03:28:29 +0100 (CET) Received: from mails.dpdk.org (localhost [127.0.0.1]) by mails.dpdk.org (Postfix) with ESMTP id 53A3D40262; Wed, 29 Oct 2025 03:28:29 +0100 (CET) Received: from mail-yx1-f100.google.com (mail-yx1-f100.google.com [74.125.224.100]) by mails.dpdk.org (Postfix) with ESMTP id 9261040262 for ; Wed, 29 Oct 2025 03:28:28 +0100 (CET) Received: by mail-yx1-f100.google.com with SMTP id 956f58d0204a3-63e330a1360so7361286d50.3 for ; Tue, 28 Oct 2025 19:28:28 -0700 (PDT) DKIM-Signature: v=1; a=rsa-sha256; c=relaxed/relaxed; d=iol.unh.edu; s=unh-iol; t=1761704908; x=1762309708; darn=dpdk.org; h=references:in-reply-to:cc:to:from:subject:message-id:date:from:to :cc:subject:date:message-id:reply-to; bh=WgfDG9tJieorf4NbEifW31UiOweI6d11LAHoLUYEzAc=; b=GSlIRD/WbrvPMC7jXUoxMpTut43nvj6GJS7iijJMGn0FufPQosDjxcqBrB6GV8jKHP /94JrrAH76jsLohCRkeU7HtFg4Bbbki0yOyolcW6zqrUIY/uGoF2RKrZjDnIaY/F09iH 8IzFVnMwg1E7PEicPzuA/1yZ0ebCa9krDRqB0= X-Google-DKIM-Signature: v=1; a=rsa-sha256; c=relaxed/relaxed; d=1e100.net; s=20230601; t=1761704908; x=1762309708; h=references:in-reply-to:cc:to:from:subject:message-id:date :x-gm-message-state:from:to:cc:subject:date:message-id:reply-to; bh=WgfDG9tJieorf4NbEifW31UiOweI6d11LAHoLUYEzAc=; b=IS4c0eaZnHxYCbUkmQxEVZh9zRyNImSZopDAkuFrOqt9kIeckJeydvKPXeHSYT2Nlr W07pLorIosURWvx9tO1uPL2ZjPZ/ryqOQfx6dED3Z2MDhLfqhaEvyQvSuYyK/ywttq6U 44fvXNFtSzfrEHNdUrPajawhjsLu18dTH2yxzhuUvNjaW4olMhFmoNkeSS9s2eLsdfBZ GjqMsFkziTnch1WTlktxTJ1TDbRLHNUzC8csMNXUbhhtFivcHj2QqwPzKCgkK5wouqhd C9p9nvLHSX/f697+d7Isr+qX7ShJSDfCrFW9yDPMy9CTM4CxLErAneMrR2UmvEKXR4CK mTFQ== X-Gm-Message-State: AOJu0YxJwzrZQhPnPEu4fslGPk28dG+l8ClYFCtQGo8byf8J6nI/VPFk BK7iCB+kEOjhxHi6nIxLIBUN46qgjiJZc7oMYovMpJzD1e0dj38oX68hUf/Zs4rAZ26Vz88izLv 8YBDSvwpOurlWjuOnuOAdQV8aatB6lwlUM1AlA9TEndB2 X-Gm-Gg: ASbGncs3bETRPUspScSPB2WBXTMUYoRwTmPdkf6j3d6DhtakjRQWSrXo0Wwa+J5VZR5 Ej7VaL399mUtlAK16r1g31tmTJh0qMRcWaaFgcn6BlzeVW0N8YTUtC75swYdDetCR+KbO6uaSOQ cb7LrLU+ZXNu1Xp877DdOrV6RAgmRttoJwocMMSap8uK5XYbt0NfdtJ4yMAk0Dn6jpj1EBNF5IP nmiF4v2VTChbWZ8CeitCtB7gLiVn7dYD3mBvntZUvX4rU560EzGB3Kmdkb7d282HdPGlgcmxtWk ZSDd3ePHdMEsCIxUbLmeLAXICqfjz4x7E7crwZy3eE7cjBzDHUGl6pWPGEDxjJMnxx9Gb9aCl3w sT+CAHdE1ChTC7EabwwQFJ+JZw/6Q3/8= X-Google-Smtp-Source: AGHT+IEy+2yQHI0vbCAfLnOlL6ITdOC5Bbr2AG+564l+Bi5KNqwK2wCpsU9UTXQIuFBOF0/CGICjfeCc2C1e X-Received: by 2002:a53:d78b:0:b0:63e:3656:91a7 with SMTP id 956f58d0204a3-63f76d3bb2dmr1004073d50.30.1761704907891; Tue, 28 Oct 2025 19:28:27 -0700 (PDT) Received: from postal.iol.unh.edu (postal.iol.unh.edu. [132.177.123.84]) by smtp-relay.gmail.com with ESMTPS id 00721157ae682-785ed146afcsm9703197b3.1.2025.10.28.19.28.27 (version=TLS1_2 cipher=ECDHE-ECDSA-AES128-GCM-SHA256 bits=128/128); Tue, 28 Oct 2025 19:28:27 -0700 (PDT) X-Relaying-Domain: iol.unh.edu Date: Tue, 28 Oct 2025 19:28:27 -0700 (PDT) Message-ID: <69017bcb.050a0220.2a41a2.dd59SMTPIN_ADDED_MISSING@mx.google.com> Received: from [172.21.0.3] (unknown [172.18.0.240]) by postal.iol.unh.edu (Postfix) with ESMTP id 603DC6051835; Tue, 28 Oct 2025 22:28:27 -0400 (EDT) Subject: |WARNING| pw158208 [PATCH] [v2] config/arm: add HiSilicon HIP12 From: dpdklab@iol.unh.edu To: Test Report Cc: dpdk-test-reports@iol.unh.edu In-Reply-To: <20251029011626.9298-1-fengchengwen@huawei.com> References: <20251029011626.9298-1-fengchengwen@huawei.com> Content-Type: text/plain X-BeenThere: test-report@dpdk.org X-Mailman-Version: 2.1.29 Precedence: list List-Id: automatic DPDK test reports List-Unsubscribe: , List-Archive: List-Post: List-Help: List-Subscribe: , Errors-To: test-report-bounces@dpdk.org Test-Label: iol-compile-amd64-testing Test-Status: WARNING http://dpdk.org/patch/158208 _Testing issues_ Submitter: fengchengwen Date: Wednesday, October 29 2025 01:16:26 DPDK git baseline: Repo:dpdk Branch: master CommitID:39b54f2dcf44ad1f91eabc7080cd5dea763607fd 158208 --> testing issues Upstream job id: Generic-DPDK-Compile-Meson#438820 Test environment and result as below: +-------------------------------+--------------------+-------------------+------------------+-------------------+-------------------------+----------------------+ | Environment | dpdk_meson_compile | dpdk_compile_spdk | dpdk_compile_ovs | dpdk_msvc_compile | dpdk_llvm_clang_compile | dpdk_mingw64_compile | +===============================+====================+===================+==================+===================+=========================+======================+ | CentOS Stream 9 | PASS | WARN | SKIPPED | SKIPPED | SKIPPED | SKIPPED | +-------------------------------+--------------------+-------------------+------------------+-------------------+-------------------------+----------------------+ | CentOS Stream 10 | PASS | SKIPPED | SKIPPED | SKIPPED | SKIPPED | SKIPPED | +-------------------------------+--------------------+-------------------+------------------+-------------------+-------------------------+----------------------+ | Debian GNU/Linux 12 | PASS | WARN | SKIPPED | SKIPPED | SKIPPED | SKIPPED | +-------------------------------+--------------------+-------------------+------------------+-------------------+-------------------------+----------------------+ | Fedora Linux 42 | PASS | WARN | PASS | SKIPPED | SKIPPED | SKIPPED | +-------------------------------+--------------------+-------------------+------------------+-------------------+-------------------------+----------------------+ | Ubuntu 20.04 | PASS | SKIPPED | SKIPPED | SKIPPED | SKIPPED | SKIPPED | +-------------------------------+--------------------+-------------------+------------------+-------------------+-------------------------+----------------------+ | Red Hat Enterprise Linux 8.10 | PASS | SKIPPED | SKIPPED | SKIPPED | SKIPPED | SKIPPED | +-------------------------------+--------------------+-------------------+------------------+-------------------+-------------------------+----------------------+ | openSUSE Leap 15.6 | PASS | SKIPPED | SKIPPED | SKIPPED | SKIPPED | SKIPPED | +-------------------------------+--------------------+-------------------+------------------+-------------------+-------------------------+----------------------+ | Red Hat Enterprise Linux 9.5 | PASS | SKIPPED | SKIPPED | SKIPPED | SKIPPED | SKIPPED | +-------------------------------+--------------------+-------------------+------------------+-------------------+-------------------------+----------------------+ | Ubuntu 22.04 | PASS | WARN | SKIPPED | SKIPPED | SKIPPED | SKIPPED | +-------------------------------+--------------------+-------------------+------------------+-------------------+-------------------------+----------------------+ | Ubuntu 24.04 | PASS | WARN | PASS | SKIPPED | SKIPPED | SKIPPED | +-------------------------------+--------------------+-------------------+------------------+-------------------+-------------------------+----------------------+ | FreeBSD 14.2 | PASS | SKIPPED | SKIPPED | SKIPPED | SKIPPED | SKIPPED | +-------------------------------+--------------------+-------------------+------------------+-------------------+-------------------------+----------------------+ | Alpine Linux 3.22.0 | PASS | SKIPPED | SKIPPED | SKIPPED | SKIPPED | SKIPPED | +-------------------------------+--------------------+-------------------+------------------+-------------------+-------------------------+----------------------+ | Windows Server 2022 | SKIPPED | SKIPPED | SKIPPED | PASS | PASS | PASS | +-------------------------------+--------------------+-------------------+------------------+-------------------+-------------------------+----------------------+ ==== 20 line log output for Ubuntu 24.04 (dpdk_compile_spdk): ==== --- Failed to get log output --- ==== End log output ==== CentOS Stream 9 Kernel: 5.15 Compiler: gcc gcc (GCC) 11.5.0 20240719 (Red Hat 11.5.0-11) CentOS Stream 10 Kernel: 5.15 Compiler: gcc gcc (GCC) 14.2.1 20250110 (Red Hat 14.2.1-8) Debian GNU/Linux 12 Kernel: 5.15 Compiler: gcc gcc (Debian 12.2.0-14+deb12u1) 12.2.0 Fedora Linux 42 Kernel: 5.15 Compiler: gcc gcc (GCC) 15.2.1 20250808 (Red Hat 15.2.1-1) Ubuntu 20.04 Kernel: 5.15 Compiler: gcc gcc (Ubuntu 9.4.0-1ubuntu1~20.04.2) 9.4.0 Red Hat Enterprise Linux 8.10 Kernel: 5.15 Compiler: gcc gcc (GCC) 8.5.0 20210514 (Red Hat 8.5.0-22) openSUSE Leap 15.6 Kernel: 5.15 Compiler: gcc gcc (SUSE Linux) 7.5.0 Red Hat Enterprise Linux 9.5 Kernel: 5.15 Compiler: gcc gcc (GCC) 11.5.0 20240719 (Red Hat 11.5.0-2) Ubuntu 22.04 Kernel: 5.15 Compiler: gcc gcc (Ubuntu 11.4.0-1ubuntu1~22.04) 11.4.0 Ubuntu 24.04 Kernel: 5.15 Compiler: gcc gcc (Ubuntu 13.3.0-6ubuntu2~24.04) 13.3.0 FreeBSD 14.2 Kernel: 14.2-RELEASE Compiler: clang 18.1.6 Alpine Linux 3.22.0 Kernel: 5.15 Compiler: gcc gcc (Alpine 14.2.0) 14.2.0 Windows Server 2022 Kernel: 10.0.20348.2031 Compiler: clang 15.0.7, gcc 14.1.0 (MinGW), and MSVC VS 19.39.33521 To view detailed results, visit: https://lab.dpdk.org/results/dashboard/patchsets/34411/ UNH-IOL DPDK Community Lab To manage your email subscriptions, visit: https://lab.dpdk.org/results/dashboard/preferences/subscriptions/