From mboxrd@z Thu Jan 1 00:00:00 1970 Return-Path: Received: from mails.dpdk.org (mails.dpdk.org [217.70.189.124]) by inbox.dpdk.org (Postfix) with ESMTP id 9F6EC48A18 for ; Wed, 29 Oct 2025 04:10:06 +0100 (CET) Received: from mails.dpdk.org (localhost [127.0.0.1]) by mails.dpdk.org (Postfix) with ESMTP id 6C48E40262; Wed, 29 Oct 2025 04:10:06 +0100 (CET) Received: from mail-ua1-f99.google.com (mail-ua1-f99.google.com [209.85.222.99]) by mails.dpdk.org (Postfix) with ESMTP id 96EF540262 for ; Wed, 29 Oct 2025 04:10:05 +0100 (CET) Received: by mail-ua1-f99.google.com with SMTP id a1e0cc1a2514c-932c247fb9aso2874586241.2 for ; Tue, 28 Oct 2025 20:10:05 -0700 (PDT) DKIM-Signature: v=1; a=rsa-sha256; c=relaxed/relaxed; d=iol.unh.edu; s=unh-iol; t=1761707405; x=1762312205; darn=dpdk.org; h=references:in-reply-to:cc:to:from:subject:message-id:date:from:to :cc:subject:date:message-id:reply-to; bh=7dIShnlXEQm7dvTaRwN01Fx7mQxDroX6D0O6D2vZR1Y=; b=IPWiHzfw4PVmiJXlab1HFMEUXarVgw1fiO9155nK5ox3Cg42/Ye0E11aarHcCoSYE5 77AZFNxEMsUv+Ym1seo2NuOdDgTZBvCKJvobr+R+fNlAuwxc0Z+BfaA6Y0/tUegIg+CE MqyBgjLqA3tHsil/CDqvgoTieYkLfSWFy04M8= X-Google-DKIM-Signature: v=1; a=rsa-sha256; c=relaxed/relaxed; d=1e100.net; s=20230601; t=1761707405; x=1762312205; h=references:in-reply-to:cc:to:from:subject:message-id:date :x-gm-message-state:from:to:cc:subject:date:message-id:reply-to; bh=7dIShnlXEQm7dvTaRwN01Fx7mQxDroX6D0O6D2vZR1Y=; b=rstIo7M8mXeFdf4sCKVF2GvRnHZaTNDJyb18pQWGMNSa+9svRFJaHokQ8BturMkWc8 ky8KYJK29+JYM5k/v52wr07VGQDWvaUapp3MexITyG7Hhn5jL7lYC2NmvNUbARiWCRsD wkR4CoeePCeWe7JWPZ+1arXwMaNFEXBLEzbdUYH2IV/d8esHI+Pgn2mqyycNugUvm//v VQWlOF/ykMXbbxAtUIng5tlM2Xv+vabmvsMx7BqOILVxVaYYMl+uoxxmxflTbhe3V4U7 rFawgnXukCTjJxe9wNIvgm4Eze+eVQrc8EjzT95iOxO/Vd2JbMU2puuOL2xEfFWIR4aL axqQ== X-Gm-Message-State: AOJu0YyX8glf1v62zfpbA0P8uFuPurXJovCqfdyx1MaJLDszHXgk/1At dBvmAQQ8Y0JpLyRXGo4GJXb1MznJVSogbPeWatas4UFAiMMG/q4ANv1vv5nwIUR017SZJ9wNayz 6ZaRdTKHEWPqVbFl4Shfw+CqVQMdaZaHjpDmb7QBp5BnP X-Gm-Gg: ASbGncsESFORFyRtIiiViMW/437p6svTx9YsJTFQIPlRT+oafeJgTpWCBQOQYIVz7vA pYJRqb5xROKPXSxZcfSpvcftgbGBar9QhoFGIiG1JSdlx9v5stTjoAbcexO5CedgcOKsCuoZAvZ myOkZ6z4aK8TmC4BhwQyXB0vGcUWhfRJnugTIKaGDJUTHy4t0Tai2ytuBDWaEWl6tajj153uLVL TeZLMGZQ8+StQZkETsPqgUufyDW+cWl43+l2QXE6gx00E1if9GTyz8m3DjcYu6+YG88ClbZAQuP AllbwzA0P9G/Orx1H+V96G+XdXMox1jLtmHMGadx8YengBWZcPcezXUDsNASl8NKPKWuLmDfEOt GCbkAPD5ML4PqWR5pjQjDwPSHGyLfopQ= X-Google-Smtp-Source: AGHT+IEfUz/DGJ8Zdbzr73aOTk5HJSo+wl7FTeMDRZltmRGPrX6a0NDl9XeP7ZvCNwfm/6iYNVVbRFDhZPdj X-Received: by 2002:a05:6122:614a:b0:53b:1998:dbf5 with SMTP id 71dfb90a1353d-558140a5a3dmr372221e0c.1.1761707404895; Tue, 28 Oct 2025 20:10:04 -0700 (PDT) Received: from postal.iol.unh.edu (postal.iol.unh.edu. [132.177.123.84]) by smtp-relay.gmail.com with ESMTPS id 71dfb90a1353d-557ddb84246sm1320141e0c.8.2025.10.28.20.10.04 (version=TLS1_2 cipher=ECDHE-ECDSA-AES128-GCM-SHA256 bits=128/128); Tue, 28 Oct 2025 20:10:04 -0700 (PDT) X-Relaying-Domain: iol.unh.edu Date: Tue, 28 Oct 2025 20:10:04 -0700 (PDT) Message-ID: <6901858c.050a0220.96778.dc73SMTPIN_ADDED_MISSING@mx.google.com> Received: from [172.21.0.3] (unknown [172.18.0.240]) by postal.iol.unh.edu (Postfix) with ESMTP id 63B2260003F4; Tue, 28 Oct 2025 23:10:04 -0400 (EDT) Subject: |SUCCESS| pw158205-158204 [PATCH] [v1,3/3] app/test: fix issues with From: dpdklab@iol.unh.edu To: Test Report Cc: dpdk-test-reports@iol.unh.edu In-Reply-To: <20251028172324.3149379-3-jerinj@marvell.com> References: <20251028172324.3149379-3-jerinj@marvell.com> Content-Type: text/plain X-BeenThere: test-report@dpdk.org X-Mailman-Version: 2.1.29 Precedence: list List-Id: automatic DPDK test reports List-Unsubscribe: , List-Archive: List-Post: List-Help: List-Subscribe: , Errors-To: test-report-bounces@dpdk.org Test-Label: iol-compile-arm64-testing Test-Status: SUCCESS http://dpdk.org/patch/158204 _Testing PASS_ Submitter: Jerin Jacob Date: Tuesday, October 28 2025 17:23:23 DPDK git baseline: Repo:dpdk Branch: master CommitID:39b54f2dcf44ad1f91eabc7080cd5dea763607fd 158205-158204 --> testing pass Upstream job id: Generic-DPDK-Compile-Meson#438741 Test environment and result as below: +------------------------------+--------------------+ | Environment | dpdk_meson_compile | +==============================+====================+ | Red Hat Enterprise Linux 9.5 | PASS | +------------------------------+--------------------+ | Ubuntu 20.04 | PASS | +------------------------------+--------------------+ | Debian GNU/Linux 12 | PASS | +------------------------------+--------------------+ | Fedora Linux 42 | PASS | +------------------------------+--------------------+ | Ubuntu 22.04 | PASS | +------------------------------+--------------------+ | Ubuntu 24.04 | PASS | +------------------------------+--------------------+ | CentOS Stream 9 | PASS | +------------------------------+--------------------+ | CentOS Stream 10 | PASS | +------------------------------+--------------------+ Red Hat Enterprise Linux 9.5 Kernel: 5.4 Compiler: gcc gcc (GCC) 11.5.0 20240719 (Red Hat 11.5.0-2) Ubuntu 20.04 Kernel: 5.15 Compiler: aarch64-linux-gnu-gcc gcc (Ubuntu 9.4.0-1ubuntu1~20.04.2) 9.4.0 Debian GNU/Linux 12 Kernel: 5.4 Compiler: gcc gcc (Debian 12.2.0-14+deb12u1) 12.2.0 Fedora Linux 42 Kernel: 5.4 Compiler: gcc gcc (GCC) 15.2.1 20250808 (Red Hat 15.2.1-1) Ubuntu 22.04 Kernel: 5.4 Compiler: gcc gcc (Ubuntu 11.4.0-1ubuntu1~22.04) 11.4.0 Ubuntu 24.04 Kernel: 5.4 Compiler: gcc gcc (Ubuntu 13.3.0-6ubuntu2~24.04) 13.3.0 CentOS Stream 9 Kernel: 5.4 Compiler: gcc gcc (GCC) 11.5.0 20240719 (Red Hat 11.5.0-11) CentOS Stream 10 Kernel: 5.4 Compiler: gcc gcc (GCC) 14.2.1 20250110 (Red Hat 14.2.1-8) To view detailed results, visit: https://lab.dpdk.org/results/dashboard/patchsets/34408/ UNH-IOL DPDK Community Lab To manage your email subscriptions, visit: https://lab.dpdk.org/results/dashboard/preferences/subscriptions/