From mboxrd@z Thu Jan 1 00:00:00 1970 Return-Path: Received: from mails.dpdk.org (mails.dpdk.org [217.70.189.124]) by inbox.dpdk.org (Postfix) with ESMTP id 9DA1648A18 for ; Wed, 29 Oct 2025 04:10:53 +0100 (CET) Received: from mails.dpdk.org (localhost [127.0.0.1]) by mails.dpdk.org (Postfix) with ESMTP id 92CF840262; Wed, 29 Oct 2025 04:10:53 +0100 (CET) Received: from mail-yw1-f226.google.com (mail-yw1-f226.google.com [209.85.128.226]) by mails.dpdk.org (Postfix) with ESMTP id B757440262 for ; Wed, 29 Oct 2025 04:10:52 +0100 (CET) Received: by mail-yw1-f226.google.com with SMTP id 00721157ae682-783fa3aa35cso83445127b3.3 for ; Tue, 28 Oct 2025 20:10:52 -0700 (PDT) DKIM-Signature: v=1; a=rsa-sha256; c=relaxed/relaxed; d=iol.unh.edu; s=unh-iol; t=1761707452; x=1762312252; darn=dpdk.org; h=references:in-reply-to:cc:to:from:subject:message-id:date:from:to :cc:subject:date:message-id:reply-to; bh=eQNalWxvvUDqNqjjjv+dO1cLHq0L4Eq6+7MDt1LyNbA=; b=MwEbdItJ9GLM+WqIMGrHtDeD966ryvHR3t5Lzu6axFdhSLFmJeTJAjUtQpTcrFf02f 5MZTDhrCcitSu6dWVH8rcm1/k0vuCwcXXbIAXgyS2MKM9vN8JTEbP7oBhIdB5h5yBLhU IVbudQJTFxyiiVDcwkTvujTvA71Ibk6OqCfGM= X-Google-DKIM-Signature: v=1; a=rsa-sha256; c=relaxed/relaxed; d=1e100.net; s=20230601; t=1761707452; x=1762312252; h=references:in-reply-to:cc:to:from:subject:message-id:date :x-gm-message-state:from:to:cc:subject:date:message-id:reply-to; bh=eQNalWxvvUDqNqjjjv+dO1cLHq0L4Eq6+7MDt1LyNbA=; b=YGppiELUTSpbnLtbSgg/mOIlCNkcWOZIFmjSxdzVz9K7+xeQ7ePobPrPtzA3jnmEQe p/p9znDxJHyovDk2/+QKPNl2o3eil9k4/rLZbvoH68jpU8Fqsmc7T79JcnSblFnM5HuD Yyi5A8EZwnaCGnHtFrRWPzAD0NlGRRLDJ1MRMA0JVYsFPp6g3qVdkpEDSPDk4L8xr5T8 4u3pgLVn6TuBz4O55HuLZS/SdoqRWI0ooo+mWodcCMD2zMxOhyVv0DDGyqcY5J7wX3NX jJFq7atccMl19t53EYlPqfW1J25EYqGzbCvjUsrqkBJDIcFuiTFeYfgc4+N/Zi/2Khd+ /+QA== X-Gm-Message-State: AOJu0Yz2bSqBrWFJjiaFetFmklNec8JWgQQ2/XMrBXVxRvh/fQskxx0k SVJQRYrUU9dXba1ngQBFop658RgOG5qKcX5HBqTzbhb4BOVU/okkx2FerSwtusEcVy9uKhELy55 cH+srwbU35DRutu+GBY6PTXPMeSOBn9btKjOjfymTeT8yUomQPI26eAO6V+UP X-Gm-Gg: ASbGncuV3RFMSDtDwV9NhYMrdNwvTXXxZnW/pxZRfh+Prmx+SD2QaSTRQX3vSZvFWPn n9ZP7Trn+pPkWLeDwqByw2vOFNQiZQ4IL0eRL7HGUAAJ5BJ8gPmZCacYGs9fJ9AWtuvMoX5TdmI LZt/yNmhmM7EeTFFmz3I0d9TYfXsD0pXe3Ypy/pZLHL9ufDax40GOz9Fc/v+MwRVxy9L1DxfH2U /BXKehMKMjLvm5BmUelw0FagjAW76lsSPTmHN246klkD6NpLEp/Q+ez8pByjsOhhV9CQcOiqj/6 SvxAtnhre/81Z8sjWepH/6cPdz+1KFINCTxGakpLFOuAe3+zEmFMPe0UpZnwPBYJv+j9hkznvhP dQbFVEPhk X-Google-Smtp-Source: AGHT+IGLH5+KIqKv02VNxr0orwFt30iAWtEF+Perz8VxMkwMLBVgucz0VTQmJRcbaCFhR4rnd4TGCfoDzCK5 X-Received: by 2002:a05:690c:7248:b0:784:883c:a868 with SMTP id 00721157ae682-78628eaa68dmr17348177b3.30.1761707452117; Tue, 28 Oct 2025 20:10:52 -0700 (PDT) Received: from postal.iol.unh.edu (postal.iol.unh.edu. [2606:4100:3880:1234::84]) by smtp-relay.gmail.com with ESMTPS id 00721157ae682-785ed1b6762sm8644607b3.20.2025.10.28.20.10.52 (version=TLS1_2 cipher=ECDHE-ECDSA-AES128-GCM-SHA256 bits=128/128); Tue, 28 Oct 2025 20:10:52 -0700 (PDT) X-Relaying-Domain: iol.unh.edu Date: Tue, 28 Oct 2025 20:10:52 -0700 (PDT) Message-ID: <690185bc.050a0220.2ddb7b.8995SMTPIN_ADDED_MISSING@mx.google.com> Received: from [172.21.0.2] (unknown [172.18.0.240]) by postal.iol.unh.edu (Postfix) with ESMTP id C8BF56051830; Tue, 28 Oct 2025 23:10:51 -0400 (EDT) Subject: |SUCCESS| pw158209-158211 [PATCH] [v2,3/3] net/r8169: fix issues rep From: dpdklab@iol.unh.edu To: Test Report Cc: dpdk-test-reports@iol.unh.edu, Stephen Hemminger In-Reply-To: <20251029020838.401035-4-howard_wang@realsil.com.cn> References: <20251029020838.401035-4-howard_wang@realsil.com.cn> Content-Type: text/plain X-BeenThere: test-report@dpdk.org X-Mailman-Version: 2.1.29 Precedence: list List-Id: automatic DPDK test reports List-Unsubscribe: , List-Archive: List-Post: List-Help: List-Subscribe: , Errors-To: test-report-bounces@dpdk.org Test-Label: iol-unit-amd64-testing Test-Status: SUCCESS http://dpdk.org/patch/158211 _Testing PASS_ Submitter: Howard Wang Date: Wednesday, October 29 2025 02:08:38 DPDK git baseline: Repo:dpdk-next-net Branch: master CommitID:977027b9ed422bd309bf761c5d360864900134f0 158209-158211 --> testing pass Upstream job id: Generic-VM-Unit-Test-DPDK#32146 Test environment and result as below: +-------------------------------+----------------+ | Environment | dpdk_unit_test | +===============================+================+ | CentOS Stream 9 | PASS | +-------------------------------+----------------+ | CentOS Stream 10 | PASS | +-------------------------------+----------------+ | Fedora Linux 40 | PASS | +-------------------------------+----------------+ | Debian GNU/Linux 12 | PASS | +-------------------------------+----------------+ | Ubuntu 24.04 | PASS | +-------------------------------+----------------+ | Windows Server 2022 | PASS | +-------------------------------+----------------+ | Red Hat Enterprise Linux 9.5 | PASS | +-------------------------------+----------------+ | Ubuntu 20.04 | PASS | +-------------------------------+----------------+ | Red Hat Enterprise Linux 8.10 | PASS | +-------------------------------+----------------+ | Fedora Linux 42 | PASS | +-------------------------------+----------------+ | Ubuntu 22.04 | PASS | +-------------------------------+----------------+ | Fedora Linux 41 | PASS | +-------------------------------+----------------+ CentOS Stream 9 Kernel: 5.15 Compiler: gcc gcc (GCC) 11.5.0 20240719 (Red Hat 11.5.0-11) CentOS Stream 10 Kernel: 5.15 Compiler: gcc gcc (GCC) 14.2.1 20250110 (Red Hat 14.2.1-8) Fedora Linux 40 Kernel: 5.15 Compiler: gcc gcc (GCC) 14.2.1 20240912 (Red Hat 14.2.1-3) Debian GNU/Linux 12 Kernel: 5.15 Compiler: gcc gcc (Debian 12.2.0-14+deb12u1) 12.2.0 Ubuntu 24.04 Kernel: 5.15 Compiler: gcc gcc (Ubuntu 13.3.0-6ubuntu2~24.04) 13.3.0 Windows Server 2022 Kernel: 10.0.20348.2031 Compiler: clang 15.0.7, gcc 14.1.0 (MinGW), and MSVC VS 19.39.33521 Red Hat Enterprise Linux 9.5 Kernel: 5.15 Compiler: gcc gcc (GCC) 11.5.0 20240719 (Red Hat 11.5.0-2) Ubuntu 20.04 Kernel: 5.15 Compiler: gcc gcc (Ubuntu 9.4.0-1ubuntu1~20.04.2) 9.4.0 Red Hat Enterprise Linux 8.10 Kernel: 5.15 Compiler: gcc gcc (GCC) 8.5.0 20210514 (Red Hat 8.5.0-22) Fedora Linux 42 Kernel: 5.15 Compiler: clang gcc (GCC) 15.2.1 20250808 (Red Hat 15.2.1-1) Ubuntu 22.04 Kernel: 5.15 Compiler: gcc gcc (Ubuntu 11.4.0-1ubuntu1~22.04) 11.4.0 Fedora Linux 41 Kernel: 5.15 Compiler: gcc gcc (GCC) 14.3.1 20250523 (Red Hat 14.3.1-1) To view detailed results, visit: https://lab.dpdk.org/results/dashboard/patchsets/34412/ UNH-IOL DPDK Community Lab To manage your email subscriptions, visit: https://lab.dpdk.org/results/dashboard/preferences/subscriptions/