From mboxrd@z Thu Jan 1 00:00:00 1970 Return-Path: Received: from mails.dpdk.org (mails.dpdk.org [217.70.189.124]) by inbox.dpdk.org (Postfix) with ESMTP id 5009148A1F for ; Wed, 29 Oct 2025 04:16:43 +0100 (CET) Received: from mails.dpdk.org (localhost [127.0.0.1]) by mails.dpdk.org (Postfix) with ESMTP id 4A14840262; Wed, 29 Oct 2025 04:16:43 +0100 (CET) Received: from mail-pl1-f225.google.com (mail-pl1-f225.google.com [209.85.214.225]) by mails.dpdk.org (Postfix) with ESMTP id 9A1B240262 for ; Wed, 29 Oct 2025 04:16:41 +0100 (CET) Received: by mail-pl1-f225.google.com with SMTP id d9443c01a7336-2907948c1d2so71446125ad.3 for ; Tue, 28 Oct 2025 20:16:41 -0700 (PDT) DKIM-Signature: v=1; a=rsa-sha256; c=relaxed/relaxed; d=iol.unh.edu; s=unh-iol; t=1761707801; x=1762312601; darn=dpdk.org; h=references:in-reply-to:cc:to:from:subject:message-id:date:from:to :cc:subject:date:message-id:reply-to; bh=GYVyDkwLL7dEi/Kq0AnmSXz4QiTkgVt+2XZFMMik9yg=; b=fHNH2ZUabtqLzc0m/J1dDR1EmkuKMK05OEFBs5FOTt9PFMwRut+3M7ore5YuL+kODb fodaSHL8ZNuP53+Tz1iTxvwwZnI53y3WGaVb1nbzczfZsSa175p0I/CcwvT0RCqUSTrS AroMWYkSoAKAW9rixJdNceqt2yv/mXQBcGgEg= X-Google-DKIM-Signature: v=1; a=rsa-sha256; c=relaxed/relaxed; d=1e100.net; s=20230601; t=1761707801; x=1762312601; h=references:in-reply-to:cc:to:from:subject:message-id:date :x-gm-message-state:from:to:cc:subject:date:message-id:reply-to; bh=GYVyDkwLL7dEi/Kq0AnmSXz4QiTkgVt+2XZFMMik9yg=; b=j4dbenE8XTsKcmCDeiIpxez67zQBvXuxVUh85a5I4XBzfjXO9CeHBdhsnuYuFbb6JI MNkqyM0nrzoXN2hh422re1mrzP97kuU84BT1l/UxYUtWv8Jesk27hz3Nke06cxH7Iri6 NlvHr9WLGz8n4yM0o7yADYxnph5/X/tI4gyNfMU1r2cXgKBOBY5LDDKOonzqkY+eaqBm +FSmaKuze87l4cmY71IrUw4GCXSOSdf9TfNvxAAAH4V+9hqDmx2qztPSeb1fFChih6xQ QDbf9ZHxG4LVL3X11HbY9pTDYL3k6aYSJh2GzrZFaw/1dT6vMLePLdyqCJrnedv2WIBA JuiA== X-Gm-Message-State: AOJu0Yw2YegyJeGEhci4lwSqyu2db6eLt45xaJb9u+A2tJyZxeH3FKRc /QJ6BsVB7BegxZtlaLcwB2+qOKeQtNW2t9CTzBRSEg9shiYijsEkHX14UJkTZwj+ZHNZJJc3duc IbxNRBGfttyNZSJY6GGpt/jsoOQwO1l759s7lbSJ4qGqtETrWQVYJMWCCk5We X-Gm-Gg: ASbGnct8t81PVqv39h5aOosJo6GD5LUu/4s5wVxwpjtBV1siCqQEnhiCIIy3gujoRyt SltC/ct7KXZnzyZVRiOYCU5yw2hqrKCFyCTRmsHUKEO1Zfb0HV/02OTSTJC/2o3BPLt6+Vtiuxp J/f9HvctOmCiWb2Ynpn8qwPaDCX8Ld4O82nncqhAUbfSa3akdD9Hbo1yElH43cb0G8Qol3elXSY 863BP7wcrxypfEL8HCETKUkdw54aRduxBut2Sq7uZtg6N6Yku38nF+JkhQSZmfbS5kKy0+oj6nQ UV3jb3UDP5dWoMlyAHYtvqKWDmE7FZq7dXhNUtElgj2UXHVdORXRWCpPpeO6KBiqajei4KYuypM f2mH6mYV5 X-Google-Smtp-Source: AGHT+IGhzDJmZNVeSVo3bsiCNaEZjAa8Fv/n0ai1Q/G0LQgH0pE+GltjuUYUTA4WQzUSNIJF6TzqMcPkh6LC X-Received: by 2002:a17:902:d4c9:b0:269:a2bc:799f with SMTP id d9443c01a7336-294deedabd4mr15954805ad.29.1761707800661; Tue, 28 Oct 2025 20:16:40 -0700 (PDT) Received: from postal.iol.unh.edu (postal.iol.unh.edu. [2606:4100:3880:1234::84]) by smtp-relay.gmail.com with ESMTPS id d9443c01a7336-29498d274d7sm12624645ad.34.2025.10.28.20.16.40 (version=TLS1_2 cipher=ECDHE-ECDSA-AES128-GCM-SHA256 bits=128/128); Tue, 28 Oct 2025 20:16:40 -0700 (PDT) X-Relaying-Domain: iol.unh.edu Date: Tue, 28 Oct 2025 20:16:40 -0700 (PDT) Message-ID: <69018718.170a0220.257c2.b960SMTPIN_ADDED_MISSING@mx.google.com> Received: from [172.21.0.2] (unknown [172.18.0.240]) by postal.iol.unh.edu (Postfix) with ESMTP id EBC236051830; Tue, 28 Oct 2025 23:16:39 -0400 (EDT) Subject: |WARNING| pw158209-158211 [PATCH] [v2,3/3] net/r8169: fix issues rep From: dpdklab@iol.unh.edu To: Test Report Cc: dpdk-test-reports@iol.unh.edu, Stephen Hemminger In-Reply-To: <20251029020838.401035-4-howard_wang@realsil.com.cn> References: <20251029020838.401035-4-howard_wang@realsil.com.cn> Content-Type: text/plain X-BeenThere: test-report@dpdk.org X-Mailman-Version: 2.1.29 Precedence: list List-Id: automatic DPDK test reports List-Unsubscribe: , List-Archive: List-Post: List-Help: List-Subscribe: , Errors-To: test-report-bounces@dpdk.org Test-Label: iol-compile-amd64-testing Test-Status: WARNING http://dpdk.org/patch/158211 _Testing issues_ Submitter: Howard Wang Date: Wednesday, October 29 2025 02:08:38 DPDK git baseline: Repo:dpdk-next-net Branch: master CommitID:977027b9ed422bd309bf761c5d360864900134f0 158209-158211 --> testing issues Upstream job id: Generic-DPDK-Compile-Meson#438847 Test environment and result as below: +-------------------------------+--------------------+-------------------+------------------+-------------------------+-------------------+----------------------+ | Environment | dpdk_meson_compile | dpdk_compile_spdk | dpdk_compile_ovs | dpdk_llvm_clang_compile | dpdk_msvc_compile | dpdk_mingw64_compile | +===============================+====================+===================+==================+=========================+===================+======================+ | CentOS Stream 9 | PASS | WARN | SKIPPED | SKIPPED | SKIPPED | SKIPPED | +-------------------------------+--------------------+-------------------+------------------+-------------------------+-------------------+----------------------+ | FreeBSD 14.2 | PASS | SKIPPED | SKIPPED | SKIPPED | SKIPPED | SKIPPED | +-------------------------------+--------------------+-------------------+------------------+-------------------------+-------------------+----------------------+ | Red Hat Enterprise Linux 9.5 | PASS | SKIPPED | SKIPPED | SKIPPED | SKIPPED | SKIPPED | +-------------------------------+--------------------+-------------------+------------------+-------------------------+-------------------+----------------------+ | CentOS Stream 10 | PASS | SKIPPED | SKIPPED | SKIPPED | SKIPPED | SKIPPED | +-------------------------------+--------------------+-------------------+------------------+-------------------------+-------------------+----------------------+ | Fedora Linux 42 | PASS | WARN | PASS | SKIPPED | SKIPPED | SKIPPED | +-------------------------------+--------------------+-------------------+------------------+-------------------------+-------------------+----------------------+ | openSUSE Leap 15.6 | PASS | SKIPPED | SKIPPED | SKIPPED | SKIPPED | SKIPPED | +-------------------------------+--------------------+-------------------+------------------+-------------------------+-------------------+----------------------+ | Red Hat Enterprise Linux 8.10 | PASS | SKIPPED | SKIPPED | SKIPPED | SKIPPED | SKIPPED | +-------------------------------+--------------------+-------------------+------------------+-------------------------+-------------------+----------------------+ | Ubuntu 20.04 | PASS | SKIPPED | SKIPPED | SKIPPED | SKIPPED | SKIPPED | +-------------------------------+--------------------+-------------------+------------------+-------------------------+-------------------+----------------------+ | Ubuntu 22.04 | PASS | WARN | SKIPPED | SKIPPED | SKIPPED | SKIPPED | +-------------------------------+--------------------+-------------------+------------------+-------------------------+-------------------+----------------------+ | Alpine Linux 3.22.0 | PASS | SKIPPED | SKIPPED | SKIPPED | SKIPPED | SKIPPED | +-------------------------------+--------------------+-------------------+------------------+-------------------------+-------------------+----------------------+ | Ubuntu 24.04 | PASS | WARN | PASS | SKIPPED | SKIPPED | SKIPPED | +-------------------------------+--------------------+-------------------+------------------+-------------------------+-------------------+----------------------+ | Debian GNU/Linux 12 | PASS | WARN | SKIPPED | SKIPPED | SKIPPED | SKIPPED | +-------------------------------+--------------------+-------------------+------------------+-------------------------+-------------------+----------------------+ | Windows Server 2022 | SKIPPED | SKIPPED | SKIPPED | PASS | PASS | PASS | +-------------------------------+--------------------+-------------------+------------------+-------------------------+-------------------+----------------------+ ==== 20 line log output for Debian GNU/Linux 12 (dpdk_compile_spdk): ==== --- Failed to get log output --- ==== End log output ==== CentOS Stream 9 Kernel: 5.15 Compiler: gcc gcc (GCC) 11.5.0 20240719 (Red Hat 11.5.0-11) FreeBSD 14.2 Kernel: 14.2-RELEASE Compiler: clang 18.1.6 Red Hat Enterprise Linux 9.5 Kernel: 5.15 Compiler: gcc gcc (GCC) 11.5.0 20240719 (Red Hat 11.5.0-2) CentOS Stream 10 Kernel: 5.15 Compiler: gcc gcc (GCC) 14.2.1 20250110 (Red Hat 14.2.1-8) Fedora Linux 42 Kernel: 5.15 Compiler: clang gcc (GCC) 15.2.1 20250808 (Red Hat 15.2.1-1) openSUSE Leap 15.6 Kernel: 5.15 Compiler: gcc gcc (SUSE Linux) 7.5.0 Red Hat Enterprise Linux 8.10 Kernel: 5.15 Compiler: gcc gcc (GCC) 8.5.0 20210514 (Red Hat 8.5.0-22) Ubuntu 20.04 Kernel: 5.15 Compiler: gcc gcc (Ubuntu 9.4.0-1ubuntu1~20.04.2) 9.4.0 Ubuntu 22.04 Kernel: 5.15 Compiler: gcc gcc (Ubuntu 11.4.0-1ubuntu1~22.04) 11.4.0 Alpine Linux 3.22.0 Kernel: 5.15 Compiler: gcc gcc (Alpine 14.2.0) 14.2.0 Ubuntu 24.04 Kernel: 5.15 Compiler: gcc gcc (Ubuntu 13.3.0-6ubuntu2~24.04) 13.3.0 Debian GNU/Linux 12 Kernel: 5.15 Compiler: gcc gcc (Debian 12.2.0-14+deb12u1) 12.2.0 Windows Server 2022 Kernel: 10.0.20348.2031 Compiler: clang 15.0.7, gcc 14.1.0 (MinGW), and MSVC VS 19.39.33521 To view detailed results, visit: https://lab.dpdk.org/results/dashboard/patchsets/34412/ UNH-IOL DPDK Community Lab To manage your email subscriptions, visit: https://lab.dpdk.org/results/dashboard/preferences/subscriptions/