From mboxrd@z Thu Jan 1 00:00:00 1970 Return-Path: Received: from mails.dpdk.org (mails.dpdk.org [217.70.189.124]) by inbox.dpdk.org (Postfix) with ESMTP id 2F42B48A1A for ; Wed, 29 Oct 2025 04:52:46 +0100 (CET) Received: from mails.dpdk.org (localhost [127.0.0.1]) by mails.dpdk.org (Postfix) with ESMTP id 257BC40262; Wed, 29 Oct 2025 04:52:46 +0100 (CET) Received: from mail-vs1-f99.google.com (mail-vs1-f99.google.com [209.85.217.99]) by mails.dpdk.org (Postfix) with ESMTP id 19E2D40262 for ; Wed, 29 Oct 2025 04:52:44 +0100 (CET) Received: by mail-vs1-f99.google.com with SMTP id ada2fe7eead31-5d980e08e06so4423023137.0 for ; Tue, 28 Oct 2025 20:52:44 -0700 (PDT) DKIM-Signature: v=1; a=rsa-sha256; c=relaxed/relaxed; d=iol.unh.edu; s=unh-iol; t=1761709963; x=1762314763; darn=dpdk.org; h=references:in-reply-to:cc:to:from:subject:message-id:date:from:to :cc:subject:date:message-id:reply-to; bh=W7jNPO0GjucYtyHCQNpA9Bykn2vUQt9DS4ZxcEha1s0=; b=Ad+1UNTWmoW5BY+7aNorTeoa82qktgui/ZjLvDOI1UpEARUdinMCABtIEwvTvAZ3Kg rxvU9o0VE+NxjBMWDcHzi95b5EirMtY/UcGRx2bOiYGuKDZNox0uUwCiYitORceXHHoF 1bSQTxNYLkig67Y81nu9BEmNPM4OM3x15Nzxg= X-Google-DKIM-Signature: v=1; a=rsa-sha256; c=relaxed/relaxed; d=1e100.net; s=20230601; t=1761709963; x=1762314763; h=references:in-reply-to:cc:to:from:subject:message-id:date :x-gm-message-state:from:to:cc:subject:date:message-id:reply-to; bh=W7jNPO0GjucYtyHCQNpA9Bykn2vUQt9DS4ZxcEha1s0=; b=HgkBlTzI3YxAr3aBvNnH5Ke5KnzzRgLHI96j8mdZustHYQDvPzVvd08qqFqv3BzvCE iLD+D0iseS04HvOwphFV12uakuyGHQ4/+NpO90GhUM3xK6KDF8mPkmUyv2Gzza8sReTb eo3wVhTilmS2UX+5UrFKs4Yh7RKJ3zPGA9iL3cY82ROrKtR7kF3UYmtSg2wrdyPjd9m9 Jbg7affZpGJ26Gk7gAL8wJSrDZWg4y96S3BLawopulVFombClhmq6tqqmgTelzLoA5JW 4EGZzpzL58q9+mVXtqaYLW146PZhwCRixU2BFluv2gwR//vGCN8DHCYEJ4+ZviokvjvY qyaA== X-Gm-Message-State: AOJu0YwdrElDFdmV5go/c8SCpXwcWUHRzmFj8LPVfmDfQm3f1gHsw+X8 5Vce4r9Vz5aXFibGBMkkCk/ovukLmdTAH8U9FNxHOC7l2IGeRX2FWHDvMiQAWxM/ceHqpyU6ovO lCZKRy3kdJUrmDQscQX9hE1WpvGcuTQA0D/irBfMDzKGc X-Gm-Gg: ASbGncvquy+0aQMgVoWsy6HJFqCe0FgSihq+JuW67HswNpqUXJA+8v6NL2+u0+8wFjh LMbgMY+UtRSvC2KJh2fpyshfpLY0Dg/DcJFHI0lWrN3wMzKjY+L5J1mUUkk5aSpFrK7rXZODUYO OgsS4Yuc3Vo2qjcb2RlHlca6rWO82iYy6PRA51iokto3rxQy7kdGr5Dy1mr9AW9ZR6GSK0yo4e5 1LnI7cVsJm2JO89Tq37k5cvNKbElJvQy1RWYQ4ks02xjUjzYkG/8FNRwOMH1QB4yOv9qhHbKtdh E34g20rSaeJKoEdTr8dab1aTmvy/cMnNYYQt0YPJURl1MRpDAmSMEGQwj5t5/zi2L55dlHqDG7l v5rK1eIUc7xPE/bBKSH1vcJ5CbAk8ADg= X-Google-Smtp-Source: AGHT+IHCXUZVzGrN+0retAB14IDVqGklUclDi63ZSKfb7Z6LZ1iQKj1lEmyw2WY1+a/vWqoh8osxvUA7D3BG X-Received: by 2002:a05:6102:54a1:b0:5d6:687:ac with SMTP id ada2fe7eead31-5db906b90famr396610137.31.1761709963377; Tue, 28 Oct 2025 20:52:43 -0700 (PDT) Received: from postal.iol.unh.edu (postal.iol.unh.edu. [132.177.123.84]) by smtp-relay.gmail.com with ESMTPS id 71dfb90a1353d-557ddb4f6dbsm1444402e0c.6.2025.10.28.20.52.43 (version=TLS1_2 cipher=ECDHE-ECDSA-AES128-GCM-SHA256 bits=128/128); Tue, 28 Oct 2025 20:52:43 -0700 (PDT) X-Relaying-Domain: iol.unh.edu Date: Tue, 28 Oct 2025 20:52:43 -0700 (PDT) Message-ID: <69018f8b.050a0220.2d0917.389aSMTPIN_ADDED_MISSING@mx.google.com> Received: from [172.21.0.2] (unknown [172.18.0.240]) by postal.iol.unh.edu (Postfix) with ESMTP id 162D86051830; Tue, 28 Oct 2025 23:52:43 -0400 (EDT) Subject: |SUCCESS| pw158190-158192 [PATCH] [v10,3/3] doc: note on unsupported From: dpdklab@iol.unh.edu To: Test Report Cc: dpdk-test-reports@iol.unh.edu, Bruce Richardson In-Reply-To: <20251028142202.137392-4-shaiq.wani@intel.com> References: <20251028142202.137392-4-shaiq.wani@intel.com> Content-Type: text/plain X-BeenThere: test-report@dpdk.org X-Mailman-Version: 2.1.29 Precedence: list List-Id: automatic DPDK test reports List-Unsubscribe: , List-Archive: List-Post: List-Help: List-Subscribe: , Errors-To: test-report-bounces@dpdk.org Test-Label: iol-compile-arm64-testing Test-Status: SUCCESS http://dpdk.org/patch/158192 _Testing PASS_ Submitter: Shaiq Wani Date: Tuesday, October 28 2025 14:22:02 DPDK git baseline: Repo:dpdk-next-net-intel Branch: master CommitID:6b997d6b9ffdbb4f8ecd14d1f217da69cdc783af 158190-158192 --> testing pass Upstream job id: Generic-DPDK-Compile-Meson#438649 Test environment and result as below: +------------------------------+--------------------+ | Environment | dpdk_meson_compile | +==============================+====================+ | Red Hat Enterprise Linux 9.5 | PASS | +------------------------------+--------------------+ | Ubuntu 20.04 | PASS | +------------------------------+--------------------+ | Debian GNU/Linux 12 | PASS | +------------------------------+--------------------+ | Fedora Linux 42 | PASS | +------------------------------+--------------------+ | Ubuntu 22.04 | PASS | +------------------------------+--------------------+ | Ubuntu 24.04 | PASS | +------------------------------+--------------------+ | CentOS Stream 9 | PASS | +------------------------------+--------------------+ | CentOS Stream 10 | PASS | +------------------------------+--------------------+ Red Hat Enterprise Linux 9.5 Kernel: 5.4 Compiler: gcc gcc (GCC) 11.5.0 20240719 (Red Hat 11.5.0-2) Ubuntu 20.04 Kernel: 5.15 Compiler: aarch64-linux-gnu-gcc gcc (Ubuntu 9.4.0-1ubuntu1~20.04.2) 9.4.0 Debian GNU/Linux 12 Kernel: 5.4 Compiler: gcc gcc (Debian 12.2.0-14+deb12u1) 12.2.0 Fedora Linux 42 Kernel: 5.4 Compiler: gcc gcc (GCC) 15.2.1 20250808 (Red Hat 15.2.1-1) Ubuntu 22.04 Kernel: 5.4 Compiler: gcc gcc (Ubuntu 11.4.0-1ubuntu1~22.04) 11.4.0 Ubuntu 24.04 Kernel: 5.4 Compiler: gcc gcc (Ubuntu 13.3.0-6ubuntu2~24.04) 13.3.0 CentOS Stream 9 Kernel: 5.4 Compiler: gcc gcc (GCC) 11.5.0 20240719 (Red Hat 11.5.0-11) CentOS Stream 10 Kernel: 5.4 Compiler: gcc gcc (GCC) 14.2.1 20250110 (Red Hat 14.2.1-8) To view detailed results, visit: https://lab.dpdk.org/results/dashboard/patchsets/34404/ UNH-IOL DPDK Community Lab To manage your email subscriptions, visit: https://lab.dpdk.org/results/dashboard/preferences/subscriptions/