From mboxrd@z Thu Jan 1 00:00:00 1970 Return-Path: Received: from mails.dpdk.org (mails.dpdk.org [217.70.189.124]) by inbox.dpdk.org (Postfix) with ESMTP id 324DF48A21 for ; Wed, 29 Oct 2025 06:06:13 +0100 (CET) Received: from mails.dpdk.org (localhost [127.0.0.1]) by mails.dpdk.org (Postfix) with ESMTP id 2DB2B40288; Wed, 29 Oct 2025 06:06:13 +0100 (CET) Received: from mail-pg1-f226.google.com (mail-pg1-f226.google.com [209.85.215.226]) by mails.dpdk.org (Postfix) with ESMTP id 03EE840288 for ; Wed, 29 Oct 2025 06:06:12 +0100 (CET) Received: by mail-pg1-f226.google.com with SMTP id 41be03b00d2f7-b6cf07258e8so4647058a12.1 for ; Tue, 28 Oct 2025 22:06:11 -0700 (PDT) DKIM-Signature: v=1; a=rsa-sha256; c=relaxed/relaxed; d=iol.unh.edu; s=unh-iol; t=1761714371; x=1762319171; darn=dpdk.org; h=references:in-reply-to:cc:to:from:subject:message-id:date:from:to :cc:subject:date:message-id:reply-to; bh=m52xPAyjtdBaGEfX+iRWYOkYvvDmxsbIZLCC8iVUCJM=; b=YyMhg+paHA2YChPdaoNEKHSJt3fvd+7OqBqQ/sUmXr1bZsjDFksnm5XIUKe/hfEYWa zb9VfXgGojqZdYru9OzonO3E6zri8H0e5sjvTDQmMDr30sBMUE88zszuyU2UFcKENrE9 0hL5/ijEaMmi/g93EuXnH3zBKYAfX4518P/cI= X-Google-DKIM-Signature: v=1; a=rsa-sha256; c=relaxed/relaxed; d=1e100.net; s=20230601; t=1761714371; x=1762319171; h=references:in-reply-to:cc:to:from:subject:message-id:date :x-gm-message-state:from:to:cc:subject:date:message-id:reply-to; bh=m52xPAyjtdBaGEfX+iRWYOkYvvDmxsbIZLCC8iVUCJM=; b=Wd9Anm1yTev8cTXAxGRuZuhKTTZm6hJess/ww6VBeekxAE6Cwde7m2bKKomkAhbfZh FfCFy2lIVF36Vu6ljh7Rr7KF851dqE8oE+UGJMsoJTfLqW3ZTAgEHq8H8GF3Hm3guJwi b5YAv5csOKJVVrDMYWxyptM1PFVfFbnnSVJQMQqrhbJPfZO5wi3VmN4DSF+Vd9/40dlH p4wBteThS9+63/UgzP96gVbVfwD6uGAGL8gTdj62xSft1GNqG1asYxsppld/cAuhJeZE ilFTTLiwOgQ1oi6DdVtQMookdhBHM8aevQma6sE0HYgk9ELtA3EkNS+7aRd2VRANX7E1 c2gw== X-Gm-Message-State: AOJu0YyowEG8pc6tnf2JFqmKqombu3sGwLdwgQDmxsVLGbV4xpg4/VgE vj9CdjppcPcZFXbGIpnAvu/i1fPLgjak9dmr3iFDVkMAt6lfMy4MOKJEzuftH7EHIZDPpDRrO2l qYlbOwZwJKQA/plmrJPKB8pBHmb03hSWgbxE0xWBhASx+mLStVwRiQ8rLH1V+ X-Gm-Gg: ASbGncu9ND1zx/wgdWGEkJa3JNKY87q/m8X6vnotGHzqWHK6VLm9peQcpOPNL6KfXt6 RMk+uKhTByBvhpfK31749JJOZfmwaaOuChlhs4+TiGLxhF5ThU4hY53CZGUqhe3/vVdsdPgb1b0 neXLoVzkx/uLWjxSbhEiL++e50phIHQ62Kf+faZjmdYInc82koEzXlEYrZf/FilsPVf+S2pqql3 E0RCwtenVO/0MTEHSSu17NBBp73Isyc94D/39eDPWyfPVcGdImxSctpOqJon4ogNJfJBpIIbGdY igZcSHTBBxYA7Sq0OWBc3RG8t9RwKlNlA2nyqG7K1EXwAjEpMN9mLgKeGS6uuDIeFt91IlUxCNq 46PG1Bp9C X-Google-Smtp-Source: AGHT+IHwgJyo60hH74mELNH6Hk02t8Gop9sLNF05eMxTsPHmSUwaG8IgkOyNkNVx3/qs7fDANL12spxYZUk2 X-Received: by 2002:a17:903:38c8:b0:283:c950:a76f with SMTP id d9443c01a7336-294deedcf4emr24028255ad.43.1761714371183; Tue, 28 Oct 2025 22:06:11 -0700 (PDT) Received: from postal.iol.unh.edu (postal.iol.unh.edu. [2606:4100:3880:1234::84]) by smtp-relay.gmail.com with ESMTPS id d9443c01a7336-29498cf306asm12864555ad.6.2025.10.28.22.06.11 (version=TLS1_2 cipher=ECDHE-ECDSA-AES128-GCM-SHA256 bits=128/128); Tue, 28 Oct 2025 22:06:11 -0700 (PDT) X-Relaying-Domain: iol.unh.edu Date: Tue, 28 Oct 2025 22:06:11 -0700 (PDT) Message-ID: <6901a0c3.170a0220.2a2fd.d4c2SMTPIN_ADDED_MISSING@mx.google.com> Received: from [172.21.0.2] (unknown [172.18.0.240]) by postal.iol.unh.edu (Postfix) with ESMTP id 4D3906051830; Wed, 29 Oct 2025 01:06:10 -0400 (EDT) Subject: |SUCCESS| pw158188 [PATCH] vhost: fix external buffer in VDUSE From: dpdklab@iol.unh.edu To: Test Report Cc: dpdk-test-reports@iol.unh.edu, Chenbo Xia , Maxime Coquelin In-Reply-To: <20251028123453.4127525-1-david.marchand@redhat.com> References: <20251028123453.4127525-1-david.marchand@redhat.com> Content-Type: text/plain X-BeenThere: test-report@dpdk.org X-Mailman-Version: 2.1.29 Precedence: list List-Id: automatic DPDK test reports List-Unsubscribe: , List-Archive: List-Post: List-Help: List-Subscribe: , Errors-To: test-report-bounces@dpdk.org Test-Label: iol-unit-arm64-testing Test-Status: SUCCESS http://dpdk.org/patch/158188 _Testing PASS_ Submitter: David Marchand Date: Tuesday, October 28 2025 12:34:53 DPDK git baseline: Repo:dpdk-next-virtio Branch: master CommitID:a62b0fbf8e367c88d28d78210db1b28c8eac4b1b 158188 --> testing pass Upstream job id: Generic-Unit-Test-DPDK#386201 Test environment and result as below: +------------------------------+----------------+------------------------------+---------------------------+--------------+ | Environment | dpdk_unit_test | cryptodev_sw_snow3g_autotest | cryptodev_sw_zuc_autotest | lpm_autotest | +==============================+================+==============================+===========================+==============+ | CentOS Stream 9 | PASS | SKIPPED | SKIPPED | SKIPPED | +------------------------------+----------------+------------------------------+---------------------------+--------------+ | CentOS Stream 10 | PASS | SKIPPED | SKIPPED | SKIPPED | +------------------------------+----------------+------------------------------+---------------------------+--------------+ | Debian GNU/Linux 12 | PASS | SKIPPED | SKIPPED | SKIPPED | +------------------------------+----------------+------------------------------+---------------------------+--------------+ | Fedora Linux 40 | PASS | SKIPPED | SKIPPED | SKIPPED | +------------------------------+----------------+------------------------------+---------------------------+--------------+ | Fedora Linux 41 | PASS | SKIPPED | SKIPPED | SKIPPED | +------------------------------+----------------+------------------------------+---------------------------+--------------+ | Fedora Linux 42 | PASS | SKIPPED | SKIPPED | SKIPPED | +------------------------------+----------------+------------------------------+---------------------------+--------------+ | Ubuntu 24.04 | PASS | SKIPPED | SKIPPED | SKIPPED | +------------------------------+----------------+------------------------------+---------------------------+--------------+ | Ubuntu 22.04 | PASS | SKIPPED | SKIPPED | SKIPPED | +------------------------------+----------------+------------------------------+---------------------------+--------------+ | Red Hat Enterprise Linux 9.5 | PASS | SKIPPED | SKIPPED | SKIPPED | +------------------------------+----------------+------------------------------+---------------------------+--------------+ | Ubuntu 20.04 | PASS | SKIPPED | SKIPPED | PASS | +------------------------------+----------------+------------------------------+---------------------------+--------------+ | Debian 12 (arm) | SKIPPED | PASS | PASS | SKIPPED | +------------------------------+----------------+------------------------------+---------------------------+--------------+ CentOS Stream 9 Kernel: 5.4 Compiler: gcc gcc (GCC) 11.5.0 20240719 (Red Hat 11.5.0-11) CentOS Stream 10 Kernel: 5.4 Compiler: gcc gcc (GCC) 14.2.1 20250110 (Red Hat 14.2.1-8) Debian GNU/Linux 12 Kernel: 5.4 Compiler: gcc gcc (Debian 12.2.0-14+deb12u1) 12.2.0 Fedora Linux 40 Kernel: 5.4 Compiler: gcc gcc (GCC) 14.2.1 20240912 (Red Hat 14.2.1-3) Fedora Linux 41 Kernel: 5.4 Compiler: gcc gcc (GCC) 14.3.1 20250523 (Red Hat 14.3.1-1) Fedora Linux 42 Kernel: 5.4 Compiler: clang gcc (GCC) 15.2.1 20250808 (Red Hat 15.2.1-1) Ubuntu 24.04 Kernel: 5.4 Compiler: gcc gcc (Ubuntu 13.3.0-6ubuntu2~24.04) 13.3.0 Ubuntu 22.04 Kernel: 5.4 Compiler: gcc gcc (Ubuntu 11.4.0-1ubuntu1~22.04) 11.4.0 Red Hat Enterprise Linux 9.5 Kernel: 5.4 Compiler: gcc gcc (GCC) 11.5.0 20240719 (Red Hat 11.5.0-2) Ubuntu 20.04 Kernel: 5.4 Compiler: gcc gcc (Ubuntu 9.4.0-1ubuntu1~20.04.2) 9.4.0 Debian 12 (arm) Kernel: Depends on container host Compiler: gcc (Debian 12.2.0-14) 12.2.0 To view detailed results, visit: https://lab.dpdk.org/results/dashboard/patchsets/34402/ UNH-IOL DPDK Community Lab To manage your email subscriptions, visit: https://lab.dpdk.org/results/dashboard/preferences/subscriptions/