From mboxrd@z Thu Jan 1 00:00:00 1970 Return-Path: Received: from mails.dpdk.org (mails.dpdk.org [217.70.189.124]) by inbox.dpdk.org (Postfix) with ESMTP id D12FB48A23 for ; Wed, 29 Oct 2025 06:51:25 +0100 (CET) Received: from mails.dpdk.org (localhost [127.0.0.1]) by mails.dpdk.org (Postfix) with ESMTP id B841640281; Wed, 29 Oct 2025 06:51:25 +0100 (CET) Received: from mail-yw1-f228.google.com (mail-yw1-f228.google.com [209.85.128.228]) by mails.dpdk.org (Postfix) with ESMTP id 4EBCD40281 for ; Wed, 29 Oct 2025 06:51:24 +0100 (CET) Received: by mail-yw1-f228.google.com with SMTP id 00721157ae682-7849c889ac8so11528387b3.0 for ; Tue, 28 Oct 2025 22:51:24 -0700 (PDT) DKIM-Signature: v=1; a=rsa-sha256; c=relaxed/relaxed; d=iol.unh.edu; s=unh-iol; t=1761717083; x=1762321883; darn=dpdk.org; h=cc:to:from:subject:message-id:date:from:to:cc:subject:date :message-id:reply-to; bh=pjQfA+dfnCswwku2fd/CCxxPm3gsxLQvv/ZA8rbz6kw=; b=V64KiKR2oSh/fDwcbkVP4N3CYRbUH2S47DAO8n8KEZkSmji7Z4ryhDzfkOeSQUwUsM /sFD4ao/Wx58decIdF2W+Wvu6wnc0EwTWNrh2ZBEkYomxYs2ao4aFZ2v6AScFLnaACo7 sQiOzSseKfJlkwKPeycl1CyUKt4yTXyaCx0lE= X-Google-DKIM-Signature: v=1; a=rsa-sha256; c=relaxed/relaxed; d=1e100.net; s=20230601; t=1761717083; x=1762321883; h=cc:to:from:subject:message-id:date:x-gm-message-state:from:to:cc :subject:date:message-id:reply-to; bh=pjQfA+dfnCswwku2fd/CCxxPm3gsxLQvv/ZA8rbz6kw=; b=UAEecoKcxbzUtnHhSd58o59q1cwhna4+GDDEfZS/4GOiEVAzztXPO8ZkPNPxLtIsdr oIrCaSn3BXkYIu37dcVVvI6rQUw7PTeuRzWbxxq9ZqdVwnY1PBR+dMkE8lSdsyB71q20 UqLqb7tZ/PM9MdnXMySRmK/W5dUhS94tzSng0QUs/8PEv2TCmJLVeD2riCTTIYNb3JRT FSR09rOi8hfx0X3AIak4jTi8Jmp6uTi/uh1RCEESxf5koBAFHvLouaDV90EXOvtzcp7z sfhSkWCiWc8G3AjFl+9iB+77wqxnPnh2nvf/MnjBJe0zGYu6lPGLeag+yP9p00TL7/hH cQGw== X-Gm-Message-State: AOJu0YyIZ0+Y54fzr7HHR41lKMgjW45rx2wU1JA2xqLdW7ZYdM0JLiX9 Vpf0u0z38uzH6j3bY9Wc/YOmMAo4pwrwrUymFyHCsGthhImizT6ZeqEyAw3qvWou9gMX1OiQXrQ /U0BToMkrBCzPQ5Z3VVs/jBEYXqo00+FeQmwYBDRGT1MLgHEJYucr X-Gm-Gg: ASbGncvleZPZwPWSxhrtfidaWOFxWys6ZHaLLw+Ge03YBxb6H3Lwstz6LLuyqSTAKw2 zG1CJb8qFx20Aj2DWC2J6pTCWCzMsl5yFVwqtXROyAW2AB2cU5qCkWrAioFuPxu4weYIP0kZaML /+2l7uutNiY4P56EBOHrkBJv8M+we1P0jR4amhfH505ltXAH5venTDMXWQ2UNko/oL4jDTVnbbu 34NtKyTneLZYThVneZTa80Fl0wH5UDJuw6u938lr+OOM0CZPNnWhxjpKNnBtwYmyoR+fenEpwrE UOzHr1e3ItHwE9gHp9/kTgqr93QHrckc6nypbMlBYEr9PfyiQ1HzyKVZfY4kwNALV2cjMUQuNZ4 /wK044GMw X-Google-Smtp-Source: AGHT+IFOfiY2VN0Dv6qlXghaj+JZkmamU3UvsBnGk5n/QCZSLJR4MWBNHTT+Of5+eEkhaiBTZ2vWkoQf/6aE X-Received: by 2002:a05:690c:67c9:b0:77e:5ccb:989c with SMTP id 00721157ae682-78628f4eaabmr16800657b3.11.1761717083670; Tue, 28 Oct 2025 22:51:23 -0700 (PDT) Received: from postal.iol.unh.edu (postal.iol.unh.edu. [2606:4100:3880:1234::84]) by smtp-relay.gmail.com with ESMTPS id 00721157ae682-785ed1d0f72sm9988227b3.24.2025.10.28.22.51.23 (version=TLS1_2 cipher=ECDHE-ECDSA-AES128-GCM-SHA256 bits=128/128); Tue, 28 Oct 2025 22:51:23 -0700 (PDT) X-Relaying-Domain: iol.unh.edu Date: Tue, 28 Oct 2025 22:51:23 -0700 (PDT) Message-ID: <6901ab5b.050a0220.258e75.fb53SMTPIN_ADDED_MISSING@mx.google.com> Received: from [172.21.0.2] (unknown [172.18.0.240]) by postal.iol.unh.edu (Postfix) with ESMTP id 16E546051830; Wed, 29 Oct 2025 01:51:23 -0400 (EDT) Subject: |SUCCESS| [GIT MASTER] 3b43ce3f4a54468e7ef65760c2fd7b4d6ee6d9fc From: dpdklab@iol.unh.edu To: Test Report Cc: dpdk-test-reports@iol.unh.edu, Xueming Li , Christian Ehrhardt , Kevin Traynor , Luca Boccassi Content-Type: text/plain X-BeenThere: test-report@dpdk.org X-Mailman-Version: 2.1.29 Precedence: list List-Id: automatic DPDK test reports List-Unsubscribe: , List-Archive: List-Post: List-Help: List-Subscribe: , Errors-To: test-report-bounces@dpdk.org _Testing PASS_ Branch: tags/v22.11 3b43ce3f4a54468e7ef65760c2fd7b4d6ee6d9fc --> testing pass Upstream job id: Generic-DPDK-Compile-Meson#438875 Test environment and result as below: +-------------------------------+--------------------+-------------------------+----------------------+ | Environment | dpdk_meson_compile | dpdk_llvm_clang_compile | dpdk_mingw64_compile | +===============================+====================+=========================+======================+ | CentOS Stream 9 | PASS | SKIPPED | SKIPPED | +-------------------------------+--------------------+-------------------------+----------------------+ | CentOS Stream 10 | PASS | SKIPPED | SKIPPED | +-------------------------------+--------------------+-------------------------+----------------------+ | Debian GNU/Linux 12 | PASS | SKIPPED | SKIPPED | +-------------------------------+--------------------+-------------------------+----------------------+ | Fedora Linux 42 | PASS | SKIPPED | SKIPPED | +-------------------------------+--------------------+-------------------------+----------------------+ | openSUSE Leap 15.6 | PASS | SKIPPED | SKIPPED | +-------------------------------+--------------------+-------------------------+----------------------+ | Ubuntu 20.04 | PASS | SKIPPED | SKIPPED | +-------------------------------+--------------------+-------------------------+----------------------+ | Red Hat Enterprise Linux 8.10 | PASS | SKIPPED | SKIPPED | +-------------------------------+--------------------+-------------------------+----------------------+ | Red Hat Enterprise Linux 9.5 | PASS | SKIPPED | SKIPPED | +-------------------------------+--------------------+-------------------------+----------------------+ | Ubuntu 22.04 | PASS | SKIPPED | SKIPPED | +-------------------------------+--------------------+-------------------------+----------------------+ | FreeBSD 14.2 | PASS | SKIPPED | SKIPPED | +-------------------------------+--------------------+-------------------------+----------------------+ | Ubuntu 24.04 | PASS | SKIPPED | SKIPPED | +-------------------------------+--------------------+-------------------------+----------------------+ | Windows Server 2022 | SKIPPED | PASS | PASS | +-------------------------------+--------------------+-------------------------+----------------------+ CentOS Stream 9 Kernel: 5.15 Compiler: gcc gcc (GCC) 11.5.0 20240719 (Red Hat 11.5.0-11) CentOS Stream 10 Kernel: 5.15 Compiler: gcc gcc (GCC) 14.2.1 20250110 (Red Hat 14.2.1-8) Debian GNU/Linux 12 Kernel: 5.15 Compiler: gcc gcc (Debian 12.2.0-14+deb12u1) 12.2.0 Fedora Linux 42 Kernel: 5.15 Compiler: clang gcc (GCC) 15.2.1 20250808 (Red Hat 15.2.1-1) openSUSE Leap 15.6 Kernel: 5.15 Compiler: gcc gcc (SUSE Linux) 7.5.0 Ubuntu 20.04 Kernel: 4.19 Compiler: gcc gcc (Ubuntu 9.4.0-1ubuntu1~20.04.2) 9.4.0 Red Hat Enterprise Linux 8.10 Kernel: 5.15 Compiler: gcc gcc (GCC) 8.5.0 20210514 (Red Hat 8.5.0-22) Red Hat Enterprise Linux 9.5 Kernel: 5.15 Compiler: gcc gcc (GCC) 11.5.0 20240719 (Red Hat 11.5.0-2) Ubuntu 22.04 Kernel: 5.15 Compiler: gcc gcc (Ubuntu 11.4.0-1ubuntu1~22.04) 11.4.0 FreeBSD 14.2 Kernel: 14.2-RELEASE Compiler: clang 18.1.6 Ubuntu 24.04 Kernel: 5.15 Compiler: gcc gcc (Ubuntu 13.3.0-6ubuntu2~24.04) 13.3.0 Windows Server 2022 Kernel: 10.0.20348.2031 Compiler: clang 15.0.7, gcc 14.1.0 (MinGW), and MSVC VS 19.39.33521 To view detailed results, visit: https://lab.dpdk.org/results/dashboard/tarballs/35383/ UNH-IOL DPDK Community Lab To manage your email subscriptions, visit: https://lab.dpdk.org/results/dashboard/preferences/subscriptions/