From mboxrd@z Thu Jan 1 00:00:00 1970 Return-Path: Received: from mails.dpdk.org (mails.dpdk.org [217.70.189.124]) by inbox.dpdk.org (Postfix) with ESMTP id 258EE48A23 for ; Wed, 29 Oct 2025 07:04:41 +0100 (CET) Received: from mails.dpdk.org (localhost [127.0.0.1]) by mails.dpdk.org (Postfix) with ESMTP id 042B140281; Wed, 29 Oct 2025 07:04:41 +0100 (CET) Received: from mail-qk1-f228.google.com (mail-qk1-f228.google.com [209.85.222.228]) by mails.dpdk.org (Postfix) with ESMTP id 592FA40281 for ; Wed, 29 Oct 2025 07:04:39 +0100 (CET) Received: by mail-qk1-f228.google.com with SMTP id af79cd13be357-7f04816589bso751681485a.3 for ; Tue, 28 Oct 2025 23:04:39 -0700 (PDT) DKIM-Signature: v=1; a=rsa-sha256; c=relaxed/relaxed; d=iol.unh.edu; s=unh-iol; t=1761717878; x=1762322678; darn=dpdk.org; h=references:in-reply-to:cc:to:from:subject:message-id:date:from:to :cc:subject:date:message-id:reply-to; bh=ySiSeERq6XMSL0Aichu51/l8BT5IZ2mXPrKjT/JPgRA=; b=Vc8Q2SRjXR0+P9Wep6DaFKryrAv2XAip+F6P3HGhHkmauwl8vYqdEFa/DBnmVuCTxE Q7S725o+uO9EaTt7JKfE+QGvC6B7YMf9vVaWj5kOlmdB4Rrbrv5Ah+wrHWWBHt4sN6/3 sflMw+xxWf3LOrvB6Km/ulziFBD0tjo5PNBxE= X-Google-DKIM-Signature: v=1; a=rsa-sha256; c=relaxed/relaxed; d=1e100.net; s=20230601; t=1761717878; x=1762322678; h=references:in-reply-to:cc:to:from:subject:message-id:date :x-gm-message-state:from:to:cc:subject:date:message-id:reply-to; bh=ySiSeERq6XMSL0Aichu51/l8BT5IZ2mXPrKjT/JPgRA=; b=QpPTwnUvpPLeB8WtpOwIcqZKNTC6bic0+kSxrltJXhn92K+vuubL1+lKHUsItel0IV 9IwiIEbwCHjAW4YrhD1dbsRILu85juxBF8qQ6KWBY65m+sFATOzJT4dnEpHUgkK//HIi oSQ6l0B45a6vw4Wf3e5u5YxFF9kGd+snMQ132QzJ1V0tk7/pXYGLLoX8UW7A1XlExzAb 4qGBiyAN5ev0QiX2D0fA9XF9/KtBRGywEVWl2dZWL7a1Dwev0bEQhxz6EzlJiwa/GD/d O3t+VGFagXV0w9+oec8QKyZgcz6f0FPa6/UqqS9q08cgeDm3N6vULrjXTL2xaBY+5HiK OGow== X-Gm-Message-State: AOJu0YynzVhH+34TmDwxYKuQVTR6WMwElhiPkR6ff4np/vmiSuTIcPHD kSnGaeFuWsjmIZ7CB3NThh5Ntug55ud/Cq1IXddxyKrse3TV5vosakalx8P3nqr2hbT28JgsbK1 lRqGOD7VFSFGLrdfxu+TNLNxs7jBhBQ5/uAwiNsxwTYN7DJ/fwTHyYdueTsBQ X-Gm-Gg: ASbGncumwayx5CwA2v9gf6+Grd7oF1VHo4oCizD7XrIljFwjoy+hWedwGyFAiBMv/UB aV+C6tugpGDYKyYa0okR7CvQydq0bI5CrzRLKs/YHNzT5sw3MP91IjuoP5cngseqRmdH2c+IzQm FmQcA3KpkSrmyhld7Zb3I+ETV5V1dc/1/rp1H00LROeQEmmW3rMetBem89NzCbhMIU1fNeogtj3 8oKiaELgg28JN87UCZsU3/6zwEzWBu3bc+NPn6YDfpsl86fLUzOzR2msDgTPpXM2KCfWuOJdB8e 8sHB+vGZUocbCM+rtGjPFDUKLZwtwA0rrfJYtXBtVB/f29HVwsbWLqcjt3R4T1pBnDF378SOH6v jaRS5nLAi X-Google-Smtp-Source: AGHT+IHHjFfiBRYDMmfmdiXyh3DkBnq8iRcgIb9JswnzlgfHDx3+pGXx02JJMJ4BmXS85hB7JBVNPzKHlVJj X-Received: by 2002:a05:620a:4005:b0:88e:9874:8257 with SMTP id af79cd13be357-8a8e8f4b1c3mr249163085a.9.1761717878619; Tue, 28 Oct 2025 23:04:38 -0700 (PDT) Received: from postal.iol.unh.edu (postal.iol.unh.edu. [2606:4100:3880:1234::84]) by smtp-relay.gmail.com with ESMTPS id af79cd13be357-89f2460a26fsm93933985a.6.2025.10.28.23.04.38 (version=TLS1_2 cipher=ECDHE-ECDSA-AES128-GCM-SHA256 bits=128/128); Tue, 28 Oct 2025 23:04:38 -0700 (PDT) X-Relaying-Domain: iol.unh.edu Date: Tue, 28 Oct 2025 23:04:38 -0700 (PDT) Message-ID: <6901ae76.050a0220.25d072.bfd8SMTPIN_ADDED_MISSING@mx.google.com> Received: from [172.21.0.2] (unknown [172.18.0.240]) by postal.iol.unh.edu (Postfix) with ESMTP id 524F06051830; Wed, 29 Oct 2025 02:04:38 -0400 (EDT) Subject: |SUCCESS| pw158189 [PATCH] doc: fix doxygen errors with v1.15.0 From: dpdklab@iol.unh.edu To: Test Report Cc: dpdk-test-reports@iol.unh.edu In-Reply-To: <20251028141159.177727-1-jerinj@marvell.com> References: <20251028141159.177727-1-jerinj@marvell.com> Content-Type: text/plain X-BeenThere: test-report@dpdk.org X-Mailman-Version: 2.1.29 Precedence: list List-Id: automatic DPDK test reports List-Unsubscribe: , List-Archive: List-Post: List-Help: List-Subscribe: , Errors-To: test-report-bounces@dpdk.org Test-Label: iol-unit-arm64-testing Test-Status: SUCCESS http://dpdk.org/patch/158189 _Testing PASS_ Submitter: Jerin Jacob Date: Tuesday, October 28 2025 14:11:59 DPDK git baseline: Repo:dpdk Branch: master CommitID:39b54f2dcf44ad1f91eabc7080cd5dea763607fd 158189 --> testing pass Upstream job id: Generic-Unit-Test-DPDK#386219 Test environment and result as below: +------------------------------+----------------+---------------------------+--------------+------------------------------+ | Environment | dpdk_unit_test | cryptodev_sw_zuc_autotest | lpm_autotest | cryptodev_sw_snow3g_autotest | +==============================+================+===========================+==============+==============================+ | CentOS Stream 9 | PASS | SKIPPED | SKIPPED | SKIPPED | +------------------------------+----------------+---------------------------+--------------+------------------------------+ | CentOS Stream 10 | PASS | SKIPPED | SKIPPED | SKIPPED | +------------------------------+----------------+---------------------------+--------------+------------------------------+ | Fedora Linux 40 | PASS | SKIPPED | SKIPPED | SKIPPED | +------------------------------+----------------+---------------------------+--------------+------------------------------+ | Debian GNU/Linux 12 | PASS | SKIPPED | SKIPPED | SKIPPED | +------------------------------+----------------+---------------------------+--------------+------------------------------+ | Ubuntu 22.04 | PASS | SKIPPED | SKIPPED | SKIPPED | +------------------------------+----------------+---------------------------+--------------+------------------------------+ | Fedora Linux 41 | PASS | SKIPPED | SKIPPED | SKIPPED | +------------------------------+----------------+---------------------------+--------------+------------------------------+ | Fedora Linux 42 | PASS | SKIPPED | SKIPPED | SKIPPED | +------------------------------+----------------+---------------------------+--------------+------------------------------+ | Red Hat Enterprise Linux 9.5 | PASS | SKIPPED | SKIPPED | SKIPPED | +------------------------------+----------------+---------------------------+--------------+------------------------------+ | Ubuntu 20.04 | PASS | SKIPPED | PASS | SKIPPED | +------------------------------+----------------+---------------------------+--------------+------------------------------+ | Ubuntu 24.04 | PASS | SKIPPED | SKIPPED | SKIPPED | +------------------------------+----------------+---------------------------+--------------+------------------------------+ | Debian 12 (arm) | SKIPPED | PASS | SKIPPED | PASS | +------------------------------+----------------+---------------------------+--------------+------------------------------+ CentOS Stream 9 Kernel: 5.4 Compiler: gcc gcc (GCC) 11.5.0 20240719 (Red Hat 11.5.0-11) CentOS Stream 10 Kernel: 5.4 Compiler: gcc gcc (GCC) 14.2.1 20250110 (Red Hat 14.2.1-8) Fedora Linux 40 Kernel: 5.4 Compiler: gcc gcc (GCC) 14.2.1 20240912 (Red Hat 14.2.1-3) Debian GNU/Linux 12 Kernel: 5.4 Compiler: gcc gcc (Debian 12.2.0-14+deb12u1) 12.2.0 Ubuntu 22.04 Kernel: 5.15 Compiler: gcc gcc (Ubuntu 11.4.0-1ubuntu1~22.04.2) 11.4.0 Fedora Linux 41 Kernel: 5.4 Compiler: gcc gcc (GCC) 14.3.1 20250523 (Red Hat 14.3.1-1) Fedora Linux 42 Kernel: 5.4 Compiler: clang gcc (GCC) 15.2.1 20250808 (Red Hat 15.2.1-1) Red Hat Enterprise Linux 9.5 Kernel: 5.4 Compiler: gcc gcc (GCC) 11.5.0 20240719 (Red Hat 11.5.0-2) Ubuntu 20.04 Kernel: 5.4 Compiler: gcc gcc (Ubuntu 9.4.0-1ubuntu1~20.04.2) 9.4.0 Ubuntu 24.04 Kernel: 5.4 Compiler: gcc gcc (Ubuntu 13.3.0-6ubuntu2~24.04) 13.3.0 Debian 12 (arm) Kernel: Depends on container host Compiler: gcc (Debian 12.2.0-14) 12.2.0 To view detailed results, visit: https://lab.dpdk.org/results/dashboard/patchsets/34403/ UNH-IOL DPDK Community Lab To manage your email subscriptions, visit: https://lab.dpdk.org/results/dashboard/preferences/subscriptions/