From mboxrd@z Thu Jan 1 00:00:00 1970 Return-Path: Received: from mails.dpdk.org (mails.dpdk.org [217.70.189.124]) by inbox.dpdk.org (Postfix) with ESMTP id B801548A23 for ; Wed, 29 Oct 2025 07:12:09 +0100 (CET) Received: from mails.dpdk.org (localhost [127.0.0.1]) by mails.dpdk.org (Postfix) with ESMTP id B23A740281; Wed, 29 Oct 2025 07:12:09 +0100 (CET) Received: from mail-il1-f227.google.com (mail-il1-f227.google.com [209.85.166.227]) by mails.dpdk.org (Postfix) with ESMTP id 770AF40281 for ; Wed, 29 Oct 2025 07:12:08 +0100 (CET) Received: by mail-il1-f227.google.com with SMTP id e9e14a558f8ab-430d7638d27so67486285ab.3 for ; Tue, 28 Oct 2025 23:12:08 -0700 (PDT) DKIM-Signature: v=1; a=rsa-sha256; c=relaxed/relaxed; d=iol.unh.edu; s=unh-iol; t=1761718328; x=1762323128; darn=dpdk.org; h=references:in-reply-to:cc:to:from:subject:message-id:date:from:to :cc:subject:date:message-id:reply-to; bh=O+mBsyntgrhyDoj83+fO03y+MxUjwxM0aE8yZMmJmmg=; b=fNZHG9dMBCf7K1qq78Jg5zQWU6Ye5rYsqi9AZrlqQG2DAkgrsU6j/kp4pHd5ORetrQ wpfv4M5FRkX/MGY9s5WKOmdWrFVnXsCm8GUnlvEEiNbdj1aEG34Cs5NxfcqgbBp8NLrV 9FXUs/U1KckbH2wCYNkT1NthevGGO6hGzQtXo= X-Google-DKIM-Signature: v=1; a=rsa-sha256; c=relaxed/relaxed; d=1e100.net; s=20230601; t=1761718328; x=1762323128; h=references:in-reply-to:cc:to:from:subject:message-id:date :x-gm-message-state:from:to:cc:subject:date:message-id:reply-to; bh=O+mBsyntgrhyDoj83+fO03y+MxUjwxM0aE8yZMmJmmg=; b=Rvq1IzKftS/TZA6qNgz2wrUCqq1zgqKbgsEZizJeLmTKj4F0cI+32WdoE4pqFzZW1I gK3TH5Ayry1P/3CXF/EW1A+JTtdd80ayCCTy8eCgS2N1gW/8IKrxMf5CE8q8zUpt34cJ AltoKKRYMSI++KEmforsq+jxKvNZeZv619bd0FSbsdNZwWgDrSlCoTJuwNQ8NfHRX9wn V2OJdBz9lsgsrMoS+UdzgIH7+cZ52aBi/QQkD8PslT7GJjU6SWyTyb18/IZnZIAk2AY2 eE80FVthgr4X+G7SweTvvFMXbes76f0Z/G3Jj42kKhkgUeJghccBTjsBN+B9/PmvEIqq tu9A== X-Gm-Message-State: AOJu0Yy/0chC5XbW05ccTEIZ1OGNKJqDoq9fHzZZcZc3RXophMwd+b1y E/BGm/LkvkOOVaITZ+40rm1JlrWdDPGPCKh3U13x9Mzql164hNoY55UiOD6wu7K/OZOvnMj79NJ K5+JaiUWFl5JQhB/VEqtERCsRxJ1XqxO+0g/2Ba5fhlVX X-Gm-Gg: ASbGnctjdoGQX2ptoXQBlOrbSFeo+W+vXFkzwEVYelHrdqilaTlSeCIAXMXGrp58YEW SMB4WR7I9ZDvQjsQ4rzAkBolQcpTZXiNNAlyMjrNH7u4rjORMLbZg7JJw4wCO7DHGnd+KfxLI3n s0NOU5u5koKSe+3WlWMpstujTw/suTGRUr9TvUl820oePZ4V7ETfSqI8vNlqMyjHiayJvDEXaBx SujWqSzhQkVZAU5o9MBRHwrkmj7bGQmI3f9NJ7tVkqGOydKU0iBh60X7ewJXlJ0ZYMaBFnRvnpR Sl89g70IKmSASfv+sxuvtDuy3NAkiH3A/Zvewmx5TjSAFpT31MzQUI5xPIFjKfV3BBVyFtskZ+3 kAdDnMNwWXzS0qvAPiZ9dt8thQuQod+I= X-Google-Smtp-Source: AGHT+IEnILPWQTz6+VnGhTcjtWZgcX9IOrwrC0WPIyEmKIJKPAIsFS4EleADCXXae4KMG+M6LiqnhBTdTU+5 X-Received: by 2002:a92:c245:0:b0:431:d9d9:de1f with SMTP id e9e14a558f8ab-432f8f81b13mr24370985ab.2.1761718327786; Tue, 28 Oct 2025 23:12:07 -0700 (PDT) Received: from postal.iol.unh.edu (postal.iol.unh.edu. [132.177.123.84]) by smtp-relay.gmail.com with ESMTPS id 8926c6da1cb9f-5aea9e33387sm1008143173.31.2025.10.28.23.12.07 (version=TLS1_2 cipher=ECDHE-ECDSA-AES128-GCM-SHA256 bits=128/128); Tue, 28 Oct 2025 23:12:07 -0700 (PDT) X-Relaying-Domain: iol.unh.edu Date: Tue, 28 Oct 2025 23:12:07 -0700 (PDT) Message-ID: <6901b037.050a0220.1d7db8.f0e6SMTPIN_ADDED_MISSING@mx.google.com> Received: from [172.21.0.2] (unknown [172.18.0.240]) by postal.iol.unh.edu (Postfix) with ESMTP id 4C5006051830; Wed, 29 Oct 2025 02:12:07 -0400 (EDT) Subject: |SUCCESS| pw158208 [PATCH] [v2] config/arm: add HiSilicon HIP12 From: dpdklab@iol.unh.edu To: Test Report Cc: dpdk-test-reports@iol.unh.edu In-Reply-To: <20251029011626.9298-1-fengchengwen@huawei.com> References: <20251029011626.9298-1-fengchengwen@huawei.com> Content-Type: text/plain X-BeenThere: test-report@dpdk.org X-Mailman-Version: 2.1.29 Precedence: list List-Id: automatic DPDK test reports List-Unsubscribe: , List-Archive: List-Post: List-Help: List-Subscribe: , Errors-To: test-report-bounces@dpdk.org Test-Label: iol-compile-arm64-testing Test-Status: SUCCESS http://dpdk.org/patch/158208 _Testing PASS_ Submitter: fengchengwen Date: Wednesday, October 29 2025 01:16:26 DPDK git baseline: Repo:dpdk Branch: master CommitID:39b54f2dcf44ad1f91eabc7080cd5dea763607fd 158208 --> testing pass Upstream job id: Generic-DPDK-Compile-Meson#438835 Test environment and result as below: +------------------------------+--------------------+ | Environment | dpdk_meson_compile | +==============================+====================+ | Ubuntu 20.04 | PASS | +------------------------------+--------------------+ | Red Hat Enterprise Linux 9.5 | PASS | +------------------------------+--------------------+ | Debian GNU/Linux 12 | PASS | +------------------------------+--------------------+ | Fedora Linux 42 | PASS | +------------------------------+--------------------+ | Ubuntu 22.04 | PASS | +------------------------------+--------------------+ | CentOS Stream 10 | PASS | +------------------------------+--------------------+ | Ubuntu 24.04 | PASS | +------------------------------+--------------------+ | CentOS Stream 9 | PASS | +------------------------------+--------------------+ Ubuntu 20.04 Kernel: 5.15 Compiler: aarch64-linux-gnu-gcc gcc (Ubuntu 9.4.0-1ubuntu1~20.04.2) 9.4.0 Red Hat Enterprise Linux 9.5 Kernel: 5.4 Compiler: gcc gcc (GCC) 11.5.0 20240719 (Red Hat 11.5.0-2) Debian GNU/Linux 12 Kernel: 5.4 Compiler: gcc gcc (Debian 12.2.0-14+deb12u1) 12.2.0 Fedora Linux 42 Kernel: 5.4 Compiler: gcc gcc (GCC) 15.2.1 20250808 (Red Hat 15.2.1-1) Ubuntu 22.04 Kernel: 5.4 Compiler: gcc gcc (Ubuntu 11.4.0-1ubuntu1~22.04) 11.4.0 CentOS Stream 10 Kernel: 5.4 Compiler: gcc gcc (GCC) 14.2.1 20250110 (Red Hat 14.2.1-8) Ubuntu 24.04 Kernel: 5.4 Compiler: gcc gcc (Ubuntu 13.3.0-6ubuntu2~24.04) 13.3.0 CentOS Stream 9 Kernel: 5.4 Compiler: gcc gcc (GCC) 11.5.0 20240719 (Red Hat 11.5.0-11) To view detailed results, visit: https://lab.dpdk.org/results/dashboard/patchsets/34411/ UNH-IOL DPDK Community Lab To manage your email subscriptions, visit: https://lab.dpdk.org/results/dashboard/preferences/subscriptions/