From mboxrd@z Thu Jan 1 00:00:00 1970 Return-Path: Received: from mails.dpdk.org (mails.dpdk.org [217.70.189.124]) by inbox.dpdk.org (Postfix) with ESMTP id DDA8348A23 for ; Wed, 29 Oct 2025 07:13:29 +0100 (CET) Received: from mails.dpdk.org (localhost [127.0.0.1]) by mails.dpdk.org (Postfix) with ESMTP id D773140281; Wed, 29 Oct 2025 07:13:29 +0100 (CET) Received: from mail-il1-f227.google.com (mail-il1-f227.google.com [209.85.166.227]) by mails.dpdk.org (Postfix) with ESMTP id 0B3D340281 for ; Wed, 29 Oct 2025 07:13:28 +0100 (CET) Received: by mail-il1-f227.google.com with SMTP id e9e14a558f8ab-430d098121cso30268045ab.0 for ; Tue, 28 Oct 2025 23:13:27 -0700 (PDT) DKIM-Signature: v=1; a=rsa-sha256; c=relaxed/relaxed; d=iol.unh.edu; s=unh-iol; t=1761718407; x=1762323207; darn=dpdk.org; h=cc:to:from:subject:message-id:date:from:to:cc:subject:date :message-id:reply-to; bh=7R115cBt9skyg6PQWNF0UYi2YqFsQQV2xhdnUqs1Ks4=; b=U3jnbVD7iisL5sRxeN0R3nYF6VRbCGDWG24ADYZPt3I47u4zswUbAIkz/d91fwho30 ID5NeAWicezA/3oqGRX5LF2M50XbM/MI/1wErlzValIlj/pLrFcFPsm606eKIoqOJRTm ZE18amcv4EvvOx/u2L9+/BMzQ01hGtSg36n8E= X-Google-DKIM-Signature: v=1; a=rsa-sha256; c=relaxed/relaxed; d=1e100.net; s=20230601; t=1761718407; x=1762323207; h=cc:to:from:subject:message-id:date:x-gm-message-state:from:to:cc :subject:date:message-id:reply-to; bh=7R115cBt9skyg6PQWNF0UYi2YqFsQQV2xhdnUqs1Ks4=; b=weIwbXcu6NZ9fWFD+IO69feLUY4Tslxbwv1hZhahnc9ufv4CbBNYcPqeZMMleInIHV 5vvdtTT0Y0HpXsEUDeWpIK/nShKn/Fed5Kuk4ReEmr0jijAbltHEY1oKCI8rOhpLPLdg dnPHyr1lo59SPLj4f79nuW6QB0ueJMCU03svhaSpGA9tG4fMMiiRlJKNZd2Y9xgmxpqH 0ai/zdvv9tmBTgcL4RcuOMqiOzLpH7oPkkm2/C+qg4pY18x3dMspmrqP8GOu3xcn1Qrk /SaLs0znUwfbTzn8DQDXnGiQSLPASPTY/SElcjdbmD6qpiO6vBVss4/vafLNQZIsQvUy vm9g== X-Gm-Message-State: AOJu0YwxDw/qX9tfK3cV4Leoyhwjg+NFqV3c+dJXSu3jU2SuXAazcZQC I3fWjFViOx2y7dx5IlxzsQmHgDRiMMpPG4La6R8e6EQZHoB7G0yPzTi5tXvP6Y2IUDzTmHdnPOx vzjNUXGYhrucLBJlGml9IbySs1x0QNBdmtMyh X-Gm-Gg: ASbGncsRprZ6D0DSZ2Jza2RFdkHuJrEi8oaFq4KG214iBIkXr55rRMaQSRKfpstGNWJ +hCsP0NpMLxogwUmxouSkqgRf0lDIdIEvo+lZwARPAqaBnc27cjNJg3ZBAj9gzeGvs05Z6AOJnd cQBLkoV4QEWgHiwLyvcgdJG9DIPY6a537mRcsVXlJsPZI8eG2hQLG9Y9/C6q+aafEsMnZkd/IqC Mkp7SlBga2B1hkS4yDxU6Pup72DsAasmDwVNOzjFUBWUlsG1hcbitvYwxLia/YAde7GvXxBUbQQ PuibvVpIHDjsvVWoFf6Etso/YjbcZDXL8B2SojVZycBLyBcSOFDkoD7a2twgyxAC6uA33nB8Kg1 xJdFJdpCWh9vgao5bONcF9YP5HePnSdU= X-Google-Smtp-Source: AGHT+IG12NG2cFAS59QqTXveYMkLfsbhAoTXBzfPGdTmw+uCPD6wsgf+2Y2CzglGG1YLxIZjzzxcLqeQ8ODy X-Received: by 2002:a05:6e02:340e:b0:430:adfa:e4f6 with SMTP id e9e14a558f8ab-432f902864dmr23317375ab.20.1761718407356; Tue, 28 Oct 2025 23:13:27 -0700 (PDT) Received: from postal.iol.unh.edu (postal.iol.unh.edu. [132.177.123.84]) by smtp-relay.gmail.com with ESMTPS id e9e14a558f8ab-431f67f8e32sm12310875ab.12.2025.10.28.23.13.27 (version=TLS1_2 cipher=ECDHE-ECDSA-AES128-GCM-SHA256 bits=128/128); Tue, 28 Oct 2025 23:13:27 -0700 (PDT) X-Relaying-Domain: iol.unh.edu Date: Tue, 28 Oct 2025 23:13:27 -0700 (PDT) Message-ID: <6901b087.050a0220.2fde47.99e6SMTPIN_ADDED_MISSING@mx.google.com> Received: from [172.21.0.3] (unknown [172.18.0.240]) by postal.iol.unh.edu (Postfix) with ESMTP id B19D16051830; Wed, 29 Oct 2025 02:13:26 -0400 (EDT) Subject: |SUCCESS| [GIT MASTER] b287e404643aeab5bb5db084c142789df187844e From: dpdklab@iol.unh.edu To: Test Report Cc: dpdk-test-reports@iol.unh.edu, Xueming Li , Christian Ehrhardt , Kevin Traynor , Luca Boccassi Content-Type: text/plain X-BeenThere: test-report@dpdk.org X-Mailman-Version: 2.1.29 Precedence: list List-Id: automatic DPDK test reports List-Unsubscribe: , List-Archive: List-Post: List-Help: List-Subscribe: , Errors-To: test-report-bounces@dpdk.org _Testing PASS_ Branch: tags/v24.11 b287e404643aeab5bb5db084c142789df187844e --> testing pass Upstream job id: Generic-DPDK-Compile-Meson#438940 Test environment and result as below: +-------------------------------+--------------------+-------------------+------------------+-------------------+-------------------------+----------------------+ | Environment | dpdk_meson_compile | dpdk_compile_spdk | dpdk_compile_ovs | dpdk_msvc_compile | dpdk_llvm_clang_compile | dpdk_mingw64_compile | +===============================+====================+===================+==================+===================+=========================+======================+ | Ubuntu 20.04 | PASS | SKIPPED | SKIPPED | SKIPPED | SKIPPED | SKIPPED | +-------------------------------+--------------------+-------------------+------------------+-------------------+-------------------------+----------------------+ | CentOS Stream 9 | PASS | PASS | SKIPPED | SKIPPED | SKIPPED | SKIPPED | +-------------------------------+--------------------+-------------------+------------------+-------------------+-------------------------+----------------------+ | CentOS Stream 10 | PASS | SKIPPED | SKIPPED | SKIPPED | SKIPPED | SKIPPED | +-------------------------------+--------------------+-------------------+------------------+-------------------+-------------------------+----------------------+ | Fedora Linux 42 | PASS | PASS | PASS | SKIPPED | SKIPPED | SKIPPED | +-------------------------------+--------------------+-------------------+------------------+-------------------+-------------------------+----------------------+ | Debian GNU/Linux 12 | PASS | PASS | SKIPPED | SKIPPED | SKIPPED | SKIPPED | +-------------------------------+--------------------+-------------------+------------------+-------------------+-------------------------+----------------------+ | openSUSE Leap 15.6 | PASS | SKIPPED | SKIPPED | SKIPPED | SKIPPED | SKIPPED | +-------------------------------+--------------------+-------------------+------------------+-------------------+-------------------------+----------------------+ | Red Hat Enterprise Linux 9.5 | PASS | SKIPPED | SKIPPED | SKIPPED | SKIPPED | SKIPPED | +-------------------------------+--------------------+-------------------+------------------+-------------------+-------------------------+----------------------+ | Red Hat Enterprise Linux 8.10 | PASS | SKIPPED | SKIPPED | SKIPPED | SKIPPED | SKIPPED | +-------------------------------+--------------------+-------------------+------------------+-------------------+-------------------------+----------------------+ | FreeBSD 14.2 | PASS | SKIPPED | SKIPPED | SKIPPED | SKIPPED | SKIPPED | +-------------------------------+--------------------+-------------------+------------------+-------------------+-------------------------+----------------------+ | Ubuntu 22.04 | PASS | PASS | SKIPPED | SKIPPED | SKIPPED | SKIPPED | +-------------------------------+--------------------+-------------------+------------------+-------------------+-------------------------+----------------------+ | Ubuntu 24.04 | PASS | PASS | PASS | SKIPPED | SKIPPED | SKIPPED | +-------------------------------+--------------------+-------------------+------------------+-------------------+-------------------------+----------------------+ | Alpine Linux 3.22.0 | PASS | SKIPPED | SKIPPED | SKIPPED | SKIPPED | SKIPPED | +-------------------------------+--------------------+-------------------+------------------+-------------------+-------------------------+----------------------+ | Windows Server 2022 | SKIPPED | SKIPPED | SKIPPED | PASS | PASS | PASS | +-------------------------------+--------------------+-------------------+------------------+-------------------+-------------------------+----------------------+ Ubuntu 20.04 Kernel: 4.19 Compiler: gcc gcc (Ubuntu 9.4.0-1ubuntu1~20.04.2) 9.4.0 CentOS Stream 9 Kernel: 5.15 Compiler: gcc gcc (GCC) 11.5.0 20240719 (Red Hat 11.5.0-11) CentOS Stream 10 Kernel: 5.15 Compiler: gcc gcc (GCC) 14.2.1 20250110 (Red Hat 14.2.1-8) Fedora Linux 42 Kernel: 5.15 Compiler: gcc gcc (GCC) 15.2.1 20250808 (Red Hat 15.2.1-1) Debian GNU/Linux 12 Kernel: 5.15 Compiler: gcc gcc (Debian 12.2.0-14+deb12u1) 12.2.0 openSUSE Leap 15.6 Kernel: 5.15 Compiler: gcc gcc (SUSE Linux) 7.5.0 Red Hat Enterprise Linux 9.5 Kernel: 5.15 Compiler: gcc gcc (GCC) 11.5.0 20240719 (Red Hat 11.5.0-2) Red Hat Enterprise Linux 8.10 Kernel: 5.15 Compiler: gcc gcc (GCC) 8.5.0 20210514 (Red Hat 8.5.0-22) FreeBSD 14.2 Kernel: 14.2-RELEASE Compiler: clang 18.1.6 Ubuntu 22.04 Kernel: 5.15 Compiler: gcc gcc (Ubuntu 11.4.0-1ubuntu1~22.04) 11.4.0 Ubuntu 24.04 Kernel: 5.15 Compiler: gcc gcc (Ubuntu 13.3.0-6ubuntu2~24.04) 13.3.0 Alpine Linux 3.22.0 Kernel: 5.15 Compiler: gcc gcc (Alpine 14.2.0) 14.2.0 Windows Server 2022 Kernel: 10.0.20348.2031 Compiler: clang 15.0.7, gcc 14.1.0 (MinGW), and MSVC VS 19.39.33521 To view detailed results, visit: https://lab.dpdk.org/results/dashboard/tarballs/35385/ UNH-IOL DPDK Community Lab To manage your email subscriptions, visit: https://lab.dpdk.org/results/dashboard/preferences/subscriptions/