From mboxrd@z Thu Jan 1 00:00:00 1970 Return-Path: Received: from mails.dpdk.org (mails.dpdk.org [217.70.189.124]) by inbox.dpdk.org (Postfix) with ESMTP id 7264B48A23 for ; Wed, 29 Oct 2025 07:26:30 +0100 (CET) Received: from mails.dpdk.org (localhost [127.0.0.1]) by mails.dpdk.org (Postfix) with ESMTP id 6C72040288; Wed, 29 Oct 2025 07:26:30 +0100 (CET) Received: from mail-io1-f97.google.com (mail-io1-f97.google.com [209.85.166.97]) by mails.dpdk.org (Postfix) with ESMTP id 2A0F340288 for ; Wed, 29 Oct 2025 07:26:29 +0100 (CET) Received: by mail-io1-f97.google.com with SMTP id ca18e2360f4ac-940d9772e28so282405739f.2 for ; Tue, 28 Oct 2025 23:26:29 -0700 (PDT) DKIM-Signature: v=1; a=rsa-sha256; c=relaxed/relaxed; d=iol.unh.edu; s=unh-iol; t=1761719188; x=1762323988; darn=dpdk.org; h=cc:to:from:subject:message-id:date:from:to:cc:subject:date :message-id:reply-to; bh=aHlLWfw9cT522YKQ/Vu3JsxCZUFgS1C9JTvj5Y9SV4g=; b=OcmOsvLIzUJRATr/wwK5rU25D2KBRybt3EbI/nptkdMJee3B+oyAdRfh7aRUDP6mJH 5eiP+7LBJJ0DnmpvRS0FkuQ3sTZtS7n1uBlLKV/ULtFxGkmW1zr8PgMyJRO5O4SOlvjs PasUQuY2q6t1p1ZQCKXMmSwreH0j+l+5NSyXs= X-Google-DKIM-Signature: v=1; a=rsa-sha256; c=relaxed/relaxed; d=1e100.net; s=20230601; t=1761719188; x=1762323988; h=cc:to:from:subject:message-id:date:x-gm-message-state:from:to:cc :subject:date:message-id:reply-to; bh=aHlLWfw9cT522YKQ/Vu3JsxCZUFgS1C9JTvj5Y9SV4g=; b=CNY+tuWFn2I+JfUt+qw0fIO9eNfJsAZYD1v6Mq5vYe0VbPwBhc3Aik6Ok5Vqn4XxfJ Qo5M6g2u+TlnCUV5zHU8i7zKaukCAtd5cT/lkxTa0ByViKrAFXeihai+Up5OKcoSaOMM ea+kQpnzJig5lKlx3AjPVBfxI2KV1Z5H9sTKS1Svr7XjRkedrV8wZ8ylq84qgQ4xRSBb oMgks+5UQ3GvuTSJ7Ri1eqlY9EYMAPOpOThYi/4LhKgpOSpp8D+jjtWjUh61BHeqFL90 s6nehLE3A/2usH9KJAc5d24khjkGXPdGFA1fJBeB7Pw6dnBJzWVqNGBvSnE/hq4xF82f F+QQ== X-Gm-Message-State: AOJu0YzOswUENpjpEdMOW+QMqlG4YJYQUSQ5U5k5ZjUjD7BKcG6jbyMM 00QY3FnuT/1aoLJqm6RlZX2pxx7OGQ8bh8T1JzJ3Tm4ebTfBTbrYACcvbcu9Kw38SMrNNQXzTls z0NdDD3uv5dJM+8iO8fmdYzDSGHR2cQrWhEZ4 X-Gm-Gg: ASbGnctDeMBc3qgr/xBMZvog74aSC4Om+RGVUgddIVWSG7NziEEHt2i6CDgWU0drrJB QsousUhty/RcLDWi/Jk0cej/m2oI5zL0e71wuyqSHd2X+9BiPOJ5kH7ZP7FCa70k3gTBj51/Sgw ydZsd5hfCC83iBS7HPKUSU5lwMkrD1RYqAYQNRQ49ISJ4wIYFWSs5ycpeX37ZdgOBsTXEZ06c8V dadA4SVcXbx5DvNPaNk1EIdALpgZB5uGDUZy/AoMwXjVIXrZApZT18DYgvt/L0q5exk1R4y/FaV r9pe75nYZmeWZpoyWaVckziP8hu71GUrQZlumotr0UR36kW13Xo/ELalapcYXGvLBpOTFRSAUWK Dfv/5++1f5LblUR5/UwGT9XTY5WRl4xo= X-Google-Smtp-Source: AGHT+IH6JOCpPI44l19smaRWjUp3/I+4esIkvG0HRzkQCqfn/jyRELoLegdrKp5A0PPuTtWvgHZTwFzCqcdf X-Received: by 2002:a05:6602:4746:b0:945:ac8e:fcb9 with SMTP id ca18e2360f4ac-945c9842cc1mr246725739f.17.1761719188489; Tue, 28 Oct 2025 23:26:28 -0700 (PDT) Received: from postal.iol.unh.edu (postal.iol.unh.edu. [132.177.123.84]) by smtp-relay.gmail.com with ESMTPS id 8926c6da1cb9f-5aea9e33579sm981733173.33.2025.10.28.23.26.28 (version=TLS1_2 cipher=ECDHE-ECDSA-AES128-GCM-SHA256 bits=128/128); Tue, 28 Oct 2025 23:26:28 -0700 (PDT) X-Relaying-Domain: iol.unh.edu Date: Tue, 28 Oct 2025 23:26:28 -0700 (PDT) Message-ID: <6901b394.050a0220.144a8c.de3eSMTPIN_ADDED_MISSING@mx.google.com> Received: from [172.21.0.3] (unknown [172.18.0.240]) by postal.iol.unh.edu (Postfix) with ESMTP id 01A386051830; Wed, 29 Oct 2025 02:26:27 -0400 (EDT) Subject: |SUCCESS| [GIT MASTER] b287e404643aeab5bb5db084c142789df187844e From: dpdklab@iol.unh.edu To: Test Report Cc: dpdk-test-reports@iol.unh.edu, Xueming Li , Christian Ehrhardt , Kevin Traynor , Luca Boccassi Content-Type: text/plain X-BeenThere: test-report@dpdk.org X-Mailman-Version: 2.1.29 Precedence: list List-Id: automatic DPDK test reports List-Unsubscribe: , List-Archive: List-Post: List-Help: List-Subscribe: , Errors-To: test-report-bounces@dpdk.org _Testing PASS_ Branch: tags/v24.11 b287e404643aeab5bb5db084c142789df187844e --> testing pass Upstream job id: Generic-Unit-Test-DPDK#386573 Test environment and result as below: +-------------------------------+----------------+ | Environment | dpdk_unit_test | +===============================+================+ | CentOS Stream 10 | PASS | +-------------------------------+----------------+ | CentOS Stream 9 | PASS | +-------------------------------+----------------+ | Debian GNU/Linux 12 | PASS | +-------------------------------+----------------+ | Fedora Linux 40 | PASS | +-------------------------------+----------------+ | Fedora Linux 41 | PASS | +-------------------------------+----------------+ | Fedora Linux 42 | PASS | +-------------------------------+----------------+ | Red Hat Enterprise Linux 8.10 | PASS | +-------------------------------+----------------+ | Ubuntu 24.04 | PASS | +-------------------------------+----------------+ | Ubuntu 22.04 | PASS | +-------------------------------+----------------+ | Red Hat Enterprise Linux 9.5 | PASS | +-------------------------------+----------------+ | Ubuntu 20.04 | PASS | +-------------------------------+----------------+ | Windows Server 2022 | PASS | +-------------------------------+----------------+ CentOS Stream 10 Kernel: 5.15 Compiler: gcc gcc (GCC) 14.2.1 20250110 (Red Hat 14.2.1-8) CentOS Stream 9 Kernel: 5.15 Compiler: gcc gcc (GCC) 11.5.0 20240719 (Red Hat 11.5.0-11) Debian GNU/Linux 12 Kernel: 5.15 Compiler: gcc gcc (Debian 12.2.0-14+deb12u1) 12.2.0 Fedora Linux 40 Kernel: 5.15 Compiler: gcc gcc (GCC) 14.2.1 20240912 (Red Hat 14.2.1-3) Fedora Linux 41 Kernel: 5.15 Compiler: gcc gcc (GCC) 14.3.1 20250523 (Red Hat 14.3.1-1) Fedora Linux 42 Kernel: 5.15 Compiler: gcc gcc (GCC) 15.2.1 20250808 (Red Hat 15.2.1-1) Red Hat Enterprise Linux 8.10 Kernel: 5.15 Compiler: gcc gcc (GCC) 8.5.0 20210514 (Red Hat 8.5.0-22) Ubuntu 24.04 Kernel: 5.15 Compiler: gcc gcc (Ubuntu 13.3.0-6ubuntu2~24.04) 13.3.0 Ubuntu 22.04 Kernel: 5.15 Compiler: gcc gcc (Ubuntu 11.4.0-1ubuntu1~22.04) 11.4.0 Red Hat Enterprise Linux 9.5 Kernel: 5.15 Compiler: gcc gcc (GCC) 11.5.0 20240719 (Red Hat 11.5.0-2) Ubuntu 20.04 Kernel: 5.15 Compiler: gcc gcc (Ubuntu 9.4.0-1ubuntu1~20.04.2) 9.4.0 Windows Server 2022 Kernel: 10.0.20348.2031 Compiler: clang 15.0.7, gcc 14.1.0 (MinGW), and MSVC VS 19.39.33521 To view detailed results, visit: https://lab.dpdk.org/results/dashboard/tarballs/35385/ UNH-IOL DPDK Community Lab To manage your email subscriptions, visit: https://lab.dpdk.org/results/dashboard/preferences/subscriptions/