From mboxrd@z Thu Jan 1 00:00:00 1970 Return-Path: Received: from mails.dpdk.org (mails.dpdk.org [217.70.189.124]) by inbox.dpdk.org (Postfix) with ESMTP id 8AABF48A23 for ; Wed, 29 Oct 2025 07:26:47 +0100 (CET) Received: from mails.dpdk.org (localhost [127.0.0.1]) by mails.dpdk.org (Postfix) with ESMTP id 84B88402EE; Wed, 29 Oct 2025 07:26:47 +0100 (CET) Received: from mail-pg1-f228.google.com (mail-pg1-f228.google.com [209.85.215.228]) by mails.dpdk.org (Postfix) with ESMTP id 12AD840288 for ; Wed, 29 Oct 2025 07:26:35 +0100 (CET) Received: by mail-pg1-f228.google.com with SMTP id 41be03b00d2f7-b6ceb3b68eeso5189984a12.2 for ; Tue, 28 Oct 2025 23:26:34 -0700 (PDT) DKIM-Signature: v=1; a=rsa-sha256; c=relaxed/relaxed; d=iol.unh.edu; s=unh-iol; t=1761719194; x=1762323994; darn=dpdk.org; h=cc:to:from:subject:message-id:date:from:to:cc:subject:date :message-id:reply-to; bh=36TToCHeo69QKJb7Wgt/DiepPzGYacH52Kkj0VaJbG8=; b=G+I8oJQxqF5v/DO8uU4rVgbF6XnE5vIoQsB4GFGwYFTYW/6A3NAkmMProR6odYZd+p lg57e+7M7opgOId44Ts1F5VA4dB5Vk4yziGk9ugTO5LbAVMzo92LkS9IC0oqgtvEx+PR W4R8HtzK6+6qBZh/t9oCNc78jazFyAU/lmTW4= X-Google-DKIM-Signature: v=1; a=rsa-sha256; c=relaxed/relaxed; d=1e100.net; s=20230601; t=1761719194; x=1762323994; h=cc:to:from:subject:message-id:date:x-gm-message-state:from:to:cc :subject:date:message-id:reply-to; bh=36TToCHeo69QKJb7Wgt/DiepPzGYacH52Kkj0VaJbG8=; b=sXAJS6WaXYXHvK1JRqvMJ6Q/i10MnxczQD5j7U2S4ihwWleuVKdgeT2S0U2k632ntK zidiuaOFCM2gVeQ8c3lIn70WciIgobe8NYSrcwIO2dJKdmaeFfywnPCqXgA5or9PtTDf sZtTccgXgFt86roSnUc2ArhHu0C9SLCaakDQRSUUGIS79V6hNx0z6x2cS3v1sEshLPIV Htk5xb1RWIp5FxGnKhvJQYpT3oEIJCemL4jV7HMDnAtJP8p3xOof8UyfjQSXZT0qgjbZ zIWs8ScoNV7oSS3MA36V31z/fBjbFsp1+t9IPUCo56G67t5DQcaom0ZHAMGlw9BG89D3 /uIQ== X-Gm-Message-State: AOJu0YzEUDhRi/y0LTRRxKJ/OrSHdJrALTLoJzH2ViaC2+ztBoytDbnN 4qma20SordTwnTMUOpTJnDNBAXyFaIRdK4v4Sj9gntCVj/8rvm9ox/FBCXhlSlaUiY86PElT61l FYiRbL6dPjHBnU0g8G06Zd+xkaDYawfPWEEQZ X-Gm-Gg: ASbGncs6rOgZob5VbRj5JQK62+McuWnGQQgaLi50h15gaJ5rdGybVz/FAmLTktc1bBk DKfdohRrpYr02THabLe0Gk7/HXebCOjdwVku9n5Hg8ianAH8KQyPvItrNXBRVztnkO2xD8ze3RS 49trSjAwZvwydFbbEWE3XDGJgWFCsiKgDhkLVSLlXFYPEJtKSn5tRfoIjtpSWqqgvEgaKURzbaQ cG73tWzRj0iGcrpbm/vw0mogehyZqBC2Ixr5oDFkLgHweJKEzqACgLrsiivvIWfBN6GZYq++Pfs C5WYTSZf/5yosc7qbWYUJzCCfPY0dxWYyvld9u/Ozw24FMCZtizYelLGjgfjcD480Z08sCsV+lm Rqw18qwbeMAi84Fe0fPPQcM/055u66g4= X-Google-Smtp-Source: AGHT+IHZndkaLtRqaLsIWcZNaimuDaFJxeC3IxbwkCC7Hxjo/ENrmYwnN9Ax4YWY7AsKpWvg9K+CCetm1Znk X-Received: by 2002:a17:902:d2c6:b0:290:56e7:8ca9 with SMTP id d9443c01a7336-294deefb65dmr21236075ad.52.1761719194241; Tue, 28 Oct 2025 23:26:34 -0700 (PDT) Received: from postal.iol.unh.edu (postal.iol.unh.edu. [132.177.123.84]) by smtp-relay.gmail.com with ESMTPS id d9443c01a7336-29498cf30b4sm12256045ad.12.2025.10.28.23.26.34 (version=TLS1_2 cipher=ECDHE-ECDSA-AES128-GCM-SHA256 bits=128/128); Tue, 28 Oct 2025 23:26:34 -0700 (PDT) X-Relaying-Domain: iol.unh.edu Date: Tue, 28 Oct 2025 23:26:34 -0700 (PDT) Message-ID: <6901b39a.170a0220.39c8a9.9020SMTPIN_ADDED_MISSING@mx.google.com> Received: from [172.21.0.2] (unknown [172.18.0.240]) by postal.iol.unh.edu (Postfix) with ESMTP id 669DE6051830; Wed, 29 Oct 2025 02:26:33 -0400 (EDT) Subject: |SUCCESS| [GIT MASTER] b287e404643aeab5bb5db084c142789df187844e From: dpdklab@iol.unh.edu To: Test Report Cc: dpdk-test-reports@iol.unh.edu, Xueming Li , Christian Ehrhardt , Kevin Traynor , Luca Boccassi Content-Type: text/plain X-BeenThere: test-report@dpdk.org X-Mailman-Version: 2.1.29 Precedence: list List-Id: automatic DPDK test reports List-Unsubscribe: , List-Archive: List-Post: List-Help: List-Subscribe: , Errors-To: test-report-bounces@dpdk.org _Testing PASS_ Branch: tags/v24.11 b287e404643aeab5bb5db084c142789df187844e --> testing pass Upstream job id: Generic-Unit-Test-DPDK#386576 Test environment and result as below: +-------------------------------+----------------+ | Environment | dpdk_unit_test | +===============================+================+ | CentOS Stream 10 | PASS | +-------------------------------+----------------+ | CentOS Stream 9 | PASS | +-------------------------------+----------------+ | Debian GNU/Linux 12 | PASS | +-------------------------------+----------------+ | Fedora Linux 40 | PASS | +-------------------------------+----------------+ | Fedora Linux 41 | PASS | +-------------------------------+----------------+ | Fedora Linux 42 | PASS | +-------------------------------+----------------+ | Red Hat Enterprise Linux 8.10 | PASS | +-------------------------------+----------------+ | Ubuntu 24.04 | PASS | +-------------------------------+----------------+ | Ubuntu 22.04 | PASS | +-------------------------------+----------------+ | Red Hat Enterprise Linux 9.5 | PASS | +-------------------------------+----------------+ | Ubuntu 20.04 | PASS | +-------------------------------+----------------+ | Windows Server 2022 | PASS | +-------------------------------+----------------+ CentOS Stream 10 Kernel: 5.15 Compiler: gcc gcc (GCC) 14.2.1 20250110 (Red Hat 14.2.1-8) CentOS Stream 9 Kernel: 5.15 Compiler: gcc gcc (GCC) 11.5.0 20240719 (Red Hat 11.5.0-11) Debian GNU/Linux 12 Kernel: 5.15 Compiler: gcc gcc (Debian 12.2.0-14+deb12u1) 12.2.0 Fedora Linux 40 Kernel: 5.15 Compiler: gcc gcc (GCC) 14.2.1 20240912 (Red Hat 14.2.1-3) Fedora Linux 41 Kernel: 5.15 Compiler: gcc gcc (GCC) 14.3.1 20250523 (Red Hat 14.3.1-1) Fedora Linux 42 Kernel: 5.15 Compiler: gcc gcc (GCC) 15.2.1 20250808 (Red Hat 15.2.1-1) Red Hat Enterprise Linux 8.10 Kernel: 5.15 Compiler: gcc gcc (GCC) 8.5.0 20210514 (Red Hat 8.5.0-22) Ubuntu 24.04 Kernel: 5.15 Compiler: gcc gcc (Ubuntu 13.3.0-6ubuntu2~24.04) 13.3.0 Ubuntu 22.04 Kernel: 5.15 Compiler: gcc gcc (Ubuntu 11.4.0-1ubuntu1~22.04) 11.4.0 Red Hat Enterprise Linux 9.5 Kernel: 5.15 Compiler: gcc gcc (GCC) 11.5.0 20240719 (Red Hat 11.5.0-2) Ubuntu 20.04 Kernel: 5.15 Compiler: gcc gcc (Ubuntu 9.4.0-1ubuntu1~20.04.2) 9.4.0 Windows Server 2022 Kernel: 10.0.20348.2031 Compiler: clang 15.0.7, gcc 14.1.0 (MinGW), and MSVC VS 19.39.33521 To view detailed results, visit: https://lab.dpdk.org/results/dashboard/tarballs/35385/ UNH-IOL DPDK Community Lab To manage your email subscriptions, visit: https://lab.dpdk.org/results/dashboard/preferences/subscriptions/