From mboxrd@z Thu Jan 1 00:00:00 1970 Return-Path: Received: from mails.dpdk.org (mails.dpdk.org [217.70.189.124]) by inbox.dpdk.org (Postfix) with ESMTP id 5B2DE48A25 for ; Wed, 29 Oct 2025 07:45:33 +0100 (CET) Received: from mails.dpdk.org (localhost [127.0.0.1]) by mails.dpdk.org (Postfix) with ESMTP id 390E640281; Wed, 29 Oct 2025 07:45:33 +0100 (CET) Received: from mail-yx1-f97.google.com (mail-yx1-f97.google.com [74.125.224.97]) by mails.dpdk.org (Postfix) with ESMTP id CFAC140281 for ; Wed, 29 Oct 2025 07:45:31 +0100 (CET) Received: by mail-yx1-f97.google.com with SMTP id 956f58d0204a3-63e393c49f1so7646098d50.0 for ; Tue, 28 Oct 2025 23:45:31 -0700 (PDT) DKIM-Signature: v=1; a=rsa-sha256; c=relaxed/relaxed; d=iol.unh.edu; s=unh-iol; t=1761720331; x=1762325131; darn=dpdk.org; h=references:in-reply-to:cc:to:from:subject:message-id:date:from:to :cc:subject:date:message-id:reply-to; bh=COPz4axq1CV2mFePwHxccFVngCUlTZTlkMzWGV1RNMc=; b=XVFdXEHROMBkwUIYQjQorynTv/3gf6b4RJmNgCr2sW3rDoTGqY5HZ1eeB0kgyr+9gz NH9Tf2++NYxbK1S24aqkoZSszNak1jnE6Mjw9DQQG1yZKFWMBVuAb4SbkMbaypYaWpmt c+jzYY1V9+i87EcSGDrCcfJqN2HE6P4DI+yQc= X-Google-DKIM-Signature: v=1; a=rsa-sha256; c=relaxed/relaxed; d=1e100.net; s=20230601; t=1761720331; x=1762325131; h=references:in-reply-to:cc:to:from:subject:message-id:date :x-gm-message-state:from:to:cc:subject:date:message-id:reply-to; bh=COPz4axq1CV2mFePwHxccFVngCUlTZTlkMzWGV1RNMc=; b=hSkhJqcmegeJpxWyfH6Zca+bgqXtq58cVRQWIYrRLX8mYPZ0VBPEoGOhqJNGmoYlvG wd8hFhNolGmsOQKBSYdFNrGIUj49c9Sb3uGdHr1lOt+MWEcX2YGDzpJa/V5OcMsDH/Fw WrhcYb+Lb5eABoH8RltWV9/Kvubt7OXvfPDyCZVA/ohhDYYWwuNnVFnLuBqac+b0IUlc 2yEA/58kit7VXbqTNvsdySaWiuazjudmxM0ZgJWuquK9EVUK+TNKchafH5Rg1IItka0H hYDdCA0X6GwlWbPLbsDZEwmDSDaYsJYrOtWtm7TGMLfIt9HnHrYHJT0atA9H+Z/5uPPl /gJw== X-Gm-Message-State: AOJu0YyzB7omC1tYGbmdhB6ras2zegDp2khIKra+RJYfmWGALEU5aFvG K+QUf6WKHXOUjhVUwwsZpyPI8vPLBWqLyTD1yTTBUz2QdP++eu1ilo/WbAYaECs5FHALuIX8DAF bz1Af3M84CJUA4QVF2YbyAnW7hb8R+9g4BbzkWkO/nPnsM5PnL/9x8UG8Qhhg X-Gm-Gg: ASbGncsy0baEuhKCxirLFoiopkH8G+SUedhNg+YtSDIxMfZpXTMKwaCEiPMq9UC7eCo BDJ1BLYcqJuYFsrLfkbFSlHEE0aerAAVBrnudYFJjgHYZxFCzpZFfJBLt3tvVDExHwxboQph7SU CtyQ8z4D8Po+OPBRBQ1Z7eq1I0rAA7QAEt+RLyAoCGx0U73zbpvePLNJVwxptYT4QXs5WkB/KND QLJUZnZfNgKOUawJks9PegS0yIJ1AnnY8anMTCW5Q2svQU5t0meni814fAoE2vs0xiFH0GAmMNQ tC8vYItoqkVKi1wjhRof2H8upOGgpWj8E0yxqW71/UBl6r4+f/t/Yq7yc+odTbG3iMUVyMm5qUZ ed/ATOmD7 X-Google-Smtp-Source: AGHT+IH6PEsZ/LCxuCnkijQfX8aBCFfg4Bwpb39o2EodXbMKmwBJzFP19ip+LWPabke/xQ9mHr2dkNzFTVYj X-Received: by 2002:a05:690e:1598:10b0:63e:2906:e7f7 with SMTP id 956f58d0204a3-63f76d28609mr1438401d50.8.1761720331111; Tue, 28 Oct 2025 23:45:31 -0700 (PDT) Received: from postal.iol.unh.edu (postal.iol.unh.edu. [2606:4100:3880:1234::84]) by smtp-relay.gmail.com with ESMTPS id 956f58d0204a3-63f4c3d26a3sm1084783d50.6.2025.10.28.23.45.31 (version=TLS1_2 cipher=ECDHE-ECDSA-AES128-GCM-SHA256 bits=128/128); Tue, 28 Oct 2025 23:45:31 -0700 (PDT) X-Relaying-Domain: iol.unh.edu Date: Tue, 28 Oct 2025 23:45:31 -0700 (PDT) Message-ID: <6901b80b.530a0220.36b8ca.6d6bSMTPIN_ADDED_MISSING@mx.google.com> Received: from [172.21.0.2] (unknown [172.18.0.240]) by postal.iol.unh.edu (Postfix) with ESMTP id C2DF36051830; Wed, 29 Oct 2025 02:45:30 -0400 (EDT) Subject: |SUCCESS| pw158206 [PATCH] bitmap: change return value of rte_bitmap From: dpdklab@iol.unh.edu To: Test Report Cc: dpdk-test-reports@iol.unh.edu In-Reply-To: <20251028204432.880074-1-stephen@networkplumber.org> References: <20251028204432.880074-1-stephen@networkplumber.org> Content-Type: text/plain X-BeenThere: test-report@dpdk.org X-Mailman-Version: 2.1.29 Precedence: list List-Id: automatic DPDK test reports List-Unsubscribe: , List-Archive: List-Post: List-Help: List-Subscribe: , Errors-To: test-report-bounces@dpdk.org Test-Label: iol-compile-arm64-testing Test-Status: SUCCESS http://dpdk.org/patch/158206 _Testing PASS_ Submitter: Stephen Hemminger Date: Tuesday, October 28 2025 20:44:32 DPDK git baseline: Repo:dpdk Branch: master CommitID:39b54f2dcf44ad1f91eabc7080cd5dea763607fd 158206 --> testing pass Upstream job id: Generic-DPDK-Compile-Meson#438803 Test environment and result as below: +------------------------------+--------------------+ | Environment | dpdk_meson_compile | +==============================+====================+ | Red Hat Enterprise Linux 9.5 | PASS | +------------------------------+--------------------+ | Ubuntu 20.04 | PASS | +------------------------------+--------------------+ | Debian GNU/Linux 12 | PASS | +------------------------------+--------------------+ | Fedora Linux 42 | PASS | +------------------------------+--------------------+ | Ubuntu 22.04 | PASS | +------------------------------+--------------------+ | Ubuntu 24.04 | PASS | +------------------------------+--------------------+ | CentOS Stream 9 | PASS | +------------------------------+--------------------+ | CentOS Stream 10 | PASS | +------------------------------+--------------------+ Red Hat Enterprise Linux 9.5 Kernel: 5.4 Compiler: gcc gcc (GCC) 11.5.0 20240719 (Red Hat 11.5.0-2) Ubuntu 20.04 Kernel: 5.15 Compiler: aarch64-linux-gnu-gcc gcc (Ubuntu 9.4.0-1ubuntu1~20.04.2) 9.4.0 Debian GNU/Linux 12 Kernel: 5.4 Compiler: gcc gcc (Debian 12.2.0-14+deb12u1) 12.2.0 Fedora Linux 42 Kernel: 5.4 Compiler: gcc gcc (GCC) 15.2.1 20250808 (Red Hat 15.2.1-1) Ubuntu 22.04 Kernel: 5.4 Compiler: gcc gcc (Ubuntu 11.4.0-1ubuntu1~22.04) 11.4.0 Ubuntu 24.04 Kernel: 5.4 Compiler: gcc gcc (Ubuntu 13.3.0-6ubuntu2~24.04) 13.3.0 CentOS Stream 9 Kernel: 5.4 Compiler: gcc gcc (GCC) 11.5.0 20240719 (Red Hat 11.5.0-11) CentOS Stream 10 Kernel: 5.4 Compiler: gcc gcc (GCC) 14.2.1 20250110 (Red Hat 14.2.1-8) To view detailed results, visit: https://lab.dpdk.org/results/dashboard/patchsets/34409/ UNH-IOL DPDK Community Lab To manage your email subscriptions, visit: https://lab.dpdk.org/results/dashboard/preferences/subscriptions/