From mboxrd@z Thu Jan 1 00:00:00 1970 Return-Path: Received: from mails.dpdk.org (mails.dpdk.org [217.70.189.124]) by inbox.dpdk.org (Postfix) with ESMTP id 7A75048A15 for ; Wed, 29 Oct 2025 07:58:44 +0100 (CET) Received: from mails.dpdk.org (localhost [127.0.0.1]) by mails.dpdk.org (Postfix) with ESMTP id 75B9F40281; Wed, 29 Oct 2025 07:58:44 +0100 (CET) Received: from mail-pj1-f99.google.com (mail-pj1-f99.google.com [209.85.216.99]) by mails.dpdk.org (Postfix) with ESMTP id 4D8DA40281 for ; Wed, 29 Oct 2025 07:58:43 +0100 (CET) Received: by mail-pj1-f99.google.com with SMTP id 98e67ed59e1d1-33d896debe5so7629008a91.0 for ; Tue, 28 Oct 2025 23:58:43 -0700 (PDT) DKIM-Signature: v=1; a=rsa-sha256; c=relaxed/relaxed; d=iol.unh.edu; s=unh-iol; t=1761721122; x=1762325922; darn=dpdk.org; h=references:in-reply-to:cc:to:from:subject:message-id:date:from:to :cc:subject:date:message-id:reply-to; bh=T+oRmwbleLfFG8hkwlpxSrdReDNi7jqtgYj4+5BFrio=; b=RbHGULUm6CHagbIIjWvQ5eqYmN5XK50MKMNc9hVtRSj5AbHgYMcglSoIxHDfy0rKIT 5LYf7m7RkuTC50BL6NAU3wbPxxoqeV1pSihiw+QhlroeiMXcygNSrVqfjJ8vtgLNr9GN m24Xi+Cg2tQFfQcr6YCue9+uOe+sksj6zH9pU= X-Google-DKIM-Signature: v=1; a=rsa-sha256; c=relaxed/relaxed; d=1e100.net; s=20230601; t=1761721122; x=1762325922; h=references:in-reply-to:cc:to:from:subject:message-id:date :x-gm-message-state:from:to:cc:subject:date:message-id:reply-to; bh=T+oRmwbleLfFG8hkwlpxSrdReDNi7jqtgYj4+5BFrio=; b=bIpihnSjIEzRW4AZJHDP/C6e0KmFSYUfYN8KgPS53rp/q8p+b1df6JsYograrOE80m CYQqCOvUEZPePr5yi2Nfz6SYe+/y3NMWaDx3CmTKT2voDlwDyprq7kboElfyZ55Pw2pb tLLPBi6vXgnR4TUaxCS4SfplS/B8Dsplh9y5HZIHS3pE5Y6fB93OwiZjUHTA1TqB2Y7G Y8gfU2jIaxzqjPTQuzCGpXYwvptetRHyJAz2q15rcUxfOKymDioDspa6rO2l27s3CcZT 4OPo5/JNdwVr2P7jrU80q1Z+jDtqMvT792ZT5ccKia1OX5NC5fCKn4uSLd5kOFQZlhMZ NY0Q== X-Gm-Message-State: AOJu0Yy3rWb49iKqNIa9MHOesW5dJ6FI2lmSjAvhOjZcAkU4k2fwvitt g2Ozop6SImDtgFd/PUGmMhoQR7zl0lOwKDzuD4GMe5iAQCKInNdhpqqVKSegjTKSzFH8G4Usen6 Q8anjYO64NgENSo1QDRkOp9AY5naCQknfAeHfMXgiDkH4 X-Gm-Gg: ASbGncuLZhxeY9aS/i4gZEzbPTfYEmyWHEil37RJy08le1SW94suFDMye2FCzLDlJhM cc3EmViVPTZtzSCHdbcuGqu37w63kh1nxLoCvRZOokcGXsONTbfBumoWX8BH6e7KUFpXp7UtPUK +OypqmKVil3OEQi6YEvaewIiGEmlz5Gb+Bvig1l7vLEFj8/KxosGeTnLeP6oOejrKB5yy8LVoPv cii1rbujDxiXyR1xPyMJNEibj0ApM5IQ/XnG6Aj6xWN7aD+fcRPILFupEg/ia6Lwe+jnh/Lbwfv JDFqomrJclIxwW3wXFu56zMGGlKpOhOoiFcRFS6vHCxIq9xxVUGwv5kZuONjbmT7XvX1LiWwzBS h/sd/74BbQYLapCS+mxV1LdxLfI5TgDs= X-Google-Smtp-Source: AGHT+IFN0RKtKI9q0SRiNZWz8Wzc2lI2IbdVS7HO9k3bVt7xfxuU6DGcdgTg/0962SwlswoIK88RyrF83JjW X-Received: by 2002:a17:90b:1a85:b0:33e:2d0f:479b with SMTP id 98e67ed59e1d1-3403a141952mr2201001a91.6.1761721122284; Tue, 28 Oct 2025 23:58:42 -0700 (PDT) Received: from postal.iol.unh.edu (postal.iol.unh.edu. [132.177.123.84]) by smtp-relay.gmail.com with ESMTPS id 98e67ed59e1d1-33fed43e00asm1273256a91.0.2025.10.28.23.58.42 (version=TLS1_2 cipher=ECDHE-ECDSA-AES128-GCM-SHA256 bits=128/128); Tue, 28 Oct 2025 23:58:42 -0700 (PDT) X-Relaying-Domain: iol.unh.edu Date: Tue, 28 Oct 2025 23:58:42 -0700 (PDT) Message-ID: <6901bb22.170a0220.81d23.bab9SMTPIN_ADDED_MISSING@mx.google.com> Received: from [172.21.0.2] (unknown [172.18.0.240]) by postal.iol.unh.edu (Postfix) with ESMTP id 91DEC6051830; Wed, 29 Oct 2025 02:58:41 -0400 (EDT) Subject: |SUCCESS| pw158209-158211 [PATCH] [v2,3/3] net/r8169: fix issues rep From: dpdklab@iol.unh.edu To: Test Report Cc: dpdk-test-reports@iol.unh.edu, Stephen Hemminger In-Reply-To: <20251029020838.401035-4-howard_wang@realsil.com.cn> References: <20251029020838.401035-4-howard_wang@realsil.com.cn> Content-Type: text/plain X-BeenThere: test-report@dpdk.org X-Mailman-Version: 2.1.29 Precedence: list List-Id: automatic DPDK test reports List-Unsubscribe: , List-Archive: List-Post: List-Help: List-Subscribe: , Errors-To: test-report-bounces@dpdk.org Test-Label: iol-compile-arm64-testing Test-Status: SUCCESS http://dpdk.org/patch/158211 _Testing PASS_ Submitter: Howard Wang Date: Wednesday, October 29 2025 02:08:38 DPDK git baseline: Repo:dpdk-next-net Branch: master CommitID:977027b9ed422bd309bf761c5d360864900134f0 158209-158211 --> testing pass Upstream job id: Generic-DPDK-Compile-Meson#438862 Test environment and result as below: +------------------------------+--------------------+ | Environment | dpdk_meson_compile | +==============================+====================+ | Red Hat Enterprise Linux 9.5 | PASS | +------------------------------+--------------------+ | Debian GNU/Linux 12 | PASS | +------------------------------+--------------------+ | Ubuntu 20.04 | PASS | +------------------------------+--------------------+ | Ubuntu 24.04 | PASS | +------------------------------+--------------------+ | CentOS Stream 9 | PASS | +------------------------------+--------------------+ | Fedora Linux 42 | PASS | +------------------------------+--------------------+ | CentOS Stream 10 | PASS | +------------------------------+--------------------+ | Ubuntu 22.04 | PASS | +------------------------------+--------------------+ Red Hat Enterprise Linux 9.5 Kernel: 5.4 Compiler: gcc gcc (GCC) 11.5.0 20240719 (Red Hat 11.5.0-2) Debian GNU/Linux 12 Kernel: 5.4 Compiler: gcc gcc (Debian 12.2.0-14+deb12u1) 12.2.0 Ubuntu 20.04 Kernel: 5.15 Compiler: aarch64-linux-gnu-gcc gcc (Ubuntu 9.4.0-1ubuntu1~20.04.2) 9.4.0 Ubuntu 24.04 Kernel: 5.4 Compiler: gcc gcc (Ubuntu 13.3.0-6ubuntu2~24.04) 13.3.0 CentOS Stream 9 Kernel: 5.4 Compiler: gcc gcc (GCC) 11.5.0 20240719 (Red Hat 11.5.0-11) Fedora Linux 42 Kernel: 5.4 Compiler: clang gcc (GCC) 15.2.1 20250808 (Red Hat 15.2.1-1) CentOS Stream 10 Kernel: 5.4 Compiler: gcc gcc (GCC) 14.2.1 20250110 (Red Hat 14.2.1-8) Ubuntu 22.04 Kernel: 5.4 Compiler: gcc gcc (Ubuntu 11.4.0-1ubuntu1~22.04) 11.4.0 To view detailed results, visit: https://lab.dpdk.org/results/dashboard/patchsets/34412/ UNH-IOL DPDK Community Lab To manage your email subscriptions, visit: https://lab.dpdk.org/results/dashboard/preferences/subscriptions/