From mboxrd@z Thu Jan 1 00:00:00 1970 Return-Path: Received: from mails.dpdk.org (mails.dpdk.org [217.70.189.124]) by inbox.dpdk.org (Postfix) with ESMTP id 3062F48A24 for ; Wed, 29 Oct 2025 09:02:49 +0100 (CET) Received: from mails.dpdk.org (localhost [127.0.0.1]) by mails.dpdk.org (Postfix) with ESMTP id 0FAA440288; Wed, 29 Oct 2025 09:02:49 +0100 (CET) Received: from mail-pl1-f226.google.com (mail-pl1-f226.google.com [209.85.214.226]) by mails.dpdk.org (Postfix) with ESMTP id C42BB40288 for ; Wed, 29 Oct 2025 09:02:47 +0100 (CET) Received: by mail-pl1-f226.google.com with SMTP id d9443c01a7336-292fd52d527so70669205ad.2 for ; Wed, 29 Oct 2025 01:02:47 -0700 (PDT) DKIM-Signature: v=1; a=rsa-sha256; c=relaxed/relaxed; d=iol.unh.edu; s=unh-iol; t=1761724967; x=1762329767; darn=dpdk.org; h=cc:to:from:subject:message-id:date:from:to:cc:subject:date :message-id:reply-to; bh=aFi3/3Gvdl+XnIas+ypu8jrfqlDT4TghwYAvweMu6Yc=; b=AIRceDCYoqmzMFA/0ecR4glPHgE25sTkRYqCw6ZSTAi1CSs9C9KXEbFqtszA/4E3Ar /kKMXm7UmUqPTjN21A0mwO7mX9DocV8Vw3aZFhztdCEcgDFZ1qWyzP0FVuXXITddpUT7 a55AR5/GMTwPcGultdo4Ud/mbj3etAPy0hTx4= X-Google-DKIM-Signature: v=1; a=rsa-sha256; c=relaxed/relaxed; d=1e100.net; s=20230601; t=1761724967; x=1762329767; h=cc:to:from:subject:message-id:date:x-gm-message-state:from:to:cc :subject:date:message-id:reply-to; bh=aFi3/3Gvdl+XnIas+ypu8jrfqlDT4TghwYAvweMu6Yc=; b=NLrFJZnMAz+PA7HbJi6nTAMFgyNH0Jo3qNjar98Lvr/m1q9dmQJSoOpDdq8lH1PXFB IwiS2OxLiW4qk92KoNtm+SbTRkXUXC98FkpAQNmHvCBjyjOpnNlZ3USN0nMV9nxqTHs4 Tg0up/02ApmIdYbGdaMNzHztZw/guUaQNLBK2IYXT4aUk85FI3QrFNejQoZ4J5yccgny g9CCLa4WKslx4jXJ17LqgO7nmLifYAu+YTb7NFqM19k+QzvtQwhtzoECcf3IUi+/98iR wb4N7vLo6G1Av26KMEM2WgbT6B3vwIc1+QSlKbu0hzFgFH7DIoNUg5TrjZeL3WFy0Jk8 eMBw== X-Gm-Message-State: AOJu0YwEb5BoJZaGeIUDkjbg3mZjJXiBWKfleR6e7dZIn9kiYYJee2Cb BtcQkNVfmrmo0GQAKnM4pOrULA/xJU+41hg0O8II4TvDsW95Nvfn1nJ237ZinLTbNtdJiSJ7x2F w/EXp1DgCgRVOQwffkXanmaM/W8I97NWp/t3B X-Gm-Gg: ASbGncsGZDW+Yznjg6DtjMdGEqsT7vNOgYGEyGmcvoIUUNnQWUf/EaYIv59mb08dGMk jxSE4aH5WsIAW6a0C/xUIWeISGOnAE0/Lb2GPuvVbDGeeu63HMHRCk8AROL4oQs9SXCoE4b2MgL hUsKOOQ4tdwLy6EGyG7N++69HbygFXDqDqPx4e8EeQveAkJIoS5WoQFdJlLcvcH9aWuvu5onXWL K5bcRW7S9L7oov9+AF609LNRlf+I8l+aB777sNuiXqheMrGjxNAy/kr9UWh7LYq9M9jKlTHIO+v mqE0oZNCnvP0rcj1Yit1xzP7Tgscb4jeoJBMr+PzUxWkaZatDmkWpWS3hyiUkSWT+LmY1YFRKkt ralETqIDQjr4iZ16YPz7kIxiLcz4KjEA= X-Google-Smtp-Source: AGHT+IEUWlD9YAZvQqjdyju3qHgxuOCRgoLHMLwNV4kdkpS3ihKsg4+4cZt4i/uAhvhe1SPo9wpjjnOfch64 X-Received: by 2002:a17:903:22c5:b0:290:c317:a34e with SMTP id d9443c01a7336-294dee33a17mr23232465ad.25.1761724966771; Wed, 29 Oct 2025 01:02:46 -0700 (PDT) Received: from postal.iol.unh.edu (postal.iol.unh.edu. [132.177.123.84]) by smtp-relay.gmail.com with ESMTPS id 98e67ed59e1d1-33fed7e4894sm1193365a91.7.2025.10.29.01.02.46 (version=TLS1_2 cipher=ECDHE-ECDSA-AES128-GCM-SHA256 bits=128/128); Wed, 29 Oct 2025 01:02:46 -0700 (PDT) X-Relaying-Domain: iol.unh.edu Date: Wed, 29 Oct 2025 01:02:46 -0700 (PDT) Message-ID: <6901ca26.170a0220.343600.794bSMTPIN_ADDED_MISSING@mx.google.com> Received: from [172.21.0.2] (unknown [172.18.0.240]) by postal.iol.unh.edu (Postfix) with ESMTP id 0B67C60003E8; Wed, 29 Oct 2025 04:02:46 -0400 (EDT) Subject: |SUCCESS| [GIT MASTER] 3b43ce3f4a54468e7ef65760c2fd7b4d6ee6d9fc From: dpdklab@iol.unh.edu To: Test Report Cc: dpdk-test-reports@iol.unh.edu, Xueming Li , Christian Ehrhardt , Kevin Traynor , Luca Boccassi Content-Type: text/plain X-BeenThere: test-report@dpdk.org X-Mailman-Version: 2.1.29 Precedence: list List-Id: automatic DPDK test reports List-Unsubscribe: , List-Archive: List-Post: List-Help: List-Subscribe: , Errors-To: test-report-bounces@dpdk.org _Testing PASS_ Branch: tags/v22.11 3b43ce3f4a54468e7ef65760c2fd7b4d6ee6d9fc --> testing pass Upstream job id: Generic-DPDK-Compile-Meson#438888 Test environment and result as below: +------------------------------+--------------------+ | Environment | dpdk_meson_compile | +==============================+====================+ | Red Hat Enterprise Linux 9.5 | PASS | +------------------------------+--------------------+ | Ubuntu 20.04 | PASS | +------------------------------+--------------------+ | Debian GNU/Linux 12 | PASS | +------------------------------+--------------------+ | Fedora Linux 42 | PASS | +------------------------------+--------------------+ | Ubuntu 22.04 | PASS | +------------------------------+--------------------+ | Ubuntu 24.04 | PASS | +------------------------------+--------------------+ | CentOS Stream 9 | PASS | +------------------------------+--------------------+ | CentOS Stream 10 | PASS | +------------------------------+--------------------+ Red Hat Enterprise Linux 9.5 Kernel: 5.4 Compiler: gcc gcc (GCC) 11.5.0 20240719 (Red Hat 11.5.0-2) Ubuntu 20.04 Kernel: 5.4 Compiler: gcc gcc (Ubuntu 9.4.0-1ubuntu1~20.04.2) 9.4.0 Debian GNU/Linux 12 Kernel: 5.4 Compiler: gcc gcc (Debian 12.2.0-14+deb12u1) 12.2.0 Fedora Linux 42 Kernel: 5.4 Compiler: clang gcc (GCC) 15.2.1 20250808 (Red Hat 15.2.1-1) Ubuntu 22.04 Kernel: 5.4 Compiler: gcc gcc (Ubuntu 11.4.0-1ubuntu1~22.04) 11.4.0 Ubuntu 24.04 Kernel: 5.4 Compiler: gcc gcc (Ubuntu 13.3.0-6ubuntu2~24.04) 13.3.0 CentOS Stream 9 Kernel: 5.4 Compiler: gcc gcc (GCC) 11.5.0 20240719 (Red Hat 11.5.0-11) CentOS Stream 10 Kernel: 5.4 Compiler: gcc gcc (GCC) 14.2.1 20250110 (Red Hat 14.2.1-8) To view detailed results, visit: https://lab.dpdk.org/results/dashboard/tarballs/35383/ UNH-IOL DPDK Community Lab To manage your email subscriptions, visit: https://lab.dpdk.org/results/dashboard/preferences/subscriptions/