From mboxrd@z Thu Jan 1 00:00:00 1970 Return-Path: Received: from mails.dpdk.org (mails.dpdk.org [217.70.189.124]) by inbox.dpdk.org (Postfix) with ESMTP id F245C48A27 for ; Wed, 29 Oct 2025 09:36:56 +0100 (CET) Received: from mails.dpdk.org (localhost [127.0.0.1]) by mails.dpdk.org (Postfix) with ESMTP id DB34940288; Wed, 29 Oct 2025 09:36:56 +0100 (CET) Received: from mail-yw1-f225.google.com (mail-yw1-f225.google.com [209.85.128.225]) by mails.dpdk.org (Postfix) with ESMTP id CC8C740288 for ; Wed, 29 Oct 2025 09:36:55 +0100 (CET) Received: by mail-yw1-f225.google.com with SMTP id 00721157ae682-78488cdc20aso91199547b3.1 for ; Wed, 29 Oct 2025 01:36:55 -0700 (PDT) DKIM-Signature: v=1; a=rsa-sha256; c=relaxed/relaxed; d=iol.unh.edu; s=unh-iol; t=1761727015; x=1762331815; darn=dpdk.org; h=references:in-reply-to:cc:to:from:subject:message-id:date:from:to :cc:subject:date:message-id:reply-to; bh=EKVXm9//EP47pMmh3LFywQnRKQHa6JhbQJqnIqfj77Y=; b=RtUqN4BWvCr4YnfpVwjeUV2O7ihESCNH0znJQeQn2QYhIoraDDJCxPZtl58YbPg3eS 2osT5+NRXvX9bAWTydhvQeA4ilePpDJimsP4UeQ7wsgNY/J+2B6mnOXuiNB+AGMNKQ3i 3fURIdGHqJw92vlOXEVzucUK++ammkIsr2umg= X-Google-DKIM-Signature: v=1; a=rsa-sha256; c=relaxed/relaxed; d=1e100.net; s=20230601; t=1761727015; x=1762331815; h=references:in-reply-to:cc:to:from:subject:message-id:date :x-gm-message-state:from:to:cc:subject:date:message-id:reply-to; bh=EKVXm9//EP47pMmh3LFywQnRKQHa6JhbQJqnIqfj77Y=; b=JWrshggrM3vTH0YoULvroWf2lVxe3qp0UmpYE8JQODZWc8T0wwbLBXFQkMkmFeiv5Z JE6MVN1BaRimpd91r7s0IaeLREkmJRWao8D2RY/vdBtkQc7+mVSsLSHj7Eq/LVU1CF66 tp1LMCHvdhS1mbf9COz3xdsBVoTtem4WO+yLekLSgRdJcifR0S1V9E/VxywWjk5NB+UU RI1SbakaRQAMsrBS+IMVsB8DT4NOtDkpiLv3h5Qb44JxLB2c4tZX+GudvrGahJq+tMOo RykDwqjCuIIttUFqhRCp/n5yMJ2m/jzQFcYHrs2e9TbCq4zkKDytpj9vUm/m67hu5rI3 /+Bg== X-Gm-Message-State: AOJu0YxPmr1ujOuf14ttNgADLr/qOkE+DARUl1bErNXDVVB+vI5LHf2q 8gftnPRdlPRZknCL9uUzDD0zkg2yNMRZeGuK7E00FmQJlMIXXmHqrBbDj1mvC/4/fzsafXg3qtW dBJaQB6RivR/0tqwk2285j3C+T78fNLPoV+WM6U3MRKw5 X-Gm-Gg: ASbGncsRhETiH0SWcrDFzkQftucxv0fETzCUw1LbwhxMOgnHMKWFUOFEEZRTMyqyoT/ qiribzF29GVhEuG0c9cN19g58KH5YLMTinDlqK3fT/TK9vJhT2vAzk1ZFLD6T1i3r32I+j2sfSv OL9ryoBoAJfKTm7Bmrh3B4nJJYLgP9PTNJX8NIEn2E8ml0tK1hEzdS70wr1Bro1ReXDiZg7JLA3 ByUmzd5xPzD5cMFAWnzd3pBotYXcDaspwY5KTDRyeo7T8ofQVArsuvqrAvwz1GV+flohIR7h9Y2 9Kjwf/G+H0YdJ+6VmG+4qNPYi7oSpQ8fwk0mBQy+HtWNisaIx7VtfMoIviIZWYBz0A4UrlrrqC1 kJisf36ZB1OGsI+rkFgXdIEA5bC9nOgs= X-Google-Smtp-Source: AGHT+IHL2TgXKYaI6j4yWaXmMDLUznaXA9Ilu3aL4EKG3Znpn6qtLmY3WxxY9RgMQMRmOc/33zUAbvQNAy9A X-Received: by 2002:a05:690c:ed0:b0:784:933d:40b0 with SMTP id 00721157ae682-78628f7992dmr20406367b3.33.1761727015171; Wed, 29 Oct 2025 01:36:55 -0700 (PDT) Received: from postal.iol.unh.edu (postal.iol.unh.edu. [132.177.123.84]) by smtp-relay.gmail.com with ESMTPS id 00721157ae682-785ed146afcsm10302707b3.1.2025.10.29.01.36.55 (version=TLS1_2 cipher=ECDHE-ECDSA-AES128-GCM-SHA256 bits=128/128); Wed, 29 Oct 2025 01:36:55 -0700 (PDT) X-Relaying-Domain: iol.unh.edu Date: Wed, 29 Oct 2025 01:36:55 -0700 (PDT) Message-ID: <6901d227.050a0220.2a41a2.0a65SMTPIN_ADDED_MISSING@mx.google.com> Received: from [172.21.0.2] (unknown [172.18.0.240]) by postal.iol.unh.edu (Postfix) with ESMTP id 929176051830; Wed, 29 Oct 2025 04:36:54 -0400 (EDT) Subject: |SUCCESS| pw158190-158192 [PATCH] [v10,3/3] doc: note on unsupported From: dpdklab@iol.unh.edu To: Test Report Cc: dpdk-test-reports@iol.unh.edu, Bruce Richardson In-Reply-To: <20251028142202.137392-4-shaiq.wani@intel.com> References: <20251028142202.137392-4-shaiq.wani@intel.com> Content-Type: text/plain X-BeenThere: test-report@dpdk.org X-Mailman-Version: 2.1.29 Precedence: list List-Id: automatic DPDK test reports List-Unsubscribe: , List-Archive: List-Post: List-Help: List-Subscribe: , Errors-To: test-report-bounces@dpdk.org Test-Label: iol-unit-arm64-testing Test-Status: SUCCESS http://dpdk.org/patch/158192 _Testing PASS_ Submitter: Shaiq Wani Date: Tuesday, October 28 2025 14:22:02 DPDK git baseline: Repo:dpdk-next-net-intel Branch: master CommitID:6b997d6b9ffdbb4f8ecd14d1f217da69cdc783af 158190-158192 --> testing pass Upstream job id: Generic-Unit-Test-DPDK#386263 Test environment and result as below: +------------------------------+----------------+--------------+---------------------------+------------------------------+ | Environment | dpdk_unit_test | lpm_autotest | cryptodev_sw_zuc_autotest | cryptodev_sw_snow3g_autotest | +==============================+================+==============+===========================+==============================+ | Debian GNU/Linux 12 | PASS | SKIPPED | SKIPPED | SKIPPED | +------------------------------+----------------+--------------+---------------------------+------------------------------+ | CentOS Stream 9 | PASS | SKIPPED | SKIPPED | SKIPPED | +------------------------------+----------------+--------------+---------------------------+------------------------------+ | CentOS Stream 10 | PASS | SKIPPED | SKIPPED | SKIPPED | +------------------------------+----------------+--------------+---------------------------+------------------------------+ | Fedora Linux 40 | PASS | SKIPPED | SKIPPED | SKIPPED | +------------------------------+----------------+--------------+---------------------------+------------------------------+ | Fedora Linux 41 | PASS | SKIPPED | SKIPPED | SKIPPED | +------------------------------+----------------+--------------+---------------------------+------------------------------+ | Fedora Linux 42 | PASS | SKIPPED | SKIPPED | SKIPPED | +------------------------------+----------------+--------------+---------------------------+------------------------------+ | Red Hat Enterprise Linux 9.5 | PASS | SKIPPED | SKIPPED | SKIPPED | +------------------------------+----------------+--------------+---------------------------+------------------------------+ | Ubuntu 22.04 | PASS | SKIPPED | SKIPPED | SKIPPED | +------------------------------+----------------+--------------+---------------------------+------------------------------+ | Ubuntu 20.04 | PASS | PASS | SKIPPED | SKIPPED | +------------------------------+----------------+--------------+---------------------------+------------------------------+ | Ubuntu 24.04 | PASS | SKIPPED | SKIPPED | SKIPPED | +------------------------------+----------------+--------------+---------------------------+------------------------------+ | Debian 12 (arm) | SKIPPED | SKIPPED | PASS | PASS | +------------------------------+----------------+--------------+---------------------------+------------------------------+ Debian GNU/Linux 12 Kernel: 5.4 Compiler: gcc gcc (Debian 12.2.0-14+deb12u1) 12.2.0 CentOS Stream 9 Kernel: 5.4 Compiler: gcc gcc (GCC) 11.5.0 20240719 (Red Hat 11.5.0-11) CentOS Stream 10 Kernel: 5.4 Compiler: gcc gcc (GCC) 14.2.1 20250110 (Red Hat 14.2.1-8) Fedora Linux 40 Kernel: 5.4 Compiler: gcc gcc (GCC) 14.2.1 20240912 (Red Hat 14.2.1-3) Fedora Linux 41 Kernel: 5.4 Compiler: clang gcc (GCC) 14.3.1 20250523 (Red Hat 14.3.1-1) Fedora Linux 42 Kernel: 5.4 Compiler: clang gcc (GCC) 15.2.1 20250808 (Red Hat 15.2.1-1) Red Hat Enterprise Linux 9.5 Kernel: 5.4 Compiler: gcc gcc (GCC) 11.5.0 20240719 (Red Hat 11.5.0-2) Ubuntu 22.04 Kernel: 5.4 Compiler: gcc gcc (Ubuntu 11.4.0-1ubuntu1~22.04) 11.4.0 Ubuntu 20.04 Kernel: 5.4 Compiler: gcc gcc (Ubuntu 9.4.0-1ubuntu1~20.04.2) 9.4.0 Ubuntu 24.04 Kernel: 5.4 Compiler: gcc gcc (Ubuntu 13.3.0-6ubuntu2~24.04) 13.3.0 Debian 12 (arm) Kernel: Depends on container host Compiler: gcc (Debian 12.2.0-14) 12.2.0 To view detailed results, visit: https://lab.dpdk.org/results/dashboard/patchsets/34404/ UNH-IOL DPDK Community Lab To manage your email subscriptions, visit: https://lab.dpdk.org/results/dashboard/preferences/subscriptions/