From mboxrd@z Thu Jan 1 00:00:00 1970 Return-Path: Received: from mails.dpdk.org (mails.dpdk.org [217.70.189.124]) by inbox.dpdk.org (Postfix) with ESMTP id 6327A48A27 for ; Wed, 29 Oct 2025 09:41:08 +0100 (CET) Received: from mails.dpdk.org (localhost [127.0.0.1]) by mails.dpdk.org (Postfix) with ESMTP id 444A340288; Wed, 29 Oct 2025 09:41:08 +0100 (CET) Received: from mail-il1-f226.google.com (mail-il1-f226.google.com [209.85.166.226]) by mails.dpdk.org (Postfix) with ESMTP id 4144F40288 for ; Wed, 29 Oct 2025 09:41:07 +0100 (CET) Received: by mail-il1-f226.google.com with SMTP id e9e14a558f8ab-430ca4647c7so29072835ab.3 for ; Wed, 29 Oct 2025 01:41:07 -0700 (PDT) DKIM-Signature: v=1; a=rsa-sha256; c=relaxed/relaxed; d=iol.unh.edu; s=unh-iol; t=1761727266; x=1762332066; darn=dpdk.org; h=cc:to:from:subject:message-id:date:from:to:cc:subject:date :message-id:reply-to; bh=fPA6QY0UbAlzoNch+XD2roxKeQqZr78K32KE42lA8s0=; b=H/FSyuEXhhTdaPDOMpLxMubH26daAInG4fur/yoH84gE4KCEQlM5UPMcIQoqwriGWv 8tPZFVlxUfYfC6JXl2Mx5L8de/SFkfLQvo0qZu8a5Fx2rib07E9iOO9aTMBLN2S86Zsl N2GgzVD9Qk4qjbqwfohPOJd9EvulLVE4xVe/I= X-Google-DKIM-Signature: v=1; a=rsa-sha256; c=relaxed/relaxed; d=1e100.net; s=20230601; t=1761727266; x=1762332066; h=cc:to:from:subject:message-id:date:x-gm-message-state:from:to:cc :subject:date:message-id:reply-to; bh=fPA6QY0UbAlzoNch+XD2roxKeQqZr78K32KE42lA8s0=; b=o0qQOGoPf3KEqdWY45vszsnc5fqG2R0tOYIISTAQ02uFxybkhobl1C2rHIznzD3ibp Aay2sZkZla3sr6FAlXsDvcisV/p0OgKgjWpdoe3jwSN5eCiM1XwVdedvneoS8HwmUGKJ 2+0oMt3Cz2uetKXjfIHPc85fYQ41Vj5P5Di08H21dHrYhSnb5ZyMfCxw1jxv6EM6hYdB EjScw4Ygl2Yrf52CEiKoqRUePlr7uwbbi7vmteQVhnSEJjmTdiy/0uaixhwxt4XdYS2p byBvRj4sHBbzh+PndcSg4MiOYU9bQatroy6pZzdx7uHxfRkJdI7fZhutmI9zKKSCySeE 4V+A== X-Gm-Message-State: AOJu0Ywp9tpdgRM8kta0rcGknmLFKRj/q3xd7nDMKGTbfi3ifJSk4rTw Ilw4sru7uSspeB+TgXu/C5degMFVIi8e0wuS0OrPkY726sMTbtL9XU+O8M/9NLAt921x8YAWRci jsBQEO/e/ILkgv6FKXndW7D2A7OEu7IVzosKU X-Gm-Gg: ASbGncuN8eiLIhxl4lZa3u4K1x0SLkZGHwKRR2kVIkylLxay/OGfnA9peNsXp1Hp2yH ZKi8mZ286N794tVRb8U8x1Q++2HuzSL+oIiAIGfzDwakF/dzdUlfasQhDzLB2KwvYQXDAs/AMMy 9/0AWorb0sDReCapHnC9klPunTjo1oLyhQZEFluCwtoTK/rLwVtJilQUnXRD/pawDHBczuEKVcx slVrOmyrq0ZugvEvgilvU4BYHvWvEoRSRmJ4lo4tJP5Jc7iy8ktHsR1z2M2SCke+Eif6pBf+z96 WLyLS3vbjtaEKaSGg3YfKLRsFRPm7gvbpHBKJ37Pbe8pJI2w0Cej+ALWdSTXn3tSMMk8IheheOc CVLBXaQ0TDlgmDc6VkkbuGEZVnyAMJLM= X-Google-Smtp-Source: AGHT+IFnAvmCV4p/Tb+w/Qm4D8atg2zjICzUjIaCxk3F10NOCv+44QA4uwSaoQqkd5ZzbGw06jLM9wlIjqFD X-Received: by 2002:a05:6e02:89:b0:430:a38c:b767 with SMTP id e9e14a558f8ab-432f902866fmr30260575ab.18.1761727266464; Wed, 29 Oct 2025 01:41:06 -0700 (PDT) Received: from postal.iol.unh.edu (postal.iol.unh.edu. [132.177.123.84]) by smtp-relay.gmail.com with ESMTPS id e9e14a558f8ab-431f68a693dsm12860605ab.32.2025.10.29.01.41.06 (version=TLS1_2 cipher=ECDHE-ECDSA-AES128-GCM-SHA256 bits=128/128); Wed, 29 Oct 2025 01:41:06 -0700 (PDT) X-Relaying-Domain: iol.unh.edu Date: Wed, 29 Oct 2025 01:41:06 -0700 (PDT) Message-ID: <6901d322.050a0220.18a3f3.be6eSMTPIN_ADDED_MISSING@mx.google.com> Received: from [172.21.0.2] (unknown [172.18.0.240]) by postal.iol.unh.edu (Postfix) with ESMTP id 210556051830; Wed, 29 Oct 2025 04:41:06 -0400 (EDT) Subject: |SUCCESS| [GIT MASTER] b287e404643aeab5bb5db084c142789df187844e From: dpdklab@iol.unh.edu To: Test Report Cc: dpdk-test-reports@iol.unh.edu, Xueming Li , Christian Ehrhardt , Kevin Traynor , Luca Boccassi Content-Type: text/plain X-BeenThere: test-report@dpdk.org X-Mailman-Version: 2.1.29 Precedence: list List-Id: automatic DPDK test reports List-Unsubscribe: , List-Archive: List-Post: List-Help: List-Subscribe: , Errors-To: test-report-bounces@dpdk.org _Testing PASS_ Branch: tags/v24.11 b287e404643aeab5bb5db084c142789df187844e --> testing pass Upstream job id: Generic-DPDK-Compile-Meson#438938 Test environment and result as below: +------------------------------+--------------------+ | Environment | dpdk_meson_compile | +==============================+====================+ | Ubuntu 20.04 | PASS | +------------------------------+--------------------+ | Debian GNU/Linux 12 | PASS | +------------------------------+--------------------+ | Red Hat Enterprise Linux 9.5 | PASS | +------------------------------+--------------------+ | Fedora Linux 42 | PASS | +------------------------------+--------------------+ | Ubuntu 22.04 | PASS | +------------------------------+--------------------+ | Ubuntu 24.04 | PASS | +------------------------------+--------------------+ | CentOS Stream 9 | PASS | +------------------------------+--------------------+ | CentOS Stream 10 | PASS | +------------------------------+--------------------+ Ubuntu 20.04 Kernel: 5.15 Compiler: aarch64-linux-gnu-gcc gcc (Ubuntu 9.4.0-1ubuntu1~20.04.2) 9.4.0 Debian GNU/Linux 12 Kernel: 5.4 Compiler: gcc gcc (Debian 12.2.0-14+deb12u1) 12.2.0 Red Hat Enterprise Linux 9.5 Kernel: 5.4 Compiler: gcc gcc (GCC) 11.5.0 20240719 (Red Hat 11.5.0-2) Fedora Linux 42 Kernel: 5.4 Compiler: gcc gcc (GCC) 15.2.1 20250808 (Red Hat 15.2.1-1) Ubuntu 22.04 Kernel: 5.4 Compiler: gcc gcc (Ubuntu 11.4.0-1ubuntu1~22.04) 11.4.0 Ubuntu 24.04 Kernel: 5.4 Compiler: gcc gcc (Ubuntu 13.3.0-6ubuntu2~24.04) 13.3.0 CentOS Stream 9 Kernel: 5.4 Compiler: gcc gcc (GCC) 11.5.0 20240719 (Red Hat 11.5.0-11) CentOS Stream 10 Kernel: 5.4 Compiler: gcc gcc (GCC) 14.2.1 20250110 (Red Hat 14.2.1-8) To view detailed results, visit: https://lab.dpdk.org/results/dashboard/tarballs/35385/ UNH-IOL DPDK Community Lab To manage your email subscriptions, visit: https://lab.dpdk.org/results/dashboard/preferences/subscriptions/