From mboxrd@z Thu Jan 1 00:00:00 1970 Return-Path: Received: from mails.dpdk.org (mails.dpdk.org [217.70.189.124]) by inbox.dpdk.org (Postfix) with ESMTP id 3A74148A20 for ; Wed, 29 Oct 2025 11:32:11 +0100 (CET) Received: from mails.dpdk.org (localhost [127.0.0.1]) by mails.dpdk.org (Postfix) with ESMTP id 227FE40288; Wed, 29 Oct 2025 11:32:11 +0100 (CET) Received: from mail-pl1-f226.google.com (mail-pl1-f226.google.com [209.85.214.226]) by mails.dpdk.org (Postfix) with ESMTP id 0B8FB40288 for ; Wed, 29 Oct 2025 11:32:10 +0100 (CET) Received: by mail-pl1-f226.google.com with SMTP id d9443c01a7336-294df925292so5944705ad.1 for ; Wed, 29 Oct 2025 03:32:09 -0700 (PDT) DKIM-Signature: v=1; a=rsa-sha256; c=relaxed/relaxed; d=iol.unh.edu; s=unh-iol; t=1761733929; x=1762338729; darn=dpdk.org; h=references:in-reply-to:cc:to:from:subject:message-id:date:from:to :cc:subject:date:message-id:reply-to; bh=Mh51W/TSXo1pyIqlBb56Ry4W5p0Vrq/uOXjIxmnIJhk=; b=Qicoi6IKlH+SOndn/8JKe5XPgIPGWRleGgcSklow25whgN4h31+PS0kH+3ONDBMHte JslubhmkXhgYD8ha8Qv3mlueNR3A+y8Xhf6juXjvM9vCiVJt06qF1jED8IJByf06h7xn ZCM1sAfrIyOcVrG2WH1j6rTeIiQ0Q1AqgPca8= X-Google-DKIM-Signature: v=1; a=rsa-sha256; c=relaxed/relaxed; d=1e100.net; s=20230601; t=1761733929; x=1762338729; h=references:in-reply-to:cc:to:from:subject:message-id:date :x-gm-message-state:from:to:cc:subject:date:message-id:reply-to; bh=Mh51W/TSXo1pyIqlBb56Ry4W5p0Vrq/uOXjIxmnIJhk=; b=dU6+yPbwyxvYCZQMGRTIgUIpE5YT4iC8Vn5vRzaUpArx4OBT1twBepHh1YwpnAGwhT YPYcpd9Lp9JnImPPSQZGdsYdEOjd989OBMtzIaNuEOPBt6wFjggl8iasnq6eRHRF6u3B o5zQRQ3s0E9fEc53JCYgj8ZaUIj9gYvD8QY6mvNOwwIXqesx4X7m0U1Ym0vJs44B2Jz1 9WQ73TWfiaehYBQ2n0eMDgKX++0Vg4HCpeI7f+O5KlR+Zs7qrJxsfw5oYfIhegB08MVf lpAfE+vpSficlzEqbCAblq+nnkPJQ+4bq1s2N31CurQ8yEee7GhC5PznFfyQmvM/Hjo1 sfPQ== X-Gm-Message-State: AOJu0YwgTSj/5R/BCwm4kkhybrlFqrCGHPGDnkedQnGjPXfH9I44wQPu 7L26k26SxWiCgsaPCtM7GRugJzv+WiX9c42XdsfUBPuXrFA05JNg5mk5Sgwehy8cQ/CsH0UatHV H7DA27Nriym4I2yzgiuWofTOVBqAY988btd0lx9vwk3FB X-Gm-Gg: ASbGncsqMxSbwy4Y5/89CfkQ38A+nInlhFdLbJMIYD6SIVI/yFwb92uGJKIGkfCAzpb FcHApXXayFwVE1oMXc98QiCS6Q2YzSKxFs/6fUchhbjgUi9oWfNaXGa9v7Ov64IqClL/wswIrWu hh74LhUvhPeP2+pnRAuuJV1yA6GQLOhaaUPcrA+dViydk2Ouka4GguA6uLAxT+KBHEzWpN6e4aY bAPI7Txz93mEwWfZMKIyd5WIFChlBzxEneUACJkvic8JUm19KItyEH8be+AJlc37DWZFWER4efl F+LZiUsYaJOnJtNQ6BwjNjK9gMLC3K8u+9N5ZIr0eBSCZlx0gdefc0A8JYTucwvp7msh5+oZ384 QIS+DZyjOP9yVx1Tsj1pyiRv5uaHXX84= X-Google-Smtp-Source: AGHT+IFpdiE0nzkVB084yCSDLO9vkIg81K2VOSkGBm+UgLhQkqP/omkpj8HoIo3dxigH+0pjPnW/LkDhS0JW X-Received: by 2002:a17:903:234d:b0:24b:11c8:2d05 with SMTP id d9443c01a7336-294deefe0e4mr26913995ad.45.1761733929138; Wed, 29 Oct 2025 03:32:09 -0700 (PDT) Received: from postal.iol.unh.edu (postal.iol.unh.edu. [132.177.123.84]) by smtp-relay.gmail.com with ESMTPS id d9443c01a7336-29498d099c1sm13083635ad.16.2025.10.29.03.32.09 (version=TLS1_2 cipher=ECDHE-ECDSA-AES128-GCM-SHA256 bits=128/128); Wed, 29 Oct 2025 03:32:09 -0700 (PDT) X-Relaying-Domain: iol.unh.edu Date: Wed, 29 Oct 2025 03:32:09 -0700 (PDT) Message-ID: <6901ed29.170a0220.263c80.db6aSMTPIN_ADDED_MISSING@mx.google.com> Received: from [172.21.0.2] (unknown [172.18.0.240]) by postal.iol.unh.edu (Postfix) with ESMTP id 418E96051830; Wed, 29 Oct 2025 06:32:08 -0400 (EDT) Subject: |SUCCESS| pw158203 [PATCH] [v3] fib6: implement RCU rule reclamation From: dpdklab@iol.unh.edu To: Test Report Cc: dpdk-test-reports@iol.unh.edu In-Reply-To: <20251028173703.548656-3-rjarry@redhat.com> References: <20251028173703.548656-3-rjarry@redhat.com> Content-Type: text/plain X-BeenThere: test-report@dpdk.org X-Mailman-Version: 2.1.29 Precedence: list List-Id: automatic DPDK test reports List-Unsubscribe: , List-Archive: List-Post: List-Help: List-Subscribe: , Errors-To: test-report-bounces@dpdk.org Test-Label: iol-unit-arm64-testing Test-Status: SUCCESS http://dpdk.org/patch/158203 _Testing PASS_ Submitter: Robin Jarry Date: Tuesday, October 28 2025 17:37:05 DPDK git baseline: Repo:dpdk Branch: master CommitID:39b54f2dcf44ad1f91eabc7080cd5dea763607fd 158203 --> testing pass Upstream job id: Generic-Unit-Test-DPDK#386346 Test environment and result as below: +------------------------------+----------------+--------------+------------------------------+---------------------------+ | Environment | dpdk_unit_test | lpm_autotest | cryptodev_sw_snow3g_autotest | cryptodev_sw_zuc_autotest | +==============================+================+==============+==============================+===========================+ | CentOS Stream 9 | PASS | SKIPPED | SKIPPED | SKIPPED | +------------------------------+----------------+--------------+------------------------------+---------------------------+ | CentOS Stream 10 | PASS | SKIPPED | SKIPPED | SKIPPED | +------------------------------+----------------+--------------+------------------------------+---------------------------+ | Fedora Linux 40 | PASS | SKIPPED | SKIPPED | SKIPPED | +------------------------------+----------------+--------------+------------------------------+---------------------------+ | Debian GNU/Linux 12 | PASS | SKIPPED | SKIPPED | SKIPPED | +------------------------------+----------------+--------------+------------------------------+---------------------------+ | Fedora Linux 41 | PASS | SKIPPED | SKIPPED | SKIPPED | +------------------------------+----------------+--------------+------------------------------+---------------------------+ | Fedora Linux 42 | PASS | SKIPPED | SKIPPED | SKIPPED | +------------------------------+----------------+--------------+------------------------------+---------------------------+ | Ubuntu 22.04 | PASS | SKIPPED | SKIPPED | SKIPPED | +------------------------------+----------------+--------------+------------------------------+---------------------------+ | Ubuntu 20.04 | PASS | PASS | SKIPPED | SKIPPED | +------------------------------+----------------+--------------+------------------------------+---------------------------+ | Red Hat Enterprise Linux 9.5 | PASS | SKIPPED | SKIPPED | SKIPPED | +------------------------------+----------------+--------------+------------------------------+---------------------------+ | Ubuntu 24.04 | PASS | SKIPPED | SKIPPED | SKIPPED | +------------------------------+----------------+--------------+------------------------------+---------------------------+ | Debian 12 (arm) | SKIPPED | SKIPPED | PASS | PASS | +------------------------------+----------------+--------------+------------------------------+---------------------------+ CentOS Stream 9 Kernel: 5.4 Compiler: gcc gcc (GCC) 11.5.0 20240719 (Red Hat 11.5.0-11) CentOS Stream 10 Kernel: 5.4 Compiler: gcc gcc (GCC) 14.2.1 20250110 (Red Hat 14.2.1-8) Fedora Linux 40 Kernel: 5.4 Compiler: gcc gcc (GCC) 14.2.1 20240912 (Red Hat 14.2.1-3) Debian GNU/Linux 12 Kernel: 5.4 Compiler: gcc gcc (Debian 12.2.0-14+deb12u1) 12.2.0 Fedora Linux 41 Kernel: 5.4 Compiler: gcc gcc (GCC) 14.3.1 20250523 (Red Hat 14.3.1-1) Fedora Linux 42 Kernel: 5.4 Compiler: gcc gcc (GCC) 15.2.1 20250808 (Red Hat 15.2.1-1) Ubuntu 22.04 Kernel: 5.15 Compiler: gcc gcc (Ubuntu 11.4.0-1ubuntu1~22.04.2) 11.4.0 Ubuntu 20.04 Kernel: 5.4 Compiler: gcc gcc (Ubuntu 9.4.0-1ubuntu1~20.04.2) 9.4.0 Red Hat Enterprise Linux 9.5 Kernel: 5.4 Compiler: gcc gcc (GCC) 11.5.0 20240719 (Red Hat 11.5.0-2) Ubuntu 24.04 Kernel: 5.4 Compiler: gcc gcc (Ubuntu 13.3.0-6ubuntu2~24.04) 13.3.0 Debian 12 (arm) Kernel: Depends on container host Compiler: gcc (Debian 12.2.0-14) 12.2.0 To view detailed results, visit: https://lab.dpdk.org/results/dashboard/patchsets/34407/ UNH-IOL DPDK Community Lab To manage your email subscriptions, visit: https://lab.dpdk.org/results/dashboard/preferences/subscriptions/