From mboxrd@z Thu Jan 1 00:00:00 1970 Return-Path: Received: from mails.dpdk.org (mails.dpdk.org [217.70.189.124]) by inbox.dpdk.org (Postfix) with ESMTP id DD52048A25 for ; Wed, 29 Oct 2025 12:12:41 +0100 (CET) Received: from mails.dpdk.org (localhost [127.0.0.1]) by mails.dpdk.org (Postfix) with ESMTP id D89FA40288; Wed, 29 Oct 2025 12:12:41 +0100 (CET) Received: from mail-pg1-f227.google.com (mail-pg1-f227.google.com [209.85.215.227]) by mails.dpdk.org (Postfix) with ESMTP id 99B1440288 for ; Wed, 29 Oct 2025 12:12:40 +0100 (CET) Received: by mail-pg1-f227.google.com with SMTP id 41be03b00d2f7-b6ceba7c97eso6569210a12.0 for ; Wed, 29 Oct 2025 04:12:40 -0700 (PDT) DKIM-Signature: v=1; a=rsa-sha256; c=relaxed/relaxed; d=iol.unh.edu; s=unh-iol; t=1761736360; x=1762341160; darn=dpdk.org; h=references:in-reply-to:cc:to:from:subject:message-id:date:from:to :cc:subject:date:message-id:reply-to; bh=oVxmoojq5BEIs2GSAVmcpf+52QZ6xoFD8+BbhIEUgXI=; b=aQVxSqvXaFByMPqyny3W+dBSbxpsspFwj/fZegcqh4HZPuaDlgKhc7mYeJi08ZiYf3 1GmPGLd76EfH6m/R6J2qaN8CNiKojjrGJ1yjpx7saT4SIyaj5Xj/34dSwIy6MoxZVQ7+ gYomHJe2POFy0Od2ztGd07sv7mpmMGHdOwJ5k= X-Google-DKIM-Signature: v=1; a=rsa-sha256; c=relaxed/relaxed; d=1e100.net; s=20230601; t=1761736360; x=1762341160; h=references:in-reply-to:cc:to:from:subject:message-id:date :x-gm-message-state:from:to:cc:subject:date:message-id:reply-to; bh=oVxmoojq5BEIs2GSAVmcpf+52QZ6xoFD8+BbhIEUgXI=; b=aPm1yH4+6CvRn1IX3HIudd/mA7b1DiGUWMXVGkUr2KUyGRP6FlSMnt/CzRrItOz4LY 4xNC7GS/zZB5Eqbe8opoT2uo5fUXsE0OGMCQO1W1AbZgnmpomrFH11QcdBwB1yvLwURC eM9e6Cc7t7NSAEXoG7sFL1ZWWZZDoaVFKdMWWxJiK5a5pVmafmTYw/fMfUlwN2i68y3V U8hgqqSFiKQ14P4KM5akW+RBYFHXgbhBWwfW2Ze+kRgwC5BMcQgaFSpWV9uPBhvCQNa9 /SJEj9S4m5b7RNCrYk/Z+hbGSIWIauKbO8x7SISszJPwIQNRaI8+ei4BBHB5WrxdPHab RY6w== X-Gm-Message-State: AOJu0Yxl1yoykibhe+EZUfLUCrXZDMZGah81D9FIVWBbahCqWc9V9KU5 STVUd1BSvO34Xd6zhrBuwSrDJV/JHZqlM4L0QJ4T2ZgAxVU0Bf78jnfEo6rQ8tonBnf5AVRLouu 0THklii+7LbFQcugLnB0wX2wxHH6vfx38+cXtAqIY09OSvdQN8ZdBOue7MPc8 X-Gm-Gg: ASbGncvDi3qJPTG316fk9k+3PRM9aU33ZOViFtIrefM8ZDg4/xgnQCVLm33URuKP3Hp 7KNE1b7H4mKNKBOE18WqhVLeisxOMpndqHJtPaB9wuDUOdu5inxzLjj0w+ElwSZLnqhtyXGq0ro qbORxnc64QOCKhDmsO8Kq6siHE8HcWPh8VGqwMKok//nv/K5cZ6PloNAidGROIvkvP8vSWhVB7q 3RsEhHXm7Z/TMeo68kZ7svT8omj/FStGOfxAfs/F4i2AjjuutHh6LlOeo+k3VSddVrcjhAqy5Xb tm6M34AHoZfnSCM+BrtHaVo2otzoPLQ1xmlHZU+Kxpma6sDuwlneXFz5wP2NCNufMFqXcSPrGyv iEn9GuA27 X-Google-Smtp-Source: AGHT+IG+CzHCtwEc3JV6Ssz5UwLRkjRT6NFgLefdlDQXTpW22xSj1lV4FyvXoTpcw3Tr/jMdJ0X+kyDITZmN X-Received: by 2002:a17:903:2a8d:b0:290:c516:8c53 with SMTP id d9443c01a7336-294deede629mr27938115ad.40.1761736359772; Wed, 29 Oct 2025 04:12:39 -0700 (PDT) Received: from postal.iol.unh.edu (postal.iol.unh.edu. [2606:4100:3880:1234::84]) by smtp-relay.gmail.com with ESMTPS id d9443c01a7336-29498cf3077sm13513035ad.10.2025.10.29.04.12.39 (version=TLS1_2 cipher=ECDHE-ECDSA-AES128-GCM-SHA256 bits=128/128); Wed, 29 Oct 2025 04:12:39 -0700 (PDT) X-Relaying-Domain: iol.unh.edu Date: Wed, 29 Oct 2025 04:12:39 -0700 (PDT) Message-ID: <6901f6a7.170a0220.326c00.f39bSMTPIN_ADDED_MISSING@mx.google.com> Received: from [172.21.0.2] (unknown [172.18.0.240]) by postal.iol.unh.edu (Postfix) with ESMTP id 1228C6051830; Wed, 29 Oct 2025 07:12:39 -0400 (EDT) Subject: |SUCCESS| pw158212-158213 [PATCH] [2/2] net/mlx5: fix unnecessary co From: dpdklab@iol.unh.edu To: Test Report Cc: dpdk-test-reports@iol.unh.edu In-Reply-To: <20251029095505.100582-2-getelson@nvidia.com> References: <20251029095505.100582-2-getelson@nvidia.com> Content-Type: text/plain X-BeenThere: test-report@dpdk.org X-Mailman-Version: 2.1.29 Precedence: list List-Id: automatic DPDK test reports List-Unsubscribe: , List-Archive: List-Post: List-Help: List-Subscribe: , Errors-To: test-report-bounces@dpdk.org Test-Label: iol-unit-amd64-testing Test-Status: SUCCESS http://dpdk.org/patch/158213 _Testing PASS_ Submitter: Gregory Etelson Date: Wednesday, October 29 2025 09:55:04 DPDK git baseline: Repo:dpdk-next-net-mlx Branch: master CommitID:39b54f2dcf44ad1f91eabc7080cd5dea763607fd 158212-158213 --> testing pass Upstream job id: Generic-VM-Unit-Test-DPDK#32154 Test environment and result as below: +-------------------------------+----------------+ | Environment | dpdk_unit_test | +===============================+================+ | CentOS Stream 9 | PASS | +-------------------------------+----------------+ | CentOS Stream 10 | PASS | +-------------------------------+----------------+ | Debian GNU/Linux 12 | PASS | +-------------------------------+----------------+ | Fedora Linux 40 | PASS | +-------------------------------+----------------+ | Fedora Linux 41 | PASS | +-------------------------------+----------------+ | Fedora Linux 42 | PASS | +-------------------------------+----------------+ | Red Hat Enterprise Linux 9.5 | PASS | +-------------------------------+----------------+ | Ubuntu 20.04 | PASS | +-------------------------------+----------------+ | Ubuntu 24.04 | PASS | +-------------------------------+----------------+ | Red Hat Enterprise Linux 8.10 | PASS | +-------------------------------+----------------+ | Ubuntu 22.04 | PASS | +-------------------------------+----------------+ | Windows Server 2022 | PASS | +-------------------------------+----------------+ CentOS Stream 9 Kernel: 5.15 Compiler: gcc gcc (GCC) 11.5.0 20240719 (Red Hat 11.5.0-11) CentOS Stream 10 Kernel: 5.15 Compiler: gcc gcc (GCC) 14.2.1 20250110 (Red Hat 14.2.1-8) Debian GNU/Linux 12 Kernel: 5.15 Compiler: gcc gcc (Debian 12.2.0-14+deb12u1) 12.2.0 Fedora Linux 40 Kernel: 5.15 Compiler: clang gcc (GCC) 14.2.1 20240912 (Red Hat 14.2.1-3) Fedora Linux 41 Kernel: 5.15 Compiler: clang gcc (GCC) 14.3.1 20250523 (Red Hat 14.3.1-1) Fedora Linux 42 Kernel: 5.15 Compiler: gcc gcc (GCC) 15.2.1 20250808 (Red Hat 15.2.1-1) Red Hat Enterprise Linux 9.5 Kernel: 5.15 Compiler: gcc gcc (GCC) 11.5.0 20240719 (Red Hat 11.5.0-2) Ubuntu 20.04 Kernel: 5.15 Compiler: gcc gcc (Ubuntu 9.4.0-1ubuntu1~20.04.2) 9.4.0 Ubuntu 24.04 Kernel: 5.15 Compiler: gcc gcc (Ubuntu 13.3.0-6ubuntu2~24.04) 13.3.0 Red Hat Enterprise Linux 8.10 Kernel: 5.15 Compiler: gcc gcc (GCC) 8.5.0 20210514 (Red Hat 8.5.0-22) Ubuntu 22.04 Kernel: 5.15 Compiler: gcc gcc (Ubuntu 11.4.0-1ubuntu1~22.04) 11.4.0 Windows Server 2022 Kernel: 10.0.20348.2031 Compiler: clang 15.0.7, gcc 14.1.0 (MinGW), and MSVC VS 19.39.33521 To view detailed results, visit: https://lab.dpdk.org/results/dashboard/patchsets/34413/ UNH-IOL DPDK Community Lab To manage your email subscriptions, visit: https://lab.dpdk.org/results/dashboard/preferences/subscriptions/