From mboxrd@z Thu Jan 1 00:00:00 1970 Return-Path: Received: from mails.dpdk.org (mails.dpdk.org [217.70.189.124]) by inbox.dpdk.org (Postfix) with ESMTP id 2175548A25 for ; Wed, 29 Oct 2025 12:39:32 +0100 (CET) Received: from mails.dpdk.org (localhost [127.0.0.1]) by mails.dpdk.org (Postfix) with ESMTP id 19FC540288; Wed, 29 Oct 2025 12:39:32 +0100 (CET) Received: from mail-pg1-f225.google.com (mail-pg1-f225.google.com [209.85.215.225]) by mails.dpdk.org (Postfix) with ESMTP id 14F1440288 for ; Wed, 29 Oct 2025 12:39:31 +0100 (CET) Received: by mail-pg1-f225.google.com with SMTP id 41be03b00d2f7-b6cea3f34ebso5054398a12.0 for ; Wed, 29 Oct 2025 04:39:31 -0700 (PDT) DKIM-Signature: v=1; a=rsa-sha256; c=relaxed/relaxed; d=iol.unh.edu; s=unh-iol; t=1761737970; x=1762342770; darn=dpdk.org; h=references:in-reply-to:cc:to:from:subject:message-id:date:from:to :cc:subject:date:message-id:reply-to; bh=pEy5bUwB6++Ed+tPhpL5uqzir6qCsk33zN1+/YhrG9E=; b=ZGzYwy6KfKfFqrLWayL4/JFatm9BagPpqgovBd7tIzz5KVjQy39QyNXxcl0FWz5aPo wt2X3IAUyDTctSwNJ6ZtM2DGTCFsyt/F+nmUYgJM1RoMWyrUjLbKEDBW09cPrWtB0Ppa eeLniBqmMHFIHw9QBEwQIJnxy6NR6tHCChWD4= X-Google-DKIM-Signature: v=1; a=rsa-sha256; c=relaxed/relaxed; d=1e100.net; s=20230601; t=1761737970; x=1762342770; h=references:in-reply-to:cc:to:from:subject:message-id:date :x-gm-message-state:from:to:cc:subject:date:message-id:reply-to; bh=pEy5bUwB6++Ed+tPhpL5uqzir6qCsk33zN1+/YhrG9E=; b=I0Hss78S/h9ZziU95sWh1yGJOG4sVnN12egjZdwnNUwJTqXAQk5pYwrL6+Dl/hJtmV Ir9t5brlG4zdkaAWVrQzZgwwWsTORL5Ce7T90ZI2rjFeLbVhd3qLg7kYcGGXsFNcPr1x 8xqEFtyTN+jwKfFUXrpv6JN2ajaFV5vGNmV7H32HJ/8u+QX/tfTVjw84Lb+RHrXDZ/oo jCzlQCuLuFOFk9TxkHZY7Io2PaJlx7QZZnWRrzBT2lMC29L5FPauXjs9ZVt64wPjy1fs g9qI5l/Zs6P6h3znLqPUE9ju5rDTGO2Lhn9pCQRdxilY4V4E02WckwUL729k/jB9DGEg 8RyA== X-Gm-Message-State: AOJu0YypMFlGdte8t8AX0vLRyhbKfrnQx6yfpwGPnSO1HUwX8PFfQdj+ ATmLWAY/SuO86zQNXcTqFyiakMZ1F4B4gQfOX9Qcd0SLaj8Gy+gFY34TWZ7ES57eF1P/F2aDVBi YH7Po4W15kjvM0KCD7EeGN298z+MRjagCY5B2+zoc1BM/Vi5Fjp9hk6BtQS+D X-Gm-Gg: ASbGncs7WgPS9AZMkc0uQi03els0HEq4ebGPx2RsWwCPKQSTvYSJnKSLgRj4r0O7pIf IKzH0FQ21bHX6I8wdmmDNExKjLPtDWO1ak4a0QC4jjSwii/ZqHKm70VnSbrDe3Q2RdTRkCGwkQ+ iGQLlYUER+CDoSvSNMJKVyhdKxB5WzmqqDDWnZQUEKVSjoDSXydMc9goE4Xp4SJ/4dQ0sSfMR17 RJrqvq7O4QnZ20QuXKxWWAMOuZCo3FCW+fYoAhBn2u1pDq9wE5ScE2PaTjdSjbSANY4tik5Rlhk 88X2qXhby59+KsYxv09CfkPzcbix/UmvFEHuB0+cTYflVTBtqob6GmaNY5v53rbT2hfQp+UJJKn 8RZgS6XNG X-Google-Smtp-Source: AGHT+IEOIUvWpDv4hxFEfNX+I1cb4oom5RZ9kGwxjkGurpJBu8zTQwWFtRTzLPPw5bgwADXJWJa76EN+a/zf X-Received: by 2002:a17:902:e806:b0:24c:cca1:7cfc with SMTP id d9443c01a7336-294deeea57fmr35891835ad.59.1761737970172; Wed, 29 Oct 2025 04:39:30 -0700 (PDT) Received: from postal.iol.unh.edu (postal.iol.unh.edu. [2606:4100:3880:1234::84]) by smtp-relay.gmail.com with ESMTPS id d9443c01a7336-29498d40ae1sm13812525ad.43.2025.10.29.04.39.30 (version=TLS1_2 cipher=ECDHE-ECDSA-AES128-GCM-SHA256 bits=128/128); Wed, 29 Oct 2025 04:39:30 -0700 (PDT) X-Relaying-Domain: iol.unh.edu Date: Wed, 29 Oct 2025 04:39:30 -0700 (PDT) Message-ID: <6901fcf2.170a0220.3211eb.142dSMTPIN_ADDED_MISSING@mx.google.com> Received: from [172.21.0.2] (unknown [172.18.0.240]) by postal.iol.unh.edu (Postfix) with ESMTP id 50E746051830; Wed, 29 Oct 2025 07:39:29 -0400 (EDT) Subject: |SUCCESS| pw158205-158204 [PATCH] [v1,3/3] app/test: fix issues with From: dpdklab@iol.unh.edu To: Test Report Cc: dpdk-test-reports@iol.unh.edu In-Reply-To: <20251028172324.3149379-3-jerinj@marvell.com> References: <20251028172324.3149379-3-jerinj@marvell.com> Content-Type: text/plain X-BeenThere: test-report@dpdk.org X-Mailman-Version: 2.1.29 Precedence: list List-Id: automatic DPDK test reports List-Unsubscribe: , List-Archive: List-Post: List-Help: List-Subscribe: , Errors-To: test-report-bounces@dpdk.org Test-Label: iol-unit-arm64-testing Test-Status: SUCCESS http://dpdk.org/patch/158204 _Testing PASS_ Submitter: Jerin Jacob Date: Tuesday, October 28 2025 17:23:23 DPDK git baseline: Repo:dpdk Branch: master CommitID:39b54f2dcf44ad1f91eabc7080cd5dea763607fd 158205-158204 --> testing pass Upstream job id: Generic-Unit-Test-DPDK#386376 Test environment and result as below: +------------------------------+----------------+--------------+------------------------------+---------------------------+ | Environment | dpdk_unit_test | lpm_autotest | cryptodev_sw_snow3g_autotest | cryptodev_sw_zuc_autotest | +==============================+================+==============+==============================+===========================+ | CentOS Stream 10 | PASS | SKIPPED | SKIPPED | SKIPPED | +------------------------------+----------------+--------------+------------------------------+---------------------------+ | CentOS Stream 9 | PASS | SKIPPED | SKIPPED | SKIPPED | +------------------------------+----------------+--------------+------------------------------+---------------------------+ | Debian GNU/Linux 12 | PASS | SKIPPED | SKIPPED | SKIPPED | +------------------------------+----------------+--------------+------------------------------+---------------------------+ | Fedora Linux 40 | PASS | SKIPPED | SKIPPED | SKIPPED | +------------------------------+----------------+--------------+------------------------------+---------------------------+ | Fedora Linux 41 | PASS | SKIPPED | SKIPPED | SKIPPED | +------------------------------+----------------+--------------+------------------------------+---------------------------+ | Fedora Linux 42 | PASS | SKIPPED | SKIPPED | SKIPPED | +------------------------------+----------------+--------------+------------------------------+---------------------------+ | Ubuntu 22.04 | PASS | SKIPPED | SKIPPED | SKIPPED | +------------------------------+----------------+--------------+------------------------------+---------------------------+ | Red Hat Enterprise Linux 9.5 | PASS | SKIPPED | SKIPPED | SKIPPED | +------------------------------+----------------+--------------+------------------------------+---------------------------+ | Ubuntu 24.04 | PASS | SKIPPED | SKIPPED | SKIPPED | +------------------------------+----------------+--------------+------------------------------+---------------------------+ | Ubuntu 20.04 | PASS | PASS | SKIPPED | SKIPPED | +------------------------------+----------------+--------------+------------------------------+---------------------------+ | Debian 12 (arm) | SKIPPED | SKIPPED | PASS | PASS | +------------------------------+----------------+--------------+------------------------------+---------------------------+ CentOS Stream 10 Kernel: 5.4 Compiler: gcc gcc (GCC) 14.2.1 20250110 (Red Hat 14.2.1-8) CentOS Stream 9 Kernel: 5.4 Compiler: gcc gcc (GCC) 11.5.0 20240719 (Red Hat 11.5.0-11) Debian GNU/Linux 12 Kernel: 5.4 Compiler: gcc gcc (Debian 12.2.0-14+deb12u1) 12.2.0 Fedora Linux 40 Kernel: 5.4 Compiler: clang gcc (GCC) 14.2.1 20240912 (Red Hat 14.2.1-3) Fedora Linux 41 Kernel: 5.4 Compiler: gcc gcc (GCC) 14.3.1 20250523 (Red Hat 14.3.1-1) Fedora Linux 42 Kernel: 5.4 Compiler: gcc gcc (GCC) 15.2.1 20250808 (Red Hat 15.2.1-1) Ubuntu 22.04 Kernel: 5.15 Compiler: gcc gcc (Ubuntu 11.4.0-1ubuntu1~22.04.2) 11.4.0 Red Hat Enterprise Linux 9.5 Kernel: 5.4 Compiler: gcc gcc (GCC) 11.5.0 20240719 (Red Hat 11.5.0-2) Ubuntu 24.04 Kernel: 5.4 Compiler: gcc gcc (Ubuntu 13.3.0-6ubuntu2~24.04) 13.3.0 Ubuntu 20.04 Kernel: 5.4 Compiler: gcc gcc (Ubuntu 9.4.0-1ubuntu1~20.04.2) 9.4.0 Debian 12 (arm) Kernel: Depends on container host Compiler: gcc (Debian 12.2.0-14) 12.2.0 To view detailed results, visit: https://lab.dpdk.org/results/dashboard/patchsets/34408/ UNH-IOL DPDK Community Lab To manage your email subscriptions, visit: https://lab.dpdk.org/results/dashboard/preferences/subscriptions/