From mboxrd@z Thu Jan 1 00:00:00 1970 Return-Path: Received: from mails.dpdk.org (mails.dpdk.org [217.70.189.124]) by inbox.dpdk.org (Postfix) with ESMTP id D152E48A46 for ; Wed, 29 Oct 2025 14:49:09 +0100 (CET) Received: from mails.dpdk.org (localhost [127.0.0.1]) by mails.dpdk.org (Postfix) with ESMTP id C6FF540288; Wed, 29 Oct 2025 14:49:09 +0100 (CET) Received: from mail-io1-f99.google.com (mail-io1-f99.google.com [209.85.166.99]) by mails.dpdk.org (Postfix) with ESMTP id C62C540288 for ; Wed, 29 Oct 2025 14:49:08 +0100 (CET) Received: by mail-io1-f99.google.com with SMTP id ca18e2360f4ac-940d2b701a3so736482739f.0 for ; Wed, 29 Oct 2025 06:49:08 -0700 (PDT) DKIM-Signature: v=1; a=rsa-sha256; c=relaxed/relaxed; d=iol.unh.edu; s=unh-iol; t=1761745748; x=1762350548; darn=dpdk.org; h=references:in-reply-to:cc:to:from:subject:message-id:date:from:to :cc:subject:date:message-id:reply-to; bh=QvffyYT8ngMCik5wpxpNzHVKLEbJkLuLL2jn86T4UC0=; b=hi+0m2ozo+bxyMsxZA6QfOAVqvWaTnx7asS5GuTsYAOd3+Wr6y92SrVEDaChgt4+eG 0WZYwi8cX3UmpQKMvjKDKl71f8peUm0AXnSAZuyZPsbIOzrepq0Sb6ulGJyMg0xJ1RnU VdmS/hglYfz2gpY/KMmqzh/HIWiEHAR9EQuIk= X-Google-DKIM-Signature: v=1; a=rsa-sha256; c=relaxed/relaxed; d=1e100.net; s=20230601; t=1761745748; x=1762350548; h=references:in-reply-to:cc:to:from:subject:message-id:date :x-gm-message-state:from:to:cc:subject:date:message-id:reply-to; bh=QvffyYT8ngMCik5wpxpNzHVKLEbJkLuLL2jn86T4UC0=; b=dQ2lAlHk2nzY00HHHlwQoZyFigR0xvEoBno69VgHkWuFiYu8AjtFTncZUIoNhRjvFX CfxrkmlnphzEtYcpNtWlVN469FLfN0kHUXYS5bT4fjC470ELlEBbwuMFLRoqHBWZhAW/ /iL3LLWbhqmOWGvtRqqJvficGXda2/Cgo8QkX7JHnib7OPxeeeBGH1VaAfQezRc1y1br W3GOyVA0G8ST+/h4e+Cf0+pn84S0A4vEfZb0iOhOqCX86H72nvNdrjDweGbtaVtNS6b4 FuAT7X3dMQDmsmk6WQFKuJRS5vFLB8uxSA1KWYb4sPzkyFxg/b18iJPcldSeqlabIf+t BaPg== X-Gm-Message-State: AOJu0YzzjMJ5VRYbEgkFbrziCMcXzNYOg19o0jUlCyQ2FQfQ0EOoaWCx gh4F67Io+vFxDNrcbDPJYAlKYYhRQv5U/r9CC9bg6FZLijrHdgFs//O3jUD1OD6oMdT6G+hoNek gHom4g+ipEqVoEmyv+TBXnLylekmzgogTn9PvSLdYpFvG1QB3oCLQW2FgIAHO X-Gm-Gg: ASbGncv7daxWzzP+waxy/PdgQz2vfMYtHnBOH5A2Y3g0Hk3vz4qIVgapPqmaP3O76d6 458pViJDmubEGBtGh7K29HdzUtNiRac/RMkKGEtmUHba+l3jRlBwNDQ0qR8e5as/JieobgiOf+J N84ttLPzaBFu2e5uGLeDhwKydnoWb9/Xxnt1hjeh3A+nOAU5doulZdzuttSD9AW7twGaeebUFIt yboEOMswgs+s30GQAdewuBFsfEwWkctnsuTdhiUnT0SUAj4NrKtY06XNalDxpt5YBONC9VWZbXw VQVLq0apaqQtSoykDthtE9VbORF7AYfVtV+41vw9WCMNnrRD0Q1zci9ZQnj4jmYb6U33bw3tPy6 L59yYZEdI X-Google-Smtp-Source: AGHT+IF786MSk2EtaHr6IxYqg90nhDwbSWLqeXwpDqFWnt0PwrvpmNL5BGktoTtaFx5vacDF3NJCzartCAhD X-Received: by 2002:a05:6602:2dc1:b0:93e:7d2b:8c4a with SMTP id ca18e2360f4ac-945c987b68fmr476975039f.15.1761745748118; Wed, 29 Oct 2025 06:49:08 -0700 (PDT) Received: from postal.iol.unh.edu (postal.iol.unh.edu. [2606:4100:3880:1234::84]) by smtp-relay.gmail.com with ESMTPS id ca18e2360f4ac-94359e9aea2sm83550539f.6.2025.10.29.06.49.08 (version=TLS1_2 cipher=ECDHE-ECDSA-AES128-GCM-SHA256 bits=128/128); Wed, 29 Oct 2025 06:49:08 -0700 (PDT) X-Relaying-Domain: iol.unh.edu Date: Wed, 29 Oct 2025 06:49:08 -0700 (PDT) Message-ID: <69021b54.6b0a0220.5bb53.6fadSMTPIN_ADDED_MISSING@mx.google.com> Received: from [172.21.0.2] (unknown [172.18.0.240]) by postal.iol.unh.edu (Postfix) with ESMTP id 8D5CC6051830; Wed, 29 Oct 2025 09:49:07 -0400 (EDT) Subject: |SUCCESS| pw158212-158213 [PATCH] [2/2] net/mlx5: fix unnecessary co From: dpdklab@iol.unh.edu To: Test Report Cc: dpdk-test-reports@iol.unh.edu In-Reply-To: <20251029095505.100582-2-getelson@nvidia.com> References: <20251029095505.100582-2-getelson@nvidia.com> Content-Type: text/plain X-BeenThere: test-report@dpdk.org X-Mailman-Version: 2.1.29 Precedence: list List-Id: automatic DPDK test reports List-Unsubscribe: , List-Archive: List-Post: List-Help: List-Subscribe: , Errors-To: test-report-bounces@dpdk.org Test-Label: iol-compile-arm64-testing Test-Status: SUCCESS http://dpdk.org/patch/158213 _Testing PASS_ Submitter: Gregory Etelson Date: Wednesday, October 29 2025 09:55:04 DPDK git baseline: Repo:dpdk-next-net-mlx Branch: master CommitID:39b54f2dcf44ad1f91eabc7080cd5dea763607fd 158212-158213 --> testing pass Upstream job id: Generic-DPDK-Compile-Meson#438949 Test environment and result as below: +------------------------------+--------------------+ | Environment | dpdk_meson_compile | +==============================+====================+ | Ubuntu 20.04 | PASS | +------------------------------+--------------------+ | Red Hat Enterprise Linux 9.5 | PASS | +------------------------------+--------------------+ | Debian GNU/Linux 12 | PASS | +------------------------------+--------------------+ | Fedora Linux 42 | PASS | +------------------------------+--------------------+ | Ubuntu 22.04 | PASS | +------------------------------+--------------------+ | CentOS Stream 10 | PASS | +------------------------------+--------------------+ | Ubuntu 24.04 | PASS | +------------------------------+--------------------+ | CentOS Stream 9 | PASS | +------------------------------+--------------------+ Ubuntu 20.04 Kernel: 5.4 Compiler: gcc gcc (Ubuntu 9.4.0-1ubuntu1~20.04.2) 9.4.0 Red Hat Enterprise Linux 9.5 Kernel: 5.4 Compiler: gcc gcc (GCC) 11.5.0 20240719 (Red Hat 11.5.0-2) Debian GNU/Linux 12 Kernel: 5.4 Compiler: gcc gcc (Debian 12.2.0-14+deb12u1) 12.2.0 Fedora Linux 42 Kernel: 5.4 Compiler: gcc gcc (GCC) 15.2.1 20250808 (Red Hat 15.2.1-1) Ubuntu 22.04 Kernel: 5.4 Compiler: gcc gcc (Ubuntu 11.4.0-1ubuntu1~22.04) 11.4.0 CentOS Stream 10 Kernel: 5.4 Compiler: gcc gcc (GCC) 14.2.1 20250110 (Red Hat 14.2.1-8) Ubuntu 24.04 Kernel: 5.4 Compiler: gcc gcc (Ubuntu 13.3.0-6ubuntu2~24.04) 13.3.0 CentOS Stream 9 Kernel: 5.4 Compiler: gcc gcc (GCC) 11.5.0 20240719 (Red Hat 11.5.0-11) To view detailed results, visit: https://lab.dpdk.org/results/dashboard/patchsets/34413/ UNH-IOL DPDK Community Lab To manage your email subscriptions, visit: https://lab.dpdk.org/results/dashboard/preferences/subscriptions/