From mboxrd@z Thu Jan 1 00:00:00 1970 Return-Path: Received: from mails.dpdk.org (mails.dpdk.org [217.70.189.124]) by inbox.dpdk.org (Postfix) with ESMTP id 81E9148A48 for ; Wed, 29 Oct 2025 15:46:36 +0100 (CET) Received: from mails.dpdk.org (localhost [127.0.0.1]) by mails.dpdk.org (Postfix) with ESMTP id 7A7EF402E5; Wed, 29 Oct 2025 15:46:36 +0100 (CET) Received: from mail-yx1-f99.google.com (mail-yx1-f99.google.com [74.125.224.99]) by mails.dpdk.org (Postfix) with ESMTP id D8CEC402E5 for ; Wed, 29 Oct 2025 15:46:34 +0100 (CET) Received: by mail-yx1-f99.google.com with SMTP id 956f58d0204a3-63e1e1bf882so5068d50.1 for ; Wed, 29 Oct 2025 07:46:34 -0700 (PDT) DKIM-Signature: v=1; a=rsa-sha256; c=relaxed/relaxed; d=iol.unh.edu; s=unh-iol; t=1761749194; x=1762353994; darn=dpdk.org; h=references:in-reply-to:cc:to:from:subject:message-id:date:from:to :cc:subject:date:message-id:reply-to; bh=iGqaWyQ2+arMwVbwdGAdhoatOUwzrNak6MBkFBJySwE=; b=ccUjLzOEFlX1b5eopbrIYg4t+SQhmbnfhi+iwOWEFIep11kwyToKa4w+J4MdtXnH08 Dg3KsVjVPgKOo1J5Sb8HW8p/rBMkiUTFqIhievQveQmlJ1qfydbMGSWIT+3fX1/sY5cx WYQJyo/5uFAiSkqJZZ8NA3Tnsd/hYG3npfSmc= X-Google-DKIM-Signature: v=1; a=rsa-sha256; c=relaxed/relaxed; d=1e100.net; s=20230601; t=1761749194; x=1762353994; h=references:in-reply-to:cc:to:from:subject:message-id:date :x-gm-message-state:from:to:cc:subject:date:message-id:reply-to; bh=iGqaWyQ2+arMwVbwdGAdhoatOUwzrNak6MBkFBJySwE=; b=imjFAjMOkutOs9wJtpeaz5rYB3eS+EyS6X3S2BTFfYn7gdedhkudPVtjCaxTv23WPQ eZmLtPKo+FOTA5dNEmk7r4259YOag9se0aVAseTQjrlJXGtzaRsItWiiRMs9ua/yoyRY W2ykdmTETlFs1y9pLOiWGxLH3b9ZCBT9fewZ2jcKJXAQG5zn0kQVHzSG6XQ02tQVRWvz dWuqCjsIGQEJaldjd78m65Phih0MNRiO4dVXbYfPTS7rUtGBbqCgkBTB5KDZiUGooLWm 0WChmHvmXsE3X2i8ebpMPFb95ADDdYD8XNC4J9oYTKxRC5+ipmBEYn5VzS4jNldW7AfH J+4g== X-Gm-Message-State: AOJu0Yxvvcsq/fAJ6KRN42jHoJyAqnoSTs02bkBdzp8McXyq33Q9ucr/ IPrqTfFxceXccOKKYRdx4K+e5xAnWD966dHZm8URG9xNRY8/84TJT6zWn1lHdXl989mW0m+QYct I2ZazpycY6z99qdt2CmBAqZKJywMX+1T0jTuGps7+8jdE X-Gm-Gg: ASbGncvxpzj75nm469k0nGDz7bdwtKH2uYMdI2LIT66HHY/qqmoz81RCTYw78cR91Vd UmBYkTHPpKWNSw8sw67dBRe6fIR5Z5tWkfKoN4D3Rdiw6pWGEh5ppANMgMMN8SNa+vDzfSi+Ibi sx9VCP6/FZ/+Fr7+ULbpVpFqL+XgPUFHJFQ1iuVw6eVed+JGGD+7Htpbzt92DVj+2lG8gL4i3kB tDYbGGjmeJjbn2IbEfQATPv0nR5vaimLD8t07hkfFhGymaBwer2Y+Pl+krusqwhH47Qeuc45C+U X2zpn0Frs9vCw4hbAOJyFZZZZnERCKm4VUlDDPp2uKFU8OrWuLLU9RBqKuzWSLcVf2rbGbDxbYo tkhgtElMFf+xCSOFceEfhaiBkSRlVADs= X-Google-Smtp-Source: AGHT+IH06CORV4Wd1ehZ0mN1thD5sLPfsrU0Qk0b+NfnHXf/DT1HQQBgoJrsNrXvx08QKeTUNsNlndhPDvkT X-Received: by 2002:a05:690c:60c2:b0:786:1f7:bf51 with SMTP id 00721157ae682-786293b1ddcmr45070137b3.66.1761749194137; Wed, 29 Oct 2025 07:46:34 -0700 (PDT) Received: from postal.iol.unh.edu (postal.iol.unh.edu. [132.177.123.84]) by smtp-relay.gmail.com with ESMTPS id 00721157ae682-786178aed42sm4165917b3.28.2025.10.29.07.46.34 (version=TLS1_2 cipher=ECDHE-ECDSA-AES128-GCM-SHA256 bits=128/128); Wed, 29 Oct 2025 07:46:34 -0700 (PDT) X-Relaying-Domain: iol.unh.edu Date: Wed, 29 Oct 2025 07:46:34 -0700 (PDT) Message-ID: <690228ca.050a0220.82e1b.50feSMTPIN_ADDED_MISSING@mx.google.com> Received: from [172.21.0.2] (unknown [172.18.0.240]) by postal.iol.unh.edu (Postfix) with ESMTP id D5F92604D420; Wed, 29 Oct 2025 10:46:33 -0400 (EDT) Subject: |WARNING| pw158219 [PATCH] [v1,1/1] net: fix inner L2 length for GRE From: dpdklab@iol.unh.edu To: Test Report Cc: dpdk-test-reports@iol.unh.edu In-Reply-To: <20251029130523.1642847-1-rkudurumalla@marvell.com> References: <20251029130523.1642847-1-rkudurumalla@marvell.com> Content-Type: text/plain X-BeenThere: test-report@dpdk.org X-Mailman-Version: 2.1.29 Precedence: list List-Id: automatic DPDK test reports List-Unsubscribe: , List-Archive: List-Post: List-Help: List-Subscribe: , Errors-To: test-report-bounces@dpdk.org Test-Label: iol-compile-amd64-testing Test-Status: WARNING http://dpdk.org/patch/158219 _Testing issues_ Submitter: Rakesh Kudurumalla Date: Wednesday, October 29 2025 13:05:23 DPDK git baseline: Repo:dpdk Branch: master CommitID:39b54f2dcf44ad1f91eabc7080cd5dea763607fd 158219 --> testing issues Upstream job id: Generic-DPDK-Compile-Meson#438973 Test environment and result as below: +-------------------------------+--------------------+-------------------+------------------+-------------------------+-------------------+----------------------+ | Environment | dpdk_meson_compile | dpdk_compile_spdk | dpdk_compile_ovs | dpdk_llvm_clang_compile | dpdk_msvc_compile | dpdk_mingw64_compile | +===============================+====================+===================+==================+=========================+===================+======================+ | CentOS Stream 9 | PASS | WARN | SKIPPED | SKIPPED | SKIPPED | SKIPPED | +-------------------------------+--------------------+-------------------+------------------+-------------------------+-------------------+----------------------+ | CentOS Stream 10 | PASS | SKIPPED | SKIPPED | SKIPPED | SKIPPED | SKIPPED | +-------------------------------+--------------------+-------------------+------------------+-------------------------+-------------------+----------------------+ | Debian GNU/Linux 12 | PASS | WARN | SKIPPED | SKIPPED | SKIPPED | SKIPPED | +-------------------------------+--------------------+-------------------+------------------+-------------------------+-------------------+----------------------+ | Fedora Linux 42 | PASS | WARN | PASS | SKIPPED | SKIPPED | SKIPPED | +-------------------------------+--------------------+-------------------+------------------+-------------------------+-------------------+----------------------+ | openSUSE Leap 15.6 | PASS | SKIPPED | SKIPPED | SKIPPED | SKIPPED | SKIPPED | +-------------------------------+--------------------+-------------------+------------------+-------------------------+-------------------+----------------------+ | Red Hat Enterprise Linux 9.5 | PASS | SKIPPED | SKIPPED | SKIPPED | SKIPPED | SKIPPED | +-------------------------------+--------------------+-------------------+------------------+-------------------------+-------------------+----------------------+ | Red Hat Enterprise Linux 8.10 | PASS | SKIPPED | SKIPPED | SKIPPED | SKIPPED | SKIPPED | +-------------------------------+--------------------+-------------------+------------------+-------------------------+-------------------+----------------------+ | Ubuntu 20.04 | PASS | SKIPPED | SKIPPED | SKIPPED | SKIPPED | SKIPPED | +-------------------------------+--------------------+-------------------+------------------+-------------------------+-------------------+----------------------+ | Ubuntu 22.04 | PASS | WARN | SKIPPED | SKIPPED | SKIPPED | SKIPPED | +-------------------------------+--------------------+-------------------+------------------+-------------------------+-------------------+----------------------+ | FreeBSD 14.2 | PASS | SKIPPED | SKIPPED | SKIPPED | SKIPPED | SKIPPED | +-------------------------------+--------------------+-------------------+------------------+-------------------------+-------------------+----------------------+ | Ubuntu 24.04 | PASS | WARN | PASS | SKIPPED | SKIPPED | SKIPPED | +-------------------------------+--------------------+-------------------+------------------+-------------------------+-------------------+----------------------+ | Alpine Linux 3.22.0 | PASS | SKIPPED | SKIPPED | SKIPPED | SKIPPED | SKIPPED | +-------------------------------+--------------------+-------------------+------------------+-------------------------+-------------------+----------------------+ | Windows Server 2022 | SKIPPED | SKIPPED | SKIPPED | PASS | PASS | PASS | +-------------------------------+--------------------+-------------------+------------------+-------------------------+-------------------+----------------------+ ==== 20 line log output for Ubuntu 24.04 (dpdk_compile_spdk): ==== --- Failed to get log output --- ==== End log output ==== CentOS Stream 9 Kernel: 5.15 Compiler: gcc gcc (GCC) 11.5.0 20240719 (Red Hat 11.5.0-11) CentOS Stream 10 Kernel: 5.15 Compiler: gcc gcc (GCC) 14.2.1 20250110 (Red Hat 14.2.1-8) Debian GNU/Linux 12 Kernel: 5.15 Compiler: gcc gcc (Debian 12.2.0-14+deb12u1) 12.2.0 Fedora Linux 42 Kernel: 5.15 Compiler: gcc gcc (GCC) 15.2.1 20250808 (Red Hat 15.2.1-1) openSUSE Leap 15.6 Kernel: 5.15 Compiler: gcc gcc (SUSE Linux) 7.5.0 Red Hat Enterprise Linux 9.5 Kernel: 5.15 Compiler: gcc gcc (GCC) 11.5.0 20240719 (Red Hat 11.5.0-2) Red Hat Enterprise Linux 8.10 Kernel: 5.15 Compiler: gcc gcc (GCC) 8.5.0 20210514 (Red Hat 8.5.0-22) Ubuntu 20.04 Kernel: 4.19 Compiler: gcc gcc (Ubuntu 9.4.0-1ubuntu1~20.04.2) 9.4.0 Ubuntu 22.04 Kernel: 5.15 Compiler: gcc gcc (Ubuntu 11.4.0-1ubuntu1~22.04) 11.4.0 FreeBSD 14.2 Kernel: 14.2-RELEASE Compiler: clang 18.1.6 Ubuntu 24.04 Kernel: 5.15 Compiler: gcc gcc (Ubuntu 13.3.0-6ubuntu2~24.04) 13.3.0 Alpine Linux 3.22.0 Kernel: 5.15 Compiler: gcc gcc (Alpine 14.2.0) 14.2.0 Windows Server 2022 Kernel: 10.0.20348.2031 Compiler: clang 15.0.7, gcc 14.1.0 (MinGW), and MSVC VS 19.39.33521 To view detailed results, visit: https://lab.dpdk.org/results/dashboard/patchsets/34414/ UNH-IOL DPDK Community Lab To manage your email subscriptions, visit: https://lab.dpdk.org/results/dashboard/preferences/subscriptions/