From mboxrd@z Thu Jan 1 00:00:00 1970 Return-Path: Received: from mails.dpdk.org (mails.dpdk.org [217.70.189.124]) by inbox.dpdk.org (Postfix) with ESMTP id A398148A48 for ; Wed, 29 Oct 2025 15:47:47 +0100 (CET) Received: from mails.dpdk.org (localhost [127.0.0.1]) by mails.dpdk.org (Postfix) with ESMTP id 9EEB7402E5; Wed, 29 Oct 2025 15:47:47 +0100 (CET) Received: from mail-yx1-f97.google.com (mail-yx1-f97.google.com [74.125.224.97]) by mails.dpdk.org (Postfix) with ESMTP id 3DCB9402E5 for ; Wed, 29 Oct 2025 15:47:46 +0100 (CET) Received: by mail-yx1-f97.google.com with SMTP id 956f58d0204a3-63d8788b18dso7977757d50.2 for ; Wed, 29 Oct 2025 07:47:46 -0700 (PDT) DKIM-Signature: v=1; a=rsa-sha256; c=relaxed/relaxed; d=iol.unh.edu; s=unh-iol; t=1761749265; x=1762354065; darn=dpdk.org; h=references:in-reply-to:cc:to:from:subject:message-id:date:from:to :cc:subject:date:message-id:reply-to; bh=XSCJn9ftxe37fKpEenLzKCPOyIpJqMvRGXNp5wW9rUM=; b=LkLDFmxRo0Uv3OaS6B6uJOcv1tOhCVXdNLbapqg4sBNpV9g20ZIOmWFAHSYfuR4rHK 0l5uUbZdEfrNoRCZjCTg0c1cV/zI/psBihm9MieHVaiBDRjdpn823lubQ9eono5/yxNV 47/FfEZpFii0f4SbARgHbyKqCHxwkwie/nzz4= X-Google-DKIM-Signature: v=1; a=rsa-sha256; c=relaxed/relaxed; d=1e100.net; s=20230601; t=1761749265; x=1762354065; h=references:in-reply-to:cc:to:from:subject:message-id:date :x-gm-message-state:from:to:cc:subject:date:message-id:reply-to; bh=XSCJn9ftxe37fKpEenLzKCPOyIpJqMvRGXNp5wW9rUM=; b=RYaBkKXE6ky24t6TCJf/vww8q2X69yLQMXV5b5ELRBww4HgDdsbUdoXwG0vQq31iAB BXypmMs45eq1JFgzWAf6gekqgghFDCv/zkzIycnl8ghgvZCAI2wV/UfRmKTnPK5ivD9v 5jtXkKTs+8qD2LiT1lm/QojmKB48v9zgThgDjn+CiqBkjlW/7U7aUqK0k+bFu5EkVk1t xRkWdQa2lYpZbjMqQQ8kqmg3YZzGZcebaVPMAApQolMkP35LYj2apsLFgdXNmOZ61wQu bVsfGTCh79TESFn3slkzy1n8tjeS4hNSPctMAIwkLke0qJAhCcrjXMbJVqBItCudI4pV PGbA== X-Gm-Message-State: AOJu0YwPvqgGTY65SqXx3zwV41+BoCgKWxKN0lmMIBv3ShU0sITesPVi zCKjQv1yF4hr8D1ft+/+YMVP0dwOM8Dv0fFSNptPGcV3xqzrewHaZPIS6XwitBrzBIk3OR0zBKy TRkImpudgHgOo5BS6bP7bysqcgTBRqFAzvAkvzdj8/nbJ X-Gm-Gg: ASbGnctSd7JQtsnJXSixwLBQt6/DyuPFZHh2jYuO9Wd0QIe5CmKcQ1Xfr/PSrht76fT bUUmBIGSqd7BhHvVifhBRthXFyb0eHhILN9azGwxrwRgPtxwJNJe0lkJ0UhmGIBTR3D/ABpFnqN KizoIuL9TJJMlyWrLTZ1bZAvBdHz9cz+VgFxArTi9uj2FB8spT6wiyc6FTvNQyH3/eVhY4sCGoj EH0D9xBh+5cXDCkqVahzEt6C+gXBSCRe/zLEC2tjXaj6nkX31XJ01AqbfymqC3m2dV4UvCSiJYh UzOPgbBp10/PZyToa8SvLdQS0RYuGCezvfYeZKXNayHFPxiiDznjVT1KZWsNjd/Es7sHr9tpYTC 5zDKXQIxJodMNmIMKWnf7DMD83WTjl20= X-Google-Smtp-Source: AGHT+IGc0IXNVkhAp/f9nWoCjKPKN7PcD9fG634ownRbJS/bCgXrbKT97DctRHVjZAL8trAda23XSAyYqwQ7 X-Received: by 2002:a05:690e:154f:20b0:63e:30e1:1698 with SMTP id 956f58d0204a3-63f76d31aacmr2298019d50.9.1761749265591; Wed, 29 Oct 2025 07:47:45 -0700 (PDT) Received: from postal.iol.unh.edu (postal.iol.unh.edu. [132.177.123.84]) by smtp-relay.gmail.com with ESMTPS id 00721157ae682-786314f86bcsm922067b3.4.2025.10.29.07.47.45 (version=TLS1_2 cipher=ECDHE-ECDSA-AES128-GCM-SHA256 bits=128/128); Wed, 29 Oct 2025 07:47:45 -0700 (PDT) X-Relaying-Domain: iol.unh.edu Date: Wed, 29 Oct 2025 07:47:45 -0700 (PDT) Message-ID: <69022911.050a0220.1f8fe5.4212SMTPIN_ADDED_MISSING@mx.google.com> Received: from [172.21.0.2] (unknown [172.18.0.240]) by postal.iol.unh.edu (Postfix) with ESMTP id 49502604D420; Wed, 29 Oct 2025 10:47:45 -0400 (EDT) Subject: |SUCCESS| pw158214-158218 [PATCH] [v2,5/5] net/cnxk: enable CPT CQ f From: dpdklab@iol.unh.edu To: Test Report Cc: dpdk-test-reports@iol.unh.edu In-Reply-To: <20251029130023.1637177-5-rkudurumalla@marvell.com> References: <20251029130023.1637177-5-rkudurumalla@marvell.com> Content-Type: text/plain X-BeenThere: test-report@dpdk.org X-Mailman-Version: 2.1.29 Precedence: list List-Id: automatic DPDK test reports List-Unsubscribe: , List-Archive: List-Post: List-Help: List-Subscribe: , Errors-To: test-report-bounces@dpdk.org Test-Label: iol-unit-amd64-testing Test-Status: SUCCESS http://dpdk.org/patch/158218 _Testing PASS_ Submitter: Rakesh Kudurumalla Date: Wednesday, October 29 2025 13:00:23 DPDK git baseline: Repo:dpdk-next-net-mrvl Branch: master CommitID:39b54f2dcf44ad1f91eabc7080cd5dea763607fd 158214-158218 --> testing pass Upstream job id: Generic-Unit-Test-DPDK#386666 Test environment and result as below: +-------------------------------+----------------+ | Environment | dpdk_unit_test | +===============================+================+ | CentOS Stream 10 | PASS | +-------------------------------+----------------+ | CentOS Stream 9 | PASS | +-------------------------------+----------------+ | Debian GNU/Linux 12 | PASS | +-------------------------------+----------------+ | Fedora Linux 41 | PASS | +-------------------------------+----------------+ | Fedora Linux 40 | PASS | +-------------------------------+----------------+ | Fedora Linux 42 | PASS | +-------------------------------+----------------+ | Ubuntu 22.04 | PASS | +-------------------------------+----------------+ | Ubuntu 20.04 | PASS | +-------------------------------+----------------+ | Ubuntu 24.04 | PASS | +-------------------------------+----------------+ | Red Hat Enterprise Linux 8.10 | PASS | +-------------------------------+----------------+ | Red Hat Enterprise Linux 9.5 | PASS | +-------------------------------+----------------+ CentOS Stream 10 Kernel: 5.15 Compiler: gcc gcc (GCC) 14.2.1 20250110 (Red Hat 14.2.1-8) CentOS Stream 9 Kernel: 5.15 Compiler: gcc gcc (GCC) 11.5.0 20240719 (Red Hat 11.5.0-11) Debian GNU/Linux 12 Kernel: 5.15 Compiler: gcc gcc (Debian 12.2.0-14+deb12u1) 12.2.0 Fedora Linux 41 Kernel: 5.15 Compiler: gcc gcc (GCC) 14.3.1 20250523 (Red Hat 14.3.1-1) Fedora Linux 40 Kernel: 5.15 Compiler: clang gcc (GCC) 14.2.1 20240912 (Red Hat 14.2.1-3) Fedora Linux 42 Kernel: 5.15 Compiler: gcc gcc (GCC) 15.2.1 20250808 (Red Hat 15.2.1-1) Ubuntu 22.04 Kernel: 5.15 Compiler: gcc gcc (Ubuntu 11.4.0-1ubuntu1~22.04) 11.4.0 Ubuntu 20.04 Kernel: 5.15 Compiler: gcc gcc (Ubuntu 9.4.0-1ubuntu1~20.04.2) 9.4.0 Ubuntu 24.04 Kernel: 5.15 Compiler: gcc gcc (Ubuntu 13.3.0-6ubuntu2~24.04) 13.3.0 Red Hat Enterprise Linux 8.10 Kernel: 5.15 Compiler: gcc gcc (GCC) 8.5.0 20210514 (Red Hat 8.5.0-22) Red Hat Enterprise Linux 9.5 Kernel: 5.15 Compiler: gcc gcc (GCC) 11.5.0 20240719 (Red Hat 11.5.0-2) To view detailed results, visit: https://lab.dpdk.org/results/dashboard/patchsets/34415/ UNH-IOL DPDK Community Lab To manage your email subscriptions, visit: https://lab.dpdk.org/results/dashboard/preferences/subscriptions/