From mboxrd@z Thu Jan 1 00:00:00 1970 Return-Path: Received: from mails.dpdk.org (mails.dpdk.org [217.70.189.124]) by inbox.dpdk.org (Postfix) with ESMTP id B67C948A49 for ; Wed, 29 Oct 2025 16:03:06 +0100 (CET) Received: from mails.dpdk.org (localhost [127.0.0.1]) by mails.dpdk.org (Postfix) with ESMTP id 8C9A0402D2; Wed, 29 Oct 2025 16:03:06 +0100 (CET) Received: from mail-il1-f228.google.com (mail-il1-f228.google.com [209.85.166.228]) by mails.dpdk.org (Postfix) with ESMTP id D0D25402D2 for ; Wed, 29 Oct 2025 16:03:05 +0100 (CET) Received: by mail-il1-f228.google.com with SMTP id e9e14a558f8ab-431d65ad973so31133245ab.3 for ; Wed, 29 Oct 2025 08:03:05 -0700 (PDT) DKIM-Signature: v=1; a=rsa-sha256; c=relaxed/relaxed; d=iol.unh.edu; s=unh-iol; t=1761750185; x=1762354985; darn=dpdk.org; h=references:in-reply-to:cc:to:from:subject:message-id:date:from:to :cc:subject:date:message-id:reply-to; bh=WTbLwsK2yIxtLoUfr1Umln0Ba/0NeCjpYFwmCWSc1g8=; b=T2EZcfA1P7TAeCbM6bKr4xWBtumWPetM9QtU+JPtfjf8fyK3ke+eJwsMAavJt+gCu2 ODI0XbBbMEbUkfNf7XHWeNEdiJAVkvqnHYMKQ4HB+O7w5qr6FIVANtGbcNXYkydsq6qG HUrSi9oONCjiF08UnQrWtc+2YYgAUTdLP94YU= X-Google-DKIM-Signature: v=1; a=rsa-sha256; c=relaxed/relaxed; d=1e100.net; s=20230601; t=1761750185; x=1762354985; h=references:in-reply-to:cc:to:from:subject:message-id:date :x-gm-message-state:from:to:cc:subject:date:message-id:reply-to; bh=WTbLwsK2yIxtLoUfr1Umln0Ba/0NeCjpYFwmCWSc1g8=; b=DdpyIEW2ymFVLKyQsHAIfMlsvELvE37WvFF5As+4iHibW7ZBvbLlOJlRTw6HWEbYIP vIsb5Gn7JFRt1j39yOA8VqeSTnwD97xbrCa/5rGo3t6IwiJHlcC4t0rRgc8+sKmN38lz Hub8RFuY11/qrrQHxD+kEVPowemkfRECRcVD0IHhPPJZh77CHWJBoUFNCmBEIiMmpy0S CoA6bERCx6Tkp7qyqB5atMvKa3TxkM9IqONFm8jORbfg5Pm3IZmIH8gL3bogGE8QJgbx rxbtPBwGI0lvJSB4SzfO/vWv15vRaS2A9V2TgOmDWMK74Hr+jmAM1KoqiNPIWaugcIH+ xSzw== X-Gm-Message-State: AOJu0Yznxf2eFfGDHgvMR5VOtxQhkQ8wP+7O9y6B9G5dbL4qwbtiaSrK 4D+mUrfE31Pe5NDDh4m1zyLTYbEwBv1MfcIZMlpKM4PXae9E/aFgyfhoABQ3nb1lhKhTm5GcW5/ 6hD3E193fcfhjnx/mGxF4k1tEJFW6LiRc7KuWmlhblEYwGwA+bu0CR4oAIrE5 X-Gm-Gg: ASbGncsqivsiSQuRUX1hv0cUkW8Ziy8HqsgEfgfjtqu24J/CydAyqZpoWo4GyIdQgR7 w9unjf+YdZ8W5t03I14br9sGn03cXwbyyf339aGlPBcq1fWENHQZWU7rmXtGg/wxuiFG5wVFVuv 0jsgxjmv4XYTTMYgYFGF76X/RatKOjgYwrWS7KiIvpYT7ZWNu/sXGCblB1cMsn71edjHRXWDpTt qNxZzt+3rPloijoiCuKKmRgYNW6HUrsTGcGC/w75SyOQE+UCYkkf/fvs8xfEQV2rJulmkU6T6FV XGM9oebBjwn1qjSWwSslJm60kjEcqoLNuNDKUoByIPLmN4NixNyfKVHHg5OQwa+lZFW5GDnLRw/ DDOgIsJ9X X-Google-Smtp-Source: AGHT+IF9hdCfGg2/duPmxgw6DALdj/qQOpbunK1tgClA3s55xldfgbRY7n4gMaFWQ+sXJIAXe/eACp35Pf+Z X-Received: by 2002:a05:6e02:156c:b0:425:744b:52d3 with SMTP id e9e14a558f8ab-432f8fbb3f9mr43298335ab.11.1761750183480; Wed, 29 Oct 2025 08:03:03 -0700 (PDT) Received: from postal.iol.unh.edu (postal.iol.unh.edu. [2606:4100:3880:1234::84]) by smtp-relay.gmail.com with ESMTPS id e9e14a558f8ab-432fbc61e4fsm1900925ab.31.2025.10.29.08.03.03 (version=TLS1_2 cipher=ECDHE-ECDSA-AES128-GCM-SHA256 bits=128/128); Wed, 29 Oct 2025 08:03:03 -0700 (PDT) X-Relaying-Domain: iol.unh.edu Date: Wed, 29 Oct 2025 08:03:03 -0700 (PDT) Message-ID: <69022ca7.050a0220.2482fb.8eb9SMTPIN_ADDED_MISSING@mx.google.com> Received: from [172.21.0.3] (unknown [172.18.0.240]) by postal.iol.unh.edu (Postfix) with ESMTP id E0DA4604D420; Wed, 29 Oct 2025 11:03:02 -0400 (EDT) Subject: |SUCCESS| pw158219 [PATCH] [v1,1/1] net: fix inner L2 length for GRE From: dpdklab@iol.unh.edu To: Test Report Cc: dpdk-test-reports@iol.unh.edu In-Reply-To: <20251029130523.1642847-1-rkudurumalla@marvell.com> References: <20251029130523.1642847-1-rkudurumalla@marvell.com> Content-Type: text/plain X-BeenThere: test-report@dpdk.org X-Mailman-Version: 2.1.29 Precedence: list List-Id: automatic DPDK test reports List-Unsubscribe: , List-Archive: List-Post: List-Help: List-Subscribe: , Errors-To: test-report-bounces@dpdk.org Test-Label: iol-unit-amd64-testing Test-Status: SUCCESS http://dpdk.org/patch/158219 _Testing PASS_ Submitter: Rakesh Kudurumalla Date: Wednesday, October 29 2025 13:05:23 DPDK git baseline: Repo:dpdk Branch: master CommitID:39b54f2dcf44ad1f91eabc7080cd5dea763607fd 158219 --> testing pass Upstream job id: Generic-VM-Unit-Test-DPDK#32156 Test environment and result as below: +-------------------------------+----------------+ | Environment | dpdk_unit_test | +===============================+================+ | CentOS Stream 9 | PASS | +-------------------------------+----------------+ | CentOS Stream 10 | PASS | +-------------------------------+----------------+ | Debian GNU/Linux 12 | PASS | +-------------------------------+----------------+ | Fedora Linux 40 | PASS | +-------------------------------+----------------+ | Fedora Linux 41 | PASS | +-------------------------------+----------------+ | Fedora Linux 42 | PASS | +-------------------------------+----------------+ | Red Hat Enterprise Linux 9.5 | PASS | +-------------------------------+----------------+ | Red Hat Enterprise Linux 8.10 | PASS | +-------------------------------+----------------+ | Ubuntu 20.04 | PASS | +-------------------------------+----------------+ | Ubuntu 22.04 | PASS | +-------------------------------+----------------+ | Ubuntu 24.04 | PASS | +-------------------------------+----------------+ | Windows Server 2022 | PASS | +-------------------------------+----------------+ CentOS Stream 9 Kernel: 5.15 Compiler: gcc gcc (GCC) 11.5.0 20240719 (Red Hat 11.5.0-11) CentOS Stream 10 Kernel: 5.15 Compiler: gcc gcc (GCC) 14.2.1 20250110 (Red Hat 14.2.1-8) Debian GNU/Linux 12 Kernel: 5.15 Compiler: gcc gcc (Debian 12.2.0-14+deb12u1) 12.2.0 Fedora Linux 40 Kernel: 5.15 Compiler: gcc gcc (GCC) 14.2.1 20240912 (Red Hat 14.2.1-3) Fedora Linux 41 Kernel: 5.15 Compiler: gcc gcc (GCC) 14.3.1 20250523 (Red Hat 14.3.1-1) Fedora Linux 42 Kernel: 5.15 Compiler: gcc gcc (GCC) 15.2.1 20250808 (Red Hat 15.2.1-1) Red Hat Enterprise Linux 9.5 Kernel: 5.15 Compiler: gcc gcc (GCC) 11.5.0 20240719 (Red Hat 11.5.0-2) Red Hat Enterprise Linux 8.10 Kernel: 5.15 Compiler: gcc gcc (GCC) 8.5.0 20210514 (Red Hat 8.5.0-22) Ubuntu 20.04 Kernel: 5.15 Compiler: gcc gcc (Ubuntu 9.4.0-1ubuntu1~20.04.2) 9.4.0 Ubuntu 22.04 Kernel: 5.15 Compiler: gcc gcc (Ubuntu 11.4.0-1ubuntu1~22.04) 11.4.0 Ubuntu 24.04 Kernel: 5.15 Compiler: gcc gcc (Ubuntu 13.3.0-6ubuntu2~24.04) 13.3.0 Windows Server 2022 Kernel: 10.0.20348.2031 Compiler: clang 15.0.7, gcc 14.1.0 (MinGW), and MSVC VS 19.39.33521 To view detailed results, visit: https://lab.dpdk.org/results/dashboard/patchsets/34414/ UNH-IOL DPDK Community Lab To manage your email subscriptions, visit: https://lab.dpdk.org/results/dashboard/preferences/subscriptions/