From mboxrd@z Thu Jan 1 00:00:00 1970 Return-Path: Received: from mails.dpdk.org (mails.dpdk.org [217.70.189.124]) by inbox.dpdk.org (Postfix) with ESMTP id DA2A548A49 for ; Wed, 29 Oct 2025 16:22:02 +0100 (CET) Received: from mails.dpdk.org (localhost [127.0.0.1]) by mails.dpdk.org (Postfix) with ESMTP id D3FE34042F; Wed, 29 Oct 2025 16:22:02 +0100 (CET) Received: from mail-vk1-f226.google.com (mail-vk1-f226.google.com [209.85.221.226]) by mails.dpdk.org (Postfix) with ESMTP id 2F8814042F for ; Wed, 29 Oct 2025 16:22:01 +0100 (CET) Received: by mail-vk1-f226.google.com with SMTP id 71dfb90a1353d-557d71a96f3so27738e0c.0 for ; Wed, 29 Oct 2025 08:22:01 -0700 (PDT) DKIM-Signature: v=1; a=rsa-sha256; c=relaxed/relaxed; d=iol.unh.edu; s=unh-iol; t=1761751320; x=1762356120; darn=dpdk.org; h=references:in-reply-to:cc:to:from:subject:message-id:date:from:to :cc:subject:date:message-id:reply-to; bh=8bak4j1oi/F8rcw+20Nm7ShpmJbZjV+zP6IHXN5aCNg=; b=IXyI+GjDvbFHlEosWr6U7/jgnJ9mPN/Mu+gkjua/PLEmSDFFR3aF78zQd0uvIzWFY0 YRCwymkKQgwatL0dz8jaQM/NkZUG6nuB7lo+6kJlyl4ef24uUJcfg1isaQXyd9Ui3V+d 2QyavGIjJj4k2uazXCG9L4Rq+4lrGTkQMoro0= X-Google-DKIM-Signature: v=1; a=rsa-sha256; c=relaxed/relaxed; d=1e100.net; s=20230601; t=1761751320; x=1762356120; h=references:in-reply-to:cc:to:from:subject:message-id:date :x-gm-message-state:from:to:cc:subject:date:message-id:reply-to; bh=8bak4j1oi/F8rcw+20Nm7ShpmJbZjV+zP6IHXN5aCNg=; b=B/v0ICYe0ltEETdxwmVI97+cTclJrDRT+TQVYYXavcwi0lbBsRPV25skRRaTcFipkX b7dwxPORW4aFN6BKlWaF7w57krteEQb1SZ6yUN5Kee2RaTi0XNlraM7pVkEqv/9wz0FD G/1B+Cq3o4RRAwqUvf1ShoE2QbOQeRYyILfdRVytf6AJu3aumzuLeTiBsaChXM90Og5W A90Y5lwcBlWgbkB6rICpmWVK8HXf6ZsyoXACYUrh1dIrVJjG5c5FErymrNoDq9qCRn4F ujzC05r7iygob2H09PIyavXhtt2lX8HZnQ1qV+ZV74SxO2neXKqPtbiJmnBLiILnpecM H4MQ== X-Gm-Message-State: AOJu0Ywpex5N1xdPjSiptCmUam3qMdrp5CWNPW0kmDcguv8Eidg+21it COeGWMS5S+ogiRzJ5tKpqagXaKxv4BwCYJnGFRXjnL5CZ4wsX2Xdo5lScuf+fW3uWMIhYhuVF2m B962eRdBkVJvTKq1XJH1LcY3kFlbvpzqAg0akuj9feZ6wdiTvwYCnj6zGJ/tl X-Gm-Gg: ASbGnctfMAlkrU7ak4JNZlXBrEbyc3rbmk93T8CuKa+Wecv+tMDduTwP5TxieUFRqcc vAk4ZS0h2TmvosaFyfAuzm3lYlLDHBEPP8/HFA1hQMT8meGcGPCQCVUbijF6BVRFXeIAz7R7Dll vih3Ym2UKDM4N/QnfWrI6b9K5Pit61o/P2B6eb2VI9nqwkcPUFvIq25ehrhy0oNoKB+kcdfbrG2 HbT5geQ08Mdff6HoSHEOVHtNy8MJnPFAgW7QRi5uaJO//PWp3bRqFPqaDkgt3QWkMK2NdLuMIYC 8cbNGIksW0ilAH5XNrDwrb8blP4Px8T6956hAFUzytihmHy79oCnriw/coSZae21B+JQEODM/FW z+H8LINp9 X-Google-Smtp-Source: AGHT+IG40nXr/gU0cmAxKYZhZ6IpUZ11SzfwlhlyOky6pQoOxE3D77tXX81CjhvqTe5yug5YE8LlaAAj/1c/ X-Received: by 2002:a05:6122:896:b0:54a:a2a3:b16b with SMTP id 71dfb90a1353d-55803d5bcb5mr2991102e0c.3.1761751320494; Wed, 29 Oct 2025 08:22:00 -0700 (PDT) Received: from postal.iol.unh.edu (postal.iol.unh.edu. [2606:4100:3880:1234::84]) by smtp-relay.gmail.com with ESMTPS id 71dfb90a1353d-557ddaf37a6sm1583949e0c.3.2025.10.29.08.22.00 (version=TLS1_2 cipher=ECDHE-ECDSA-AES128-GCM-SHA256 bits=128/128); Wed, 29 Oct 2025 08:22:00 -0700 (PDT) X-Relaying-Domain: iol.unh.edu Date: Wed, 29 Oct 2025 08:22:00 -0700 (PDT) Message-ID: <69023118.050a0220.35b996.958aSMTPIN_ADDED_MISSING@mx.google.com> Received: from [172.21.0.2] (unknown [172.18.0.240]) by postal.iol.unh.edu (Postfix) with ESMTP id 3572B6051830; Wed, 29 Oct 2025 11:22:00 -0400 (EDT) Subject: |WARNING| pw158214-158218 [PATCH] [v2,5/5] net/cnxk: enable CPT CQ f From: dpdklab@iol.unh.edu To: Test Report Cc: dpdk-test-reports@iol.unh.edu In-Reply-To: <20251029130023.1637177-5-rkudurumalla@marvell.com> References: <20251029130023.1637177-5-rkudurumalla@marvell.com> Content-Type: text/plain X-BeenThere: test-report@dpdk.org X-Mailman-Version: 2.1.29 Precedence: list List-Id: automatic DPDK test reports List-Unsubscribe: , List-Archive: List-Post: List-Help: List-Subscribe: , Errors-To: test-report-bounces@dpdk.org Test-Label: iol-compile-amd64-testing Test-Status: WARNING http://dpdk.org/patch/158218 _Testing issues_ Submitter: Rakesh Kudurumalla Date: Wednesday, October 29 2025 13:00:23 DPDK git baseline: Repo:dpdk-next-net-mrvl Branch: master CommitID:39b54f2dcf44ad1f91eabc7080cd5dea763607fd 158214-158218 --> testing issues Upstream job id: Windows-Compile-DPDK-Native#31983 Test environment and result as below: +-------------------------------+--------------------+-------------------+------------------+-------------------+-------------------------+ | Environment | dpdk_meson_compile | dpdk_compile_spdk | dpdk_compile_ovs | dpdk_msvc_compile | dpdk_llvm_clang_compile | +===============================+====================+===================+==================+===================+=========================+ | CentOS Stream 9 | PASS | WARN | SKIPPED | SKIPPED | SKIPPED | +-------------------------------+--------------------+-------------------+------------------+-------------------+-------------------------+ | Fedora Linux 42 | PASS | WARN | PASS | SKIPPED | SKIPPED | +-------------------------------+--------------------+-------------------+------------------+-------------------+-------------------------+ | CentOS Stream 10 | PASS | SKIPPED | SKIPPED | SKIPPED | SKIPPED | +-------------------------------+--------------------+-------------------+------------------+-------------------+-------------------------+ | Debian GNU/Linux 12 | PASS | WARN | SKIPPED | SKIPPED | SKIPPED | +-------------------------------+--------------------+-------------------+------------------+-------------------+-------------------------+ | Ubuntu 20.04 | PASS | SKIPPED | SKIPPED | SKIPPED | SKIPPED | +-------------------------------+--------------------+-------------------+------------------+-------------------+-------------------------+ | Red Hat Enterprise Linux 8.10 | PASS | SKIPPED | SKIPPED | SKIPPED | SKIPPED | +-------------------------------+--------------------+-------------------+------------------+-------------------+-------------------------+ | openSUSE Leap 15.6 | PASS | SKIPPED | SKIPPED | SKIPPED | SKIPPED | +-------------------------------+--------------------+-------------------+------------------+-------------------+-------------------------+ | FreeBSD 14.2 | PASS | SKIPPED | SKIPPED | SKIPPED | SKIPPED | +-------------------------------+--------------------+-------------------+------------------+-------------------+-------------------------+ | Red Hat Enterprise Linux 9.5 | PASS | SKIPPED | SKIPPED | SKIPPED | SKIPPED | +-------------------------------+--------------------+-------------------+------------------+-------------------+-------------------------+ | Ubuntu 22.04 | PASS | WARN | SKIPPED | SKIPPED | SKIPPED | +-------------------------------+--------------------+-------------------+------------------+-------------------+-------------------------+ | Ubuntu 24.04 | PASS | WARN | PASS | SKIPPED | SKIPPED | +-------------------------------+--------------------+-------------------+------------------+-------------------+-------------------------+ | Alpine Linux 3.22.0 | PASS | SKIPPED | SKIPPED | SKIPPED | SKIPPED | +-------------------------------+--------------------+-------------------+------------------+-------------------+-------------------------+ | Windows Server 2022 | SKIPPED | SKIPPED | SKIPPED | PASS | PASS | +-------------------------------+--------------------+-------------------+------------------+-------------------+-------------------------+ ==== 20 line log output for Ubuntu 24.04 (dpdk_compile_spdk): ==== --- Failed to get log output --- ==== End log output ==== CentOS Stream 9 Kernel: 5.15 Compiler: gcc gcc (GCC) 11.5.0 20240719 (Red Hat 11.5.0-11) Fedora Linux 42 Kernel: 5.15 Compiler: clang gcc (GCC) 15.2.1 20250808 (Red Hat 15.2.1-1) CentOS Stream 10 Kernel: 5.15 Compiler: gcc gcc (GCC) 14.2.1 20250110 (Red Hat 14.2.1-8) Debian GNU/Linux 12 Kernel: 5.15 Compiler: gcc gcc (Debian 12.2.0-14+deb12u1) 12.2.0 Ubuntu 20.04 Kernel: 4.19 Compiler: gcc gcc (Ubuntu 9.4.0-1ubuntu1~20.04.2) 9.4.0 Red Hat Enterprise Linux 8.10 Kernel: 5.15 Compiler: gcc gcc (GCC) 8.5.0 20210514 (Red Hat 8.5.0-22) openSUSE Leap 15.6 Kernel: 5.15 Compiler: gcc gcc (SUSE Linux) 7.5.0 FreeBSD 14.2 Kernel: 14.2-RELEASE Compiler: clang 18.1.6 Red Hat Enterprise Linux 9.5 Kernel: 5.15 Compiler: gcc gcc (GCC) 11.5.0 20240719 (Red Hat 11.5.0-2) Ubuntu 22.04 Kernel: 5.15 Compiler: gcc gcc (Ubuntu 11.4.0-1ubuntu1~22.04) 11.4.0 Ubuntu 24.04 Kernel: 5.15 Compiler: gcc gcc (Ubuntu 13.3.0-6ubuntu2~24.04) 13.3.0 Alpine Linux 3.22.0 Kernel: 5.15 Compiler: gcc gcc (Alpine 14.2.0) 14.2.0 Windows Server 2022 Kernel: 10.0.20348.2031 Compiler: clang 15.0.7, gcc 14.1.0 (MinGW), and MSVC VS 19.39.33521 To view detailed results, visit: https://lab.dpdk.org/results/dashboard/patchsets/34415/ UNH-IOL DPDK Community Lab To manage your email subscriptions, visit: https://lab.dpdk.org/results/dashboard/preferences/subscriptions/