From mboxrd@z Thu Jan 1 00:00:00 1970 Return-Path: Received: from mails.dpdk.org (mails.dpdk.org [217.70.189.124]) by inbox.dpdk.org (Postfix) with ESMTP id F26D348A4B for ; Wed, 29 Oct 2025 16:31:58 +0100 (CET) Received: from mails.dpdk.org (localhost [127.0.0.1]) by mails.dpdk.org (Postfix) with ESMTP id DBCB14025E; Wed, 29 Oct 2025 16:31:58 +0100 (CET) Received: from mail-pl1-f226.google.com (mail-pl1-f226.google.com [209.85.214.226]) by mails.dpdk.org (Postfix) with ESMTP id 03D544025E for ; Wed, 29 Oct 2025 16:31:58 +0100 (CET) Received: by mail-pl1-f226.google.com with SMTP id d9443c01a7336-27d4d6b7ab5so111163095ad.2 for ; Wed, 29 Oct 2025 08:31:57 -0700 (PDT) DKIM-Signature: v=1; a=rsa-sha256; c=relaxed/relaxed; d=iol.unh.edu; s=unh-iol; t=1761751917; x=1762356717; darn=dpdk.org; h=references:in-reply-to:cc:to:from:subject:message-id:date:from:to :cc:subject:date:message-id:reply-to; bh=ljN0NNpgmGCPI/dDxXDaNTy91GJvQmH9fgsPV069BCs=; b=WV4HWQpTkNwjOdH6noqGdlfRM8WaQ4f43HK3Yyz7j/zCdR2H17jGYQb3CawFHOrDaE P0Y309iO75kMsB7qJg/1eCSPfY6ni8I9QXxEnuBAc8FLu+DyUMxLV6gPS4fGXQZWAoDB unRusxaa63xtLfLq9L4/Sl4P1MekZ5Wclv9DU= X-Google-DKIM-Signature: v=1; a=rsa-sha256; c=relaxed/relaxed; d=1e100.net; s=20230601; t=1761751917; x=1762356717; h=references:in-reply-to:cc:to:from:subject:message-id:date :x-gm-message-state:from:to:cc:subject:date:message-id:reply-to; bh=ljN0NNpgmGCPI/dDxXDaNTy91GJvQmH9fgsPV069BCs=; b=FMUuasbmscB4kozdFsTo9/JWRDiZxD4CD7+4vGQRpanzhsSlCXrtEzMLT8xBtqtz4z WKt44xZ79xIX0f2JfGBj5F6l6h3+HlH/9GeAxDopCyCSyiSfNtTyjXUPEm4bLsgU2vyC svruIAi8f+SmnebIlCd7V1KwR1pDIYLP4nWsOxwgAYZpulO/tdMjNskv2Z7mLYaBR8zl JEg+Cv+w7ABueTubO337fKgjktJFf16KXGd6jMZBmbrIYmQmOEmk366WsMIW54FVpTYW FgGaN7SDn6VVBkKbc//3Tdq8/6HwnhrI2hVC4PoJOv8P5OzAyIWA607YEtT4c+IAnBZR gpEA== X-Gm-Message-State: AOJu0YwOqB8IEMBaz7mAAh7kXn0zIYpZ66RxC+HE3MXtnaqMpNHzm+U7 dJqR0J9K41fk5FSPEE7heyCY9hK/KlLh6DgNbXB/dPv8kpUNHzkSiyWdve10se1/X7jIagWJYdk 471hs5tV0hwiPfBc0hS5Hf9n88qqN5AFEIYYoUWJljtlY X-Gm-Gg: ASbGncudI290Pe5G1d3/I2JllAJW7RPOwDiyG0S1Iv5uSaApTytxQ22wTsiC2pQ+K+U SNDmhMajT6PdKGK30FbK/02hwxRVjhIJIGzBQE4N4hDxk6wyTAy94U9I8SVQBpUnv4H/q/NaqZi pur5jKurY2AuFrae4OOpcXLqjn3bOHTHkwSrnY6P+sgeF6lMz7OHao/M504ixeRO2KLRw8CNeaS QW61Ap5DAyZWiJuA4X/BLP3Oz4QGXHWOeh64b4vP2FZp9sLob9tvgjXN7548I9l4gGTF7lW9JNY UbVhhkmJ94AAo0j98yhqVNsQzGxz1qsqBlCAG0Gayl8p0NQobqHj9WBPjkY/Tq+uvDHBC+Qe0bc cxDliG8ANUfJt2zDezDyoX3ybo1hgvJE= X-Google-Smtp-Source: AGHT+IFk6gU+limxBDDeYKF/V6YOEXIlxOS8f5SztInJabNn9ETHkajwUuPmr/f0xArQJ03Distypwc6HnqB X-Received: by 2002:a17:902:ce8d:b0:269:b6c8:4a4b with SMTP id d9443c01a7336-294dedf8f38mr44820845ad.6.1761751914418; Wed, 29 Oct 2025 08:31:54 -0700 (PDT) Received: from postal.iol.unh.edu (postal.iol.unh.edu. [132.177.123.84]) by smtp-relay.gmail.com with ESMTPS id d9443c01a7336-29498d40e05sm14691885ad.44.2025.10.29.08.31.54 (version=TLS1_2 cipher=ECDHE-ECDSA-AES128-GCM-SHA256 bits=128/128); Wed, 29 Oct 2025 08:31:54 -0700 (PDT) X-Relaying-Domain: iol.unh.edu Date: Wed, 29 Oct 2025 08:31:54 -0700 (PDT) Message-ID: <6902336a.170a0220.1722f0.587fSMTPIN_ADDED_MISSING@mx.google.com> Received: from [172.21.0.4] (unknown [172.18.0.240]) by postal.iol.unh.edu (Postfix) with ESMTP id AC7A9604D420; Wed, 29 Oct 2025 11:31:53 -0400 (EDT) Subject: |SUCCESS| pw158214-158218 [PATCH] [v2,5/5] net/cnxk: enable CPT CQ f From: dpdklab@iol.unh.edu To: Test Report Cc: dpdk-test-reports@iol.unh.edu In-Reply-To: <20251029130023.1637177-5-rkudurumalla@marvell.com> References: <20251029130023.1637177-5-rkudurumalla@marvell.com> Content-Type: text/plain X-BeenThere: test-report@dpdk.org X-Mailman-Version: 2.1.29 Precedence: list List-Id: automatic DPDK test reports List-Unsubscribe: , List-Archive: List-Post: List-Help: List-Subscribe: , Errors-To: test-report-bounces@dpdk.org Test-Label: iol-unit-amd64-testing Test-Status: SUCCESS http://dpdk.org/patch/158218 _Testing PASS_ Submitter: Rakesh Kudurumalla Date: Wednesday, October 29 2025 13:00:23 DPDK git baseline: Repo:dpdk-next-net-mrvl Branch: master CommitID:39b54f2dcf44ad1f91eabc7080cd5dea763607fd 158214-158218 --> testing pass Upstream job id: Generic-VM-Unit-Test-DPDK#32157 Test environment and result as below: +-------------------------------+----------------+ | Environment | dpdk_unit_test | +===============================+================+ | CentOS Stream 10 | PASS | +-------------------------------+----------------+ | CentOS Stream 9 | PASS | +-------------------------------+----------------+ | Debian GNU/Linux 12 | PASS | +-------------------------------+----------------+ | Fedora Linux 41 | PASS | +-------------------------------+----------------+ | Fedora Linux 40 | PASS | +-------------------------------+----------------+ | Fedora Linux 42 | PASS | +-------------------------------+----------------+ | Ubuntu 22.04 | PASS | +-------------------------------+----------------+ | Ubuntu 20.04 | PASS | +-------------------------------+----------------+ | Ubuntu 24.04 | PASS | +-------------------------------+----------------+ | Red Hat Enterprise Linux 8.10 | PASS | +-------------------------------+----------------+ | Red Hat Enterprise Linux 9.5 | PASS | +-------------------------------+----------------+ | Windows Server 2022 | PASS | +-------------------------------+----------------+ CentOS Stream 10 Kernel: 5.15 Compiler: gcc gcc (GCC) 14.2.1 20250110 (Red Hat 14.2.1-8) CentOS Stream 9 Kernel: 5.15 Compiler: gcc gcc (GCC) 11.5.0 20240719 (Red Hat 11.5.0-11) Debian GNU/Linux 12 Kernel: 5.15 Compiler: gcc gcc (Debian 12.2.0-14+deb12u1) 12.2.0 Fedora Linux 41 Kernel: 5.15 Compiler: gcc gcc (GCC) 14.3.1 20250523 (Red Hat 14.3.1-1) Fedora Linux 40 Kernel: 5.15 Compiler: clang gcc (GCC) 14.2.1 20240912 (Red Hat 14.2.1-3) Fedora Linux 42 Kernel: 5.15 Compiler: gcc gcc (GCC) 15.2.1 20250808 (Red Hat 15.2.1-1) Ubuntu 22.04 Kernel: 5.15 Compiler: gcc gcc (Ubuntu 11.4.0-1ubuntu1~22.04) 11.4.0 Ubuntu 20.04 Kernel: 5.15 Compiler: gcc gcc (Ubuntu 9.4.0-1ubuntu1~20.04.2) 9.4.0 Ubuntu 24.04 Kernel: 5.15 Compiler: gcc gcc (Ubuntu 13.3.0-6ubuntu2~24.04) 13.3.0 Red Hat Enterprise Linux 8.10 Kernel: 5.15 Compiler: gcc gcc (GCC) 8.5.0 20210514 (Red Hat 8.5.0-22) Red Hat Enterprise Linux 9.5 Kernel: 5.15 Compiler: gcc gcc (GCC) 11.5.0 20240719 (Red Hat 11.5.0-2) Windows Server 2022 Kernel: 10.0.20348.2031 Compiler: clang 15.0.7, gcc 14.1.0 (MinGW), and MSVC VS 19.39.33521 To view detailed results, visit: https://lab.dpdk.org/results/dashboard/patchsets/34415/ UNH-IOL DPDK Community Lab To manage your email subscriptions, visit: https://lab.dpdk.org/results/dashboard/preferences/subscriptions/