From mboxrd@z Thu Jan 1 00:00:00 1970 Return-Path: Received: from mails.dpdk.org (mails.dpdk.org [217.70.189.124]) by inbox.dpdk.org (Postfix) with ESMTP id 023DF48A4B for ; Wed, 29 Oct 2025 16:40:10 +0100 (CET) Received: from mails.dpdk.org (localhost [127.0.0.1]) by mails.dpdk.org (Postfix) with ESMTP id F095C4025E; Wed, 29 Oct 2025 16:40:10 +0100 (CET) Received: from mail-pg1-f228.google.com (mail-pg1-f228.google.com [209.85.215.228]) by mails.dpdk.org (Postfix) with ESMTP id A5DBA402E5 for ; Wed, 29 Oct 2025 16:40:09 +0100 (CET) Received: by mail-pg1-f228.google.com with SMTP id 41be03b00d2f7-b6cf257f325so5825918a12.2 for ; Wed, 29 Oct 2025 08:40:09 -0700 (PDT) DKIM-Signature: v=1; a=rsa-sha256; c=relaxed/relaxed; d=iol.unh.edu; s=unh-iol; t=1761752409; x=1762357209; darn=dpdk.org; h=references:in-reply-to:cc:to:from:subject:message-id:date:from:to :cc:subject:date:message-id:reply-to; bh=G7zpxvihceFZufU8oEgiTo+WYE2dbfj8tSNU88RYyVs=; b=av6uM6p10GVAyVBBi3Mjh6Mkulp7b0Z8CjraSEzux+kAVncE2VqGQHNakhh+y9exZD PwFALx+lxwcUeeFk2LJzZUQVhoIum6eGhrwERrJPXWKCxUJOPMuQ8y+5ilyV3eDNiC4L uocw+FGg4QE9GRVBluNUL+rcSEi04pk8emiDI= X-Google-DKIM-Signature: v=1; a=rsa-sha256; c=relaxed/relaxed; d=1e100.net; s=20230601; t=1761752409; x=1762357209; h=references:in-reply-to:cc:to:from:subject:message-id:date :x-gm-message-state:from:to:cc:subject:date:message-id:reply-to; bh=G7zpxvihceFZufU8oEgiTo+WYE2dbfj8tSNU88RYyVs=; b=H/hB1JaOU3vceq0h/zRA0UBY1FMr14+Xn1BxN3A8KPAYblrFU+/s2ikhjnTMTW/O3w eyfXQ6u0RXMq/e2ctUtyNhgCXwxAWH76iaYWKMFM6LLR62/qBK8Vb04vCjyO3umLe9Cl WdRbXm75JT7XEcwy4QiASE2elMJhqAHSQfmSPVf5tD1pwJodsDn2jzIaGNDec86AXCiu bLre50ma4jjf8iU1SEM0zj3OkrGI9Qf0aV3ypsO2clM98E4LMbudRv3UZ8fr4kxKplSY fs2r89dIhm/wmijdyCUvYNWf3Kuvqgiro4GD1n/fQnna1PtiuTZQs4fcVbvO0HzqmQEI aZ9A== X-Gm-Message-State: AOJu0YwKvu/Lo1Jg8uJ53v1w8tOGtmwsZ6oXJboksSrRrE6mM9SXeEbD BgO6aCKBje3S3IIV5ozv33vcQzoIKI1IlgCjAwKGICTKQJ7meKG2+UB9szF7KR6fULOHOCKMkMK plVlBAsmRj28VVmSW5sp5ittMZk1Uj8bUY48ZlesS5fa4 X-Gm-Gg: ASbGncvaF/Wt/FM+7p2aagmnIF85nxwkyWHj4YtkElkgrvxf5pig9G1cNDwZofEvluF qrhPfJuQcJScfyxIF+T7W31VvcEXx5AqcKryKNhOMGpajqV0sVQXFVgctnNVC9Qi4tfzD5JgTik TYzj8wRdtLZc9ayU7HauuvhCiHYROM152JI2JrpUlZ3t7oCJeniXf1aj3zE+vmFux71Jjtf3DPX DETYuftOQ0/aSchFRdET4xvLBGXGhakZNoWAzY03j35iy/4m/UFwsEV07YkZBO+0qNAB5f/9y0L UyqoG7AXqaio5BKVmnySlZMfSKlkVSMCLjLMtIgLUkNG3VlPcZKpHuSNQXSveV0HDYg8fzIVodn fIVzhziF3IKy+xfOXMVwc4WHmmaI3rLE= X-Google-Smtp-Source: AGHT+IHT5s91W5THKI1RryG5lDoTcUnD4NzS3ESmWjF67zK7OzjWrMj2wr1QGkXjM+WYf8Ev5+q5f4q9gdvD X-Received: by 2002:a17:902:d507:b0:264:8a8d:92e8 with SMTP id d9443c01a7336-294def47790mr49621215ad.59.1761752408621; Wed, 29 Oct 2025 08:40:08 -0700 (PDT) Received: from postal.iol.unh.edu (postal.iol.unh.edu. [132.177.123.84]) by smtp-relay.gmail.com with ESMTPS id d9443c01a7336-29498d0c33asm13460845ad.25.2025.10.29.08.40.08 (version=TLS1_2 cipher=ECDHE-ECDSA-AES128-GCM-SHA256 bits=128/128); Wed, 29 Oct 2025 08:40:08 -0700 (PDT) X-Relaying-Domain: iol.unh.edu Date: Wed, 29 Oct 2025 08:40:08 -0700 (PDT) Message-ID: <69023558.170a0220.2ee997.fee2SMTPIN_ADDED_MISSING@mx.google.com> Received: from [172.21.0.2] (unknown [172.18.0.240]) by postal.iol.unh.edu (Postfix) with ESMTP id D45D3604D420; Wed, 29 Oct 2025 11:40:07 -0400 (EDT) Subject: |SUCCESS| pw158214-158218 [PATCH] [v2,5/5] net/cnxk: enable CPT CQ f From: dpdklab@iol.unh.edu To: Test Report Cc: dpdk-test-reports@iol.unh.edu In-Reply-To: <20251029130023.1637177-5-rkudurumalla@marvell.com> References: <20251029130023.1637177-5-rkudurumalla@marvell.com> Content-Type: text/plain X-BeenThere: test-report@dpdk.org X-Mailman-Version: 2.1.29 Precedence: list List-Id: automatic DPDK test reports List-Unsubscribe: , List-Archive: List-Post: List-Help: List-Subscribe: , Errors-To: test-report-bounces@dpdk.org Test-Label: iol-unit-amd64-testing Test-Status: SUCCESS http://dpdk.org/patch/158218 _Testing PASS_ Submitter: Rakesh Kudurumalla Date: Wednesday, October 29 2025 13:00:23 DPDK git baseline: Repo:dpdk-next-net-mrvl Branch: master CommitID:39b54f2dcf44ad1f91eabc7080cd5dea763607fd 158214-158218 --> testing pass Upstream job id: Generic-VM-Unit-Test-DPDK#32158 Test environment and result as below: +-------------------------------+----------------+ | Environment | dpdk_unit_test | +===============================+================+ | CentOS Stream 10 | PASS | +-------------------------------+----------------+ | CentOS Stream 9 | PASS | +-------------------------------+----------------+ | Debian GNU/Linux 12 | PASS | +-------------------------------+----------------+ | Fedora Linux 41 | PASS | +-------------------------------+----------------+ | Fedora Linux 40 | PASS | +-------------------------------+----------------+ | Fedora Linux 42 | PASS | +-------------------------------+----------------+ | Ubuntu 22.04 | PASS | +-------------------------------+----------------+ | Ubuntu 20.04 | PASS | +-------------------------------+----------------+ | Ubuntu 24.04 | PASS | +-------------------------------+----------------+ | Red Hat Enterprise Linux 8.10 | PASS | +-------------------------------+----------------+ | Red Hat Enterprise Linux 9.5 | PASS | +-------------------------------+----------------+ | Windows Server 2022 | PASS | +-------------------------------+----------------+ CentOS Stream 10 Kernel: 5.15 Compiler: gcc gcc (GCC) 14.2.1 20250110 (Red Hat 14.2.1-8) CentOS Stream 9 Kernel: 5.15 Compiler: gcc gcc (GCC) 11.5.0 20240719 (Red Hat 11.5.0-11) Debian GNU/Linux 12 Kernel: 5.15 Compiler: gcc gcc (Debian 12.2.0-14+deb12u1) 12.2.0 Fedora Linux 41 Kernel: 5.15 Compiler: gcc gcc (GCC) 14.3.1 20250523 (Red Hat 14.3.1-1) Fedora Linux 40 Kernel: 5.15 Compiler: clang gcc (GCC) 14.2.1 20240912 (Red Hat 14.2.1-3) Fedora Linux 42 Kernel: 5.15 Compiler: gcc gcc (GCC) 15.2.1 20250808 (Red Hat 15.2.1-1) Ubuntu 22.04 Kernel: 5.15 Compiler: gcc gcc (Ubuntu 11.4.0-1ubuntu1~22.04) 11.4.0 Ubuntu 20.04 Kernel: 5.15 Compiler: gcc gcc (Ubuntu 9.4.0-1ubuntu1~20.04.2) 9.4.0 Ubuntu 24.04 Kernel: 5.15 Compiler: gcc gcc (Ubuntu 13.3.0-6ubuntu2~24.04) 13.3.0 Red Hat Enterprise Linux 8.10 Kernel: 5.15 Compiler: gcc gcc (GCC) 8.5.0 20210514 (Red Hat 8.5.0-22) Red Hat Enterprise Linux 9.5 Kernel: 5.15 Compiler: gcc gcc (GCC) 11.5.0 20240719 (Red Hat 11.5.0-2) Windows Server 2022 Kernel: 10.0.20348.2031 Compiler: clang 15.0.7, gcc 14.1.0 (MinGW), and MSVC VS 19.39.33521 To view detailed results, visit: https://lab.dpdk.org/results/dashboard/patchsets/34415/ UNH-IOL DPDK Community Lab To manage your email subscriptions, visit: https://lab.dpdk.org/results/dashboard/preferences/subscriptions/