From mboxrd@z Thu Jan 1 00:00:00 1970 Return-Path: Received: from mails.dpdk.org (mails.dpdk.org [217.70.189.124]) by inbox.dpdk.org (Postfix) with ESMTP id E8E3448A4F for ; Wed, 29 Oct 2025 17:10:04 +0100 (CET) Received: from mails.dpdk.org (localhost [127.0.0.1]) by mails.dpdk.org (Postfix) with ESMTP id A23094068A; Wed, 29 Oct 2025 17:10:04 +0100 (CET) Received: from mail-pg1-f228.google.com (mail-pg1-f228.google.com [209.85.215.228]) by mails.dpdk.org (Postfix) with ESMTP id F11B540678 for ; Wed, 29 Oct 2025 17:10:02 +0100 (CET) Received: by mail-pg1-f228.google.com with SMTP id 41be03b00d2f7-b67ae7e76abso5767574a12.3 for ; Wed, 29 Oct 2025 09:10:02 -0700 (PDT) DKIM-Signature: v=1; a=rsa-sha256; c=relaxed/relaxed; d=iol.unh.edu; s=unh-iol; t=1761754202; x=1762359002; darn=dpdk.org; h=references:in-reply-to:cc:to:from:subject:message-id:date:from:to :cc:subject:date:message-id:reply-to; bh=V+0NdQkM/aXZq3pSZOW/uO0qyXBSsfQVYDTQ5C/betI=; b=EtkXCH+/xXVbe3hdgUFd+CXC8dlWB5PUtJ/JK0iwPFD6YYszHRQlNdEtmGwB6oyHGY GYyvVv/Mf/sBgx3uVMgUP6ucHjVwmF3pZLa4ve7mlJgW4TaZwNiDFl8vhUfQTAigIFOy iwo4tAWv8CIeyCgNfWNpZOzyouPlvyawGJw6I= X-Google-DKIM-Signature: v=1; a=rsa-sha256; c=relaxed/relaxed; d=1e100.net; s=20230601; t=1761754202; x=1762359002; h=references:in-reply-to:cc:to:from:subject:message-id:date :x-gm-message-state:from:to:cc:subject:date:message-id:reply-to; bh=V+0NdQkM/aXZq3pSZOW/uO0qyXBSsfQVYDTQ5C/betI=; b=Zczu0w4cUHQCQL9qxi0XPCox9wGxgr2vxQ6YrOgEJ+YuhAsnNL4Qwrz5Buf/FCWzG/ da1ZR3ICU+EifRbrvak8rEpqfYUGZ/G2BAGQVLmmJRPvvyIexXRMsG82IRPCwkUE2gbO wJk4IntbzAO4gzrSROsxquGy/DtC5xmHgeAsjQu3HjkS3Xe4Il8UYeaBIkzm/dwtghKi eCUB2g5WFw4yucDIYWr8Y/1BYzsP1Xls+1T9uo8oM4flUsv0Onbp5NZip4iNv+AsWbW5 LQprMSDGo0vErwbDNz7XsXcLWdFs2O4MaE4HC6cKFF7cjm52amQlAUjEZBfFz2fv/TQM V7FA== X-Gm-Message-State: AOJu0YwKjGzwDyeqY/HEPHLsAcrE2YDmVg42ofYM8VOTzk5SvROceHd1 9TYFLFGY23w48ewCJXz3sxUb4hG+UdkkAziDkmqL+1sCq68eNoaTVVLa930+bkXQ7+lWB37JEeJ QEpkvrZKMB88vabOsoJ6RJSnqV1GO12CmBVdFQnLeU/Bv X-Gm-Gg: ASbGncu2IqfzbHZcspgx3ecwt49DRDITJDVf7k2eP2UeQpz+lzpE4nLNPJg2VeM/uXA x/ah/e+0VbW3BK4YVC15IPHgvUHsymQSFidMJ+iPUr2oZUDqac/Or9oiC1GNbBhN09iRv2Rt+ji x5/CvVXILjBTFpOstJfsyD8amHFm0e9yuoN2eq0iHisH7A84rX/eyxfCtaBrrB1A+fCgDB20tpo 8Si184R/myxQmnBvDqx1ibxX0FNtQ2yeO76UVs8vXDPftfat2unQ34KNHJWea9p/OW5nc25zXqS WVneBdtUqeegnstKziXgLTvYx5VbujZHjO2HENORlEEE3vnx5/DLh9sFPeJ1ZoDRAu9NoFwu7cw yjnYwpm3eyGtPRp3bH9ecq6W5yCTKMwk= X-Google-Smtp-Source: AGHT+IH6PRU7konELZsuBOeiZ4WhSQDb8Q7LvE9IFBfZQcXNQ9vBEsEND9t0p9mUb+TQk5ASfM7nhNmKIq4Y X-Received: by 2002:a17:903:2345:b0:293:b97:c335 with SMTP id d9443c01a7336-294dee53657mr36452665ad.10.1761754201838; Wed, 29 Oct 2025 09:10:01 -0700 (PDT) Received: from postal.iol.unh.edu (postal.iol.unh.edu. [132.177.123.84]) by smtp-relay.gmail.com with ESMTPS id d9443c01a7336-29498e42a9dsm14058075ad.58.2025.10.29.09.10.01 (version=TLS1_2 cipher=ECDHE-ECDSA-AES128-GCM-SHA256 bits=128/128); Wed, 29 Oct 2025 09:10:01 -0700 (PDT) X-Relaying-Domain: iol.unh.edu Date: Wed, 29 Oct 2025 09:10:01 -0700 (PDT) Message-ID: <69023c59.170a0220.3cc797.3e14SMTPIN_ADDED_MISSING@mx.google.com> Received: from [172.21.0.2] (unknown [172.18.0.240]) by postal.iol.unh.edu (Postfix) with ESMTP id F09366051830; Wed, 29 Oct 2025 12:10:00 -0400 (EDT) Subject: |WARNING| pw158214-158218 [PATCH] [v2,5/5] net/cnxk: enable CPT CQ f From: dpdklab@iol.unh.edu To: Test Report Cc: dpdk-test-reports@iol.unh.edu In-Reply-To: <20251029130023.1637177-5-rkudurumalla@marvell.com> References: <20251029130023.1637177-5-rkudurumalla@marvell.com> Content-Type: text/plain X-BeenThere: test-report@dpdk.org X-Mailman-Version: 2.1.29 Precedence: list List-Id: automatic DPDK test reports List-Unsubscribe: , List-Archive: List-Post: List-Help: List-Subscribe: , Errors-To: test-report-bounces@dpdk.org Test-Label: iol-compile-amd64-testing Test-Status: WARNING http://dpdk.org/patch/158218 _Testing issues_ Submitter: Rakesh Kudurumalla Date: Wednesday, October 29 2025 13:00:23 DPDK git baseline: Repo:dpdk-next-net-mrvl Branch: master CommitID:39b54f2dcf44ad1f91eabc7080cd5dea763607fd 158214-158218 --> testing issues Upstream job id: Windows-Compile-DPDK-Native#31984 Test environment and result as below: +-------------------------------+--------------------+-------------------+------------------+-------------------+-------------------------+----------------------+ | Environment | dpdk_meson_compile | dpdk_compile_spdk | dpdk_compile_ovs | dpdk_msvc_compile | dpdk_llvm_clang_compile | dpdk_mingw64_compile | +===============================+====================+===================+==================+===================+=========================+======================+ | CentOS Stream 9 | PASS | WARN | SKIPPED | SKIPPED | SKIPPED | SKIPPED | +-------------------------------+--------------------+-------------------+------------------+-------------------+-------------------------+----------------------+ | Fedora Linux 42 | PASS | WARN | PASS | SKIPPED | SKIPPED | SKIPPED | +-------------------------------+--------------------+-------------------+------------------+-------------------+-------------------------+----------------------+ | CentOS Stream 10 | PASS | SKIPPED | SKIPPED | SKIPPED | SKIPPED | SKIPPED | +-------------------------------+--------------------+-------------------+------------------+-------------------+-------------------------+----------------------+ | Debian GNU/Linux 12 | PASS | WARN | SKIPPED | SKIPPED | SKIPPED | SKIPPED | +-------------------------------+--------------------+-------------------+------------------+-------------------+-------------------------+----------------------+ | Ubuntu 20.04 | PASS | SKIPPED | SKIPPED | SKIPPED | SKIPPED | SKIPPED | +-------------------------------+--------------------+-------------------+------------------+-------------------+-------------------------+----------------------+ | Red Hat Enterprise Linux 8.10 | PASS | SKIPPED | SKIPPED | SKIPPED | SKIPPED | SKIPPED | +-------------------------------+--------------------+-------------------+------------------+-------------------+-------------------------+----------------------+ | openSUSE Leap 15.6 | PASS | SKIPPED | SKIPPED | SKIPPED | SKIPPED | SKIPPED | +-------------------------------+--------------------+-------------------+------------------+-------------------+-------------------------+----------------------+ | FreeBSD 14.2 | PASS | SKIPPED | SKIPPED | SKIPPED | SKIPPED | SKIPPED | +-------------------------------+--------------------+-------------------+------------------+-------------------+-------------------------+----------------------+ | Red Hat Enterprise Linux 9.5 | PASS | SKIPPED | SKIPPED | SKIPPED | SKIPPED | SKIPPED | +-------------------------------+--------------------+-------------------+------------------+-------------------+-------------------------+----------------------+ | Ubuntu 22.04 | PASS | WARN | SKIPPED | SKIPPED | SKIPPED | SKIPPED | +-------------------------------+--------------------+-------------------+------------------+-------------------+-------------------------+----------------------+ | Ubuntu 24.04 | PASS | WARN | PASS | SKIPPED | SKIPPED | SKIPPED | +-------------------------------+--------------------+-------------------+------------------+-------------------+-------------------------+----------------------+ | Alpine Linux 3.22.0 | PASS | SKIPPED | SKIPPED | SKIPPED | SKIPPED | SKIPPED | +-------------------------------+--------------------+-------------------+------------------+-------------------+-------------------------+----------------------+ | Windows Server 2022 | SKIPPED | SKIPPED | SKIPPED | PASS | PASS | PASS | +-------------------------------+--------------------+-------------------+------------------+-------------------+-------------------------+----------------------+ ==== 20 line log output for Ubuntu 24.04 (dpdk_compile_spdk): ==== --- Failed to get log output --- ==== End log output ==== CentOS Stream 9 Kernel: 5.15 Compiler: gcc gcc (GCC) 11.5.0 20240719 (Red Hat 11.5.0-11) Fedora Linux 42 Kernel: 5.15 Compiler: clang gcc (GCC) 15.2.1 20250808 (Red Hat 15.2.1-1) CentOS Stream 10 Kernel: 5.15 Compiler: gcc gcc (GCC) 14.2.1 20250110 (Red Hat 14.2.1-8) Debian GNU/Linux 12 Kernel: 5.15 Compiler: gcc gcc (Debian 12.2.0-14+deb12u1) 12.2.0 Ubuntu 20.04 Kernel: 4.19 Compiler: gcc gcc (Ubuntu 9.4.0-1ubuntu1~20.04.2) 9.4.0 Red Hat Enterprise Linux 8.10 Kernel: 5.15 Compiler: gcc gcc (GCC) 8.5.0 20210514 (Red Hat 8.5.0-22) openSUSE Leap 15.6 Kernel: 5.15 Compiler: gcc gcc (SUSE Linux) 7.5.0 FreeBSD 14.2 Kernel: 14.2-RELEASE Compiler: clang 18.1.6 Red Hat Enterprise Linux 9.5 Kernel: 5.15 Compiler: gcc gcc (GCC) 11.5.0 20240719 (Red Hat 11.5.0-2) Ubuntu 22.04 Kernel: 5.15 Compiler: gcc gcc (Ubuntu 11.4.0-1ubuntu1~22.04) 11.4.0 Ubuntu 24.04 Kernel: 5.15 Compiler: gcc gcc (Ubuntu 13.3.0-6ubuntu2~24.04) 13.3.0 Alpine Linux 3.22.0 Kernel: 5.15 Compiler: gcc gcc (Alpine 14.2.0) 14.2.0 Windows Server 2022 Kernel: 10.0.20348.2031 Compiler: clang 15.0.7, gcc 14.1.0 (MinGW), and MSVC VS 19.39.33521 To view detailed results, visit: https://lab.dpdk.org/results/dashboard/patchsets/34415/ UNH-IOL DPDK Community Lab To manage your email subscriptions, visit: https://lab.dpdk.org/results/dashboard/preferences/subscriptions/