From mboxrd@z Thu Jan 1 00:00:00 1970 Return-Path: Received: from mails.dpdk.org (mails.dpdk.org [217.70.189.124]) by inbox.dpdk.org (Postfix) with ESMTP id A0B2D48A4F for ; Wed, 29 Oct 2025 17:19:12 +0100 (CET) Received: from mails.dpdk.org (localhost [127.0.0.1]) by mails.dpdk.org (Postfix) with ESMTP id 83FCE40A6D; Wed, 29 Oct 2025 17:19:12 +0100 (CET) Received: from mail-pl1-f225.google.com (mail-pl1-f225.google.com [209.85.214.225]) by mails.dpdk.org (Postfix) with ESMTP id 8755D40A71 for ; Wed, 29 Oct 2025 17:19:11 +0100 (CET) Received: by mail-pl1-f225.google.com with SMTP id d9443c01a7336-290aaff555eso69608155ad.2 for ; Wed, 29 Oct 2025 09:19:11 -0700 (PDT) DKIM-Signature: v=1; a=rsa-sha256; c=relaxed/relaxed; d=iol.unh.edu; s=unh-iol; t=1761754751; x=1762359551; darn=dpdk.org; h=references:in-reply-to:cc:to:from:subject:message-id:date:from:to :cc:subject:date:message-id:reply-to; bh=zvEC8ibkPO3UJCL3Pu3abNb84WVV3gW3pnjCmi+109M=; b=L4JXRGYMiCPNVV9fSfhyfZPeEQesUcPTVg5e/XOPtcJLQ0RL+aMxFe0C+Adj/vuG7V TIsK8H7an+JUGb2ySf+2FyA306fq4Bcxugah6muQANt/U2Kp7Xj+I3jw6d3XFRcmx6Wh pId6sot3a0n+1qNc50NzgocC9W3Ax+zy4ojdU= X-Google-DKIM-Signature: v=1; a=rsa-sha256; c=relaxed/relaxed; d=1e100.net; s=20230601; t=1761754751; x=1762359551; h=references:in-reply-to:cc:to:from:subject:message-id:date :x-gm-message-state:from:to:cc:subject:date:message-id:reply-to; bh=zvEC8ibkPO3UJCL3Pu3abNb84WVV3gW3pnjCmi+109M=; b=WWNAsfVQ7et5KK8hguonpCqQ4NHqeYNzmSV8Eyj7YioEBae2tsek1rBmgPAkiGRybn IiK6vtCE+64GKeqKGadRIcy89C1/kv0qr9TXL1/0sPH2F7V/piv8DOeuJnsdTXR3tdJO 0lTTNCH5Nzmntlw6lqoT4/hc+m5P9b/1JPyH1c6aYDmHQn9pra+rJ7NnvC7MBYZGOiAf 30tnwsD1w3DVfvLL75fS2QM2VeQtGypi3UAlOjiKs5AMHLgXtmLuyjQ1SORdNklBZY8/ uP6ZNilb7iO5gr101z7JAcAzS4VJP2FOCoHY4V2dkjvGsjV/euJvs1zmKDQV7YSXvlGq Chdw== X-Gm-Message-State: AOJu0Yw2EP/0pPRbTJjYsIjhw/DGMV7TOjRTHD6qgNksu+qUetq52Il/ sAn+aompyzNwdVUrbo/a43V/ODEFm27PupmYqu/bZYV5sV+oX0aTRPrEFVca5CHb3vNDBZf+oMd 7E4aJL3tNA6e/DCNw1mSZkShF80c6Xy268MKyAwzyrnbrWLKrZC+pON/Ebj/H X-Gm-Gg: ASbGnctNxnnRKDTDg/uo1HN3yYa11Qrqnbr4VSq2VCwlsyUzlfl8fVj5MvXyHsTX7wv hk4FDuBvZVaUAgiIKGcXfNhxEy8iP84Ph4MGMAL2UGZyXIxI+tTStsWx5eZPb/21PLNtCk9nukS xTzP6Pa/jVsAaWigx+zWrOEoRWsrjF/qC54GSoX520iTMM0gSJJKIoOx0z0VcfM5Aiu+pUS0DIS yl7mPE6ha6EtMewwAd1Z5gvpLFHxGqC++LQ9qTBQu6LtwkoHY+FOGvfxYkLEPhfpp3vOuId+WGr tQCdbEOiixNx4laX1f1UUNMOUHzTy+HuEAlRZfShH7jzs2Y3muhGhlqPJripj21rLLr6uxEtZMb ZNRmQSKzU X-Google-Smtp-Source: AGHT+IFCT4J4KYnWQcp2gYq0YZP12JYyxz2WU0Fokosu3iFHb2wouZ32FWHLGAsUfVy9M26VsugJWxBQsq/7 X-Received: by 2002:a17:902:ce8b:b0:25e:78db:4a0d with SMTP id d9443c01a7336-294deeaab7bmr50400155ad.36.1761754750653; Wed, 29 Oct 2025 09:19:10 -0700 (PDT) Received: from postal.iol.unh.edu (postal.iol.unh.edu. [2606:4100:3880:1234::84]) by smtp-relay.gmail.com with ESMTPS id d9443c01a7336-29498d297ddsm13962725ad.38.2025.10.29.09.19.10 (version=TLS1_2 cipher=ECDHE-ECDSA-AES128-GCM-SHA256 bits=128/128); Wed, 29 Oct 2025 09:19:10 -0700 (PDT) X-Relaying-Domain: iol.unh.edu Date: Wed, 29 Oct 2025 09:19:10 -0700 (PDT) Message-ID: <69023e7e.170a0220.33b2e3.32c0SMTPIN_ADDED_MISSING@mx.google.com> Received: from [172.21.0.3] (unknown [172.18.0.240]) by postal.iol.unh.edu (Postfix) with ESMTP id EC56B604D420; Wed, 29 Oct 2025 12:19:09 -0400 (EDT) Subject: |SUCCESS| pw158220 [PATCH] [v2] bitmap: change return value of rte_b From: dpdklab@iol.unh.edu To: Test Report Cc: dpdk-test-reports@iol.unh.edu In-Reply-To: <20251029145055.990899-1-stephen@networkplumber.org> References: <20251029145055.990899-1-stephen@networkplumber.org> Content-Type: text/plain X-BeenThere: test-report@dpdk.org X-Mailman-Version: 2.1.29 Precedence: list List-Id: automatic DPDK test reports List-Unsubscribe: , List-Archive: List-Post: List-Help: List-Subscribe: , Errors-To: test-report-bounces@dpdk.org Test-Label: iol-unit-amd64-testing Test-Status: SUCCESS http://dpdk.org/patch/158220 _Testing PASS_ Submitter: Stephen Hemminger Date: Wednesday, October 29 2025 14:50:55 DPDK git baseline: Repo:dpdk Branch: master CommitID:39b54f2dcf44ad1f91eabc7080cd5dea763607fd 158220 --> testing pass Upstream job id: Generic-VM-Unit-Test-DPDK#32159 Test environment and result as below: +-------------------------------+----------------+ | Environment | dpdk_unit_test | +===============================+================+ | CentOS Stream 9 | PASS | +-------------------------------+----------------+ | CentOS Stream 10 | PASS | +-------------------------------+----------------+ | Fedora Linux 40 | PASS | +-------------------------------+----------------+ | Debian GNU/Linux 12 | PASS | +-------------------------------+----------------+ | Fedora Linux 41 | PASS | +-------------------------------+----------------+ | Fedora Linux 42 | PASS | +-------------------------------+----------------+ | Red Hat Enterprise Linux 8.10 | PASS | +-------------------------------+----------------+ | Red Hat Enterprise Linux 9.5 | PASS | +-------------------------------+----------------+ | Ubuntu 20.04 | PASS | +-------------------------------+----------------+ | Ubuntu 22.04 | PASS | +-------------------------------+----------------+ | Ubuntu 24.04 | PASS | +-------------------------------+----------------+ | Windows Server 2022 | PASS | +-------------------------------+----------------+ CentOS Stream 9 Kernel: 5.15 Compiler: gcc gcc (GCC) 11.5.0 20240719 (Red Hat 11.5.0-11) CentOS Stream 10 Kernel: 5.15 Compiler: gcc gcc (GCC) 14.2.1 20250110 (Red Hat 14.2.1-8) Fedora Linux 40 Kernel: 5.15 Compiler: gcc gcc (GCC) 14.2.1 20240912 (Red Hat 14.2.1-3) Debian GNU/Linux 12 Kernel: 5.15 Compiler: gcc gcc (Debian 12.2.0-14+deb12u1) 12.2.0 Fedora Linux 41 Kernel: 5.15 Compiler: gcc gcc (GCC) 14.3.1 20250523 (Red Hat 14.3.1-1) Fedora Linux 42 Kernel: 5.15 Compiler: clang gcc (GCC) 15.2.1 20250808 (Red Hat 15.2.1-1) Red Hat Enterprise Linux 8.10 Kernel: 5.15 Compiler: gcc gcc (GCC) 8.5.0 20210514 (Red Hat 8.5.0-22) Red Hat Enterprise Linux 9.5 Kernel: 5.15 Compiler: gcc gcc (GCC) 11.5.0 20240719 (Red Hat 11.5.0-2) Ubuntu 20.04 Kernel: 5.15 Compiler: gcc gcc (Ubuntu 9.4.0-1ubuntu1~20.04.2) 9.4.0 Ubuntu 22.04 Kernel: 5.15 Compiler: gcc gcc (Ubuntu 11.4.0-1ubuntu1~22.04) 11.4.0 Ubuntu 24.04 Kernel: 5.15 Compiler: gcc gcc (Ubuntu 13.3.0-6ubuntu2~24.04) 13.3.0 Windows Server 2022 Kernel: 10.0.20348.2031 Compiler: clang 15.0.7, gcc 14.1.0 (MinGW), and MSVC VS 19.39.33521 To view detailed results, visit: https://lab.dpdk.org/results/dashboard/patchsets/34416/ UNH-IOL DPDK Community Lab To manage your email subscriptions, visit: https://lab.dpdk.org/results/dashboard/preferences/subscriptions/