From mboxrd@z Thu Jan 1 00:00:00 1970 Return-Path: Received: from mails.dpdk.org (mails.dpdk.org [217.70.189.124]) by inbox.dpdk.org (Postfix) with ESMTP id 18F9B48A52 for ; Wed, 29 Oct 2025 18:10:38 +0100 (CET) Received: from mails.dpdk.org (localhost [127.0.0.1]) by mails.dpdk.org (Postfix) with ESMTP id 146EE40150; Wed, 29 Oct 2025 18:10:38 +0100 (CET) Received: from mail-pl1-f225.google.com (mail-pl1-f225.google.com [209.85.214.225]) by mails.dpdk.org (Postfix) with ESMTP id 65E7040150 for ; Wed, 29 Oct 2025 18:10:36 +0100 (CET) Received: by mail-pl1-f225.google.com with SMTP id d9443c01a7336-269af38418aso793985ad.1 for ; Wed, 29 Oct 2025 10:10:36 -0700 (PDT) DKIM-Signature: v=1; a=rsa-sha256; c=relaxed/relaxed; d=iol.unh.edu; s=unh-iol; t=1761757835; x=1762362635; darn=dpdk.org; h=references:in-reply-to:cc:to:from:subject:message-id:date:from:to :cc:subject:date:message-id:reply-to; bh=7t2DVySA/eDhNulAVXB8o3YI7CnncQrKgvlX7us6y8w=; b=OOA462rwKsUlgZT9GbWb2guYi5oO/0Y6lpk3byLq1MJAeLj50wJKDfbWIMZwngu00+ mAVl/CIUajg4zsxWpRK9tJp2/WrKbXdJM+S8UONWME4unqKw6VGE04PHDzVs1fSs+tSY Ieg3/LwKva3kccq7oFtHkYrThDVmqW/A9cjp0= X-Google-DKIM-Signature: v=1; a=rsa-sha256; c=relaxed/relaxed; d=1e100.net; s=20230601; t=1761757835; x=1762362635; h=references:in-reply-to:cc:to:from:subject:message-id:date :x-gm-message-state:from:to:cc:subject:date:message-id:reply-to; bh=7t2DVySA/eDhNulAVXB8o3YI7CnncQrKgvlX7us6y8w=; b=q3ThRd9VNjeJOpg3Y0Agm3qdG5T6BlcHDZAhi8VhOwvg3CfjQtRE2ciajgmwtpLd0E Cd7HU4NjBxJWWZnJz1or7Nyb4H9Xv+/WEA59b9hAZWLwJ6CMB+NYsUGChcWp0+L6k/iN BjZXf9EEoge0ypbFIsQlM9hYdTwi8LNHt2vbuUFjerGkmGSa+iphhT6TtDH4Mt5FM+NX GmYyhAf5NXD7uz8bqyVIHhFIYfgMx64A+5kCTJGiQMrYcLwRHjKMvxSc+NlxKH6u88Np VRhrmqWSgcCg173yQFHlpw2nQsKUqp50THy178jJmLtQUDoGYRjqFsK3bnRWlFjt4GRM 4ezQ== X-Gm-Message-State: AOJu0YzUmFQ4N67gU8ySFGW8BOrLk9cddRU+n+F8EZhHTrMKaGIupLcQ IuTQwn2jXrMx1teZK2njrvRLiNkNItLyPJ8PP7764P/an51YVr76c/go5FHpZqvW4maBsR9cEsY q84x00lJwT1PDqKkKuhi0Q+fepwioMamGoURYQMWeP2QUmtc0DMRBJvKjQBW0 X-Gm-Gg: ASbGncvybeI16CWqKEX/YH5OLf9VHt86X0yo4qOUthVVVmsJGfDlcdFtdzcYm9pkLTG sE9OA2Yhe9UehxL1EIwO26sCuZNr2DiDcMYP5WPF5JfvaL0xlCQ6LHZhWW3rPYBrfcR8OE71EX3 fhPFsx2n+sXITbgvCiqq0tvZrAG/t4YIR7emxYoRDUhmvl5Un6p5O0UhMeC44nrTCD3AEkjJLl0 IZR+KfWBNBGGHz0cTWftYVjma4lqECnIl9p4x8FHjYcOLz4J2trr75kzA9VWmH809gj9ks4+aWR bFS72H1VCSftmOsRSQP+cw0znuCNM4avcLJ0WSz4alLHxdsqPD7H9h7eF1cTc9fKSoOlEG048ZL uiL8kfAEQ X-Google-Smtp-Source: AGHT+IG9kobBc11bJrycRgiCY3z4flQc6ckkMME0eguY04gBFWEUFE34hgqTuSFkmOb5oQeIpKQP021JT6Ac X-Received: by 2002:a17:902:c401:b0:278:bfae:3244 with SMTP id d9443c01a7336-294deeed1b8mr47137395ad.54.1761757835383; Wed, 29 Oct 2025 10:10:35 -0700 (PDT) Received: from postal.iol.unh.edu (postal.iol.unh.edu. [2606:4100:3880:1234::84]) by smtp-relay.gmail.com with ESMTPS id d9443c01a7336-29498d0c222sm13814675ad.24.2025.10.29.10.10.35 (version=TLS1_2 cipher=ECDHE-ECDSA-AES128-GCM-SHA256 bits=128/128); Wed, 29 Oct 2025 10:10:35 -0700 (PDT) X-Relaying-Domain: iol.unh.edu Date: Wed, 29 Oct 2025 10:10:35 -0700 (PDT) Message-ID: <69024a8b.170a0220.3cc9c6.0e01SMTPIN_ADDED_MISSING@mx.google.com> Received: from [172.21.0.3] (unknown [172.18.0.240]) by postal.iol.unh.edu (Postfix) with ESMTP id DED9C6051830; Wed, 29 Oct 2025 13:10:33 -0400 (EDT) Subject: |WARNING| pw158223-158224 [PATCH] [3/3] net/mlx5: support flow metad From: dpdklab@iol.unh.edu To: Test Report Cc: dpdk-test-reports@iol.unh.edu In-Reply-To: <20251029155711.169580-3-getelson@nvidia.com> References: <20251029155711.169580-3-getelson@nvidia.com> Content-Type: text/plain X-BeenThere: test-report@dpdk.org X-Mailman-Version: 2.1.29 Precedence: list List-Id: automatic DPDK test reports List-Unsubscribe: , List-Archive: List-Post: List-Help: List-Subscribe: , Errors-To: test-report-bounces@dpdk.org Test-Label: iol-compile-amd64-testing Test-Status: WARNING http://dpdk.org/patch/158224 _Testing issues_ Submitter: Gregory Etelson Date: Wednesday, October 29 2025 15:57:10 DPDK git baseline: Repo:dpdk-next-net-mlx Branch: master CommitID:39b54f2dcf44ad1f91eabc7080cd5dea763607fd 158223-158224 --> testing issues Upstream job id: Generic-DPDK-Compile-Meson#439085 Test environment and result as below: +---------------------+--------------------+-------------------+------------------+ | Environment | dpdk_meson_compile | dpdk_compile_spdk | dpdk_compile_ovs | +=====================+====================+===================+==================+ | FreeBSD 14.2 | PASS | SKIPPED | SKIPPED | +---------------------+--------------------+-------------------+------------------+ | CentOS Stream 9 | PASS | WARN | SKIPPED | +---------------------+--------------------+-------------------+------------------+ | CentOS Stream 10 | PASS | SKIPPED | SKIPPED | +---------------------+--------------------+-------------------+------------------+ | Debian GNU/Linux 12 | PEND | PEND | SKIPPED | +---------------------+--------------------+-------------------+------------------+ | Ubuntu 20.04 | PASS | SKIPPED | SKIPPED | +---------------------+--------------------+-------------------+------------------+ | Fedora Linux 42 | PEND | PEND | PEND | +---------------------+--------------------+-------------------+------------------+ ==== 20 line log output for CentOS Stream 9 (dpdk_compile_spdk): ==== --- Failed to get log output --- ==== End log output ==== FreeBSD 14.2 Kernel: 14.2-RELEASE Compiler: clang 18.1.6 CentOS Stream 9 Kernel: 5.15 Compiler: gcc gcc (GCC) 11.5.0 20240719 (Red Hat 11.5.0-11) CentOS Stream 10 Kernel: 5.15 Compiler: gcc gcc (GCC) 14.2.1 20250110 (Red Hat 14.2.1-8) Debian GNU/Linux 12 Kernel: 5.15 Compiler: gcc gcc (Debian 12.2.0-14+deb12u1) 12.2.0 Ubuntu 20.04 Kernel: 4.19 Compiler: gcc gcc (Ubuntu 9.4.0-1ubuntu1~20.04.2) 9.4.0 Fedora Linux 42 Kernel: 5.15 Compiler: clang gcc (GCC) 15.2.1 20250808 (Red Hat 15.2.1-1) To view detailed results, visit: https://lab.dpdk.org/results/dashboard/patchsets/34418/ UNH-IOL DPDK Community Lab To manage your email subscriptions, visit: https://lab.dpdk.org/results/dashboard/preferences/subscriptions/