From mboxrd@z Thu Jan 1 00:00:00 1970 Return-Path: Received: from mails.dpdk.org (mails.dpdk.org [217.70.189.124]) by inbox.dpdk.org (Postfix) with ESMTP id 9F73748A52 for ; Wed, 29 Oct 2025 18:28:08 +0100 (CET) Received: from mails.dpdk.org (localhost [127.0.0.1]) by mails.dpdk.org (Postfix) with ESMTP id 7EA0540150; Wed, 29 Oct 2025 18:28:08 +0100 (CET) Received: from mail-io1-f99.google.com (mail-io1-f99.google.com [209.85.166.99]) by mails.dpdk.org (Postfix) with ESMTP id 857AD40150 for ; Wed, 29 Oct 2025 18:28:06 +0100 (CET) Received: by mail-io1-f99.google.com with SMTP id ca18e2360f4ac-93e7d3648a8so3521839f.2 for ; Wed, 29 Oct 2025 10:28:06 -0700 (PDT) DKIM-Signature: v=1; a=rsa-sha256; c=relaxed/relaxed; d=iol.unh.edu; s=unh-iol; t=1761758886; x=1762363686; darn=dpdk.org; h=cc:to:from:subject:message-id:date:from:to:cc:subject:date :message-id:reply-to; bh=j54MKkjVUYCZVA1uuzYUhWZczR6FCF4H/xppbvJCtYk=; b=a/tWmZDu5KlHbXMXVmsOrtJTLLRN1HsKOBCUjGV9fRN846SEZjgGe2qgwSmtlQluCf KyzebepUYzXw/cq57uLVZUp13Cvr1sRAGfHd+t7jLwpshXzkKF1o92HolgnjWf4j0FOu edMzhIEDM+2W0bvQF4yYVjPp5Z/4d4vrfVEPs= X-Google-DKIM-Signature: v=1; a=rsa-sha256; c=relaxed/relaxed; d=1e100.net; s=20230601; t=1761758886; x=1762363686; h=cc:to:from:subject:message-id:date:x-gm-message-state:from:to:cc :subject:date:message-id:reply-to; bh=j54MKkjVUYCZVA1uuzYUhWZczR6FCF4H/xppbvJCtYk=; b=phi0GlzO3MRHOzVS5uFqYOd+a5ckBVVO2d+/9KeL/OXRLWdZNAXa0qv9P1OrcBr1xd +m7HAJuLW6meivyoQWVD5NqzPLyWo7UMEz4BZ/xOMyMHcThU8LWS4jpSiFuqS2M4OCru mCZufith0eR08I06RykE8UsHDxz9SwxW51AdMVRQHvxVvJFgvszxOj/stf3hQRdiCadc AHXF7AwJym4uH1bIYTig58sOVBIIABxEfBy8qNRE3HEJtotSMFX1yW4B1+tTcaBc81aQ TapBqg5y9w5cdkZcLGIVPRaj0B777lipPIjSGFDxgDbQ43EvPkBNc9Z4vMCR5HPwuug1 EgXw== X-Gm-Message-State: AOJu0Yyhu3SXGEJp6ftM9cJylogB73O+A1gLT34PbiTt0n2MCgKZib2t 4ayLmZFbkavYabDc9tfbQAbCv2/lEsRS2mZtBJRsJ5M78A46utWL9ln3PA2Ffmqs6WCuTDZ9aHd LiQ7lU33Z0kiH5V2CPx4reCCdkwqnBPTGsZ6HbtIyIPtp5W3Cj5fs X-Gm-Gg: ASbGncuM7sqasIpsF+F9LmKXrH8R5dzXkwm/YNE3q+eFSApnNYhojdN0ojcJ6N9knMI yNZ1zH8/4wl1SzGOcOO8ogE8NhKeB7V9+YE97O29oLlvT2XZ1q1/uGU1WH5jB7DczV6zY6nbqh4 PKcpXTBLEJRT4fPt3+4Fwhz7ngMgQNlDBUkWr8YhkSPSXWI6EmpM+ZloKnGql/0B0Mn/Cc6Ti2k L2L+z6ftWwH5UuMMLv0u27Ym7CoyoLNKffCivCzYIV/Dp7hhMtBC9zPKq7q+mxdT/Ln3W+Ppg0q L65Bw5yhABb4zgnJSNH+OCVrQpWjmv0ZTafMUX6LiMXjtorneV25MPPbF3HW3LF8qVWx8vIbG4f q5cI+Yn1Z X-Google-Smtp-Source: AGHT+IHzoEa+3hdXW+yb156nxZOz0934Nfcf2+qzMdcG00lwBrGYAntYjM50v8tfl2xN7igQVsOs3etN0fl3 X-Received: by 2002:a05:6602:2c05:b0:91e:c3a4:537c with SMTP id ca18e2360f4ac-945c97f1dd9mr512292239f.14.1761758885840; Wed, 29 Oct 2025 10:28:05 -0700 (PDT) Received: from postal.iol.unh.edu (postal.iol.unh.edu. [2606:4100:3880:1234::84]) by smtp-relay.gmail.com with ESMTPS id ca18e2360f4ac-94359f4a923sm86731039f.12.2025.10.29.10.28.05 (version=TLS1_2 cipher=ECDHE-ECDSA-AES128-GCM-SHA256 bits=128/128); Wed, 29 Oct 2025 10:28:05 -0700 (PDT) X-Relaying-Domain: iol.unh.edu Date: Wed, 29 Oct 2025 10:28:05 -0700 (PDT) Message-ID: <69024ea5.050a0220.37f250.95e7SMTPIN_ADDED_MISSING@mx.google.com> Received: from [172.21.0.2] (unknown [172.18.0.240]) by postal.iol.unh.edu (Postfix) with ESMTP id 7A1B4604D420; Wed, 29 Oct 2025 13:28:05 -0400 (EDT) Subject: |WARNING| [GIT MASTER] 5d40aaf77852b5884e137f1588726c92feb59002 From: dpdklab@iol.unh.edu To: Test Report Cc: dpdk-test-reports@iol.unh.edu, Ajit Khaparde Content-Type: text/plain X-BeenThere: test-report@dpdk.org X-Mailman-Version: 2.1.29 Precedence: list List-Id: automatic DPDK test reports List-Unsubscribe: , List-Archive: List-Post: List-Help: List-Subscribe: , Errors-To: test-report-bounces@dpdk.org _Testing issues_ Branch: next-net-brcm-for-next-net 5d40aaf77852b5884e137f1588726c92feb59002 --> testing issues Upstream job id: Windows-Compile-DPDK-Native#31987 Test environment and result as below: +-------------------------------+--------------------+-------------------+-------------------+------------------+-------------------------+ | Environment | dpdk_meson_compile | dpdk_msvc_compile | dpdk_compile_spdk | dpdk_compile_ovs | dpdk_llvm_clang_compile | +===============================+====================+===================+===================+==================+=========================+ | Ubuntu 20.04 | PASS | SKIPPED | SKIPPED | SKIPPED | SKIPPED | +-------------------------------+--------------------+-------------------+-------------------+------------------+-------------------------+ | FreeBSD 14.2 | PASS | SKIPPED | SKIPPED | SKIPPED | SKIPPED | +-------------------------------+--------------------+-------------------+-------------------+------------------+-------------------------+ | CentOS Stream 9 | PASS | SKIPPED | WARN | SKIPPED | SKIPPED | +-------------------------------+--------------------+-------------------+-------------------+------------------+-------------------------+ | CentOS Stream 10 | PASS | SKIPPED | SKIPPED | SKIPPED | SKIPPED | +-------------------------------+--------------------+-------------------+-------------------+------------------+-------------------------+ | Debian GNU/Linux 12 | PASS | SKIPPED | WARN | SKIPPED | SKIPPED | +-------------------------------+--------------------+-------------------+-------------------+------------------+-------------------------+ | Fedora Linux 42 | PASS | SKIPPED | WARN | PASS | SKIPPED | +-------------------------------+--------------------+-------------------+-------------------+------------------+-------------------------+ | Red Hat Enterprise Linux 8.10 | PASS | SKIPPED | SKIPPED | SKIPPED | SKIPPED | +-------------------------------+--------------------+-------------------+-------------------+------------------+-------------------------+ | openSUSE Leap 15.6 | PASS | SKIPPED | SKIPPED | SKIPPED | SKIPPED | +-------------------------------+--------------------+-------------------+-------------------+------------------+-------------------------+ | Red Hat Enterprise Linux 9.5 | PASS | SKIPPED | SKIPPED | SKIPPED | SKIPPED | +-------------------------------+--------------------+-------------------+-------------------+------------------+-------------------------+ | Ubuntu 22.04 | PASS | SKIPPED | WARN | SKIPPED | SKIPPED | +-------------------------------+--------------------+-------------------+-------------------+------------------+-------------------------+ | Ubuntu 24.04 | PASS | SKIPPED | WARN | PASS | SKIPPED | +-------------------------------+--------------------+-------------------+-------------------+------------------+-------------------------+ | Alpine Linux 3.22.0 | PASS | SKIPPED | SKIPPED | SKIPPED | SKIPPED | +-------------------------------+--------------------+-------------------+-------------------+------------------+-------------------------+ | Windows Server 2022 | SKIPPED | PASS | SKIPPED | SKIPPED | PASS | +-------------------------------+--------------------+-------------------+-------------------+------------------+-------------------------+ ==== 20 line log output for Ubuntu 24.04 (dpdk_compile_spdk): ==== --- Failed to get log output --- ==== End log output ==== Ubuntu 20.04 Kernel: 4.19 Compiler: gcc gcc (Ubuntu 9.4.0-1ubuntu1~20.04.2) 9.4.0 FreeBSD 14.2 Kernel: 14.2-RELEASE Compiler: clang 18.1.6 CentOS Stream 9 Kernel: 5.15 Compiler: gcc gcc (GCC) 11.5.0 20240719 (Red Hat 11.5.0-11) CentOS Stream 10 Kernel: 5.15 Compiler: gcc gcc (GCC) 14.2.1 20250110 (Red Hat 14.2.1-8) Debian GNU/Linux 12 Kernel: 5.15 Compiler: gcc gcc (Debian 12.2.0-14+deb12u1) 12.2.0 Fedora Linux 42 Kernel: 5.15 Compiler: clang gcc (GCC) 15.2.1 20250808 (Red Hat 15.2.1-1) Red Hat Enterprise Linux 8.10 Kernel: 5.15 Compiler: gcc gcc (GCC) 8.5.0 20210514 (Red Hat 8.5.0-22) openSUSE Leap 15.6 Kernel: 5.15 Compiler: gcc gcc (SUSE Linux) 7.5.0 Red Hat Enterprise Linux 9.5 Kernel: 5.15 Compiler: gcc gcc (GCC) 11.5.0 20240719 (Red Hat 11.5.0-2) Ubuntu 22.04 Kernel: 5.15 Compiler: gcc gcc (Ubuntu 11.4.0-1ubuntu1~22.04) 11.4.0 Ubuntu 24.04 Kernel: 5.15 Compiler: gcc gcc (Ubuntu 13.3.0-6ubuntu2~24.04) 13.3.0 Alpine Linux 3.22.0 Kernel: 5.15 Compiler: gcc gcc (Alpine 14.2.0) 14.2.0 Windows Server 2022 Kernel: 10.0.20348.2031 Compiler: clang 15.0.7, gcc 14.1.0 (MinGW), and MSVC VS 19.39.33521 To view detailed results, visit: https://lab.dpdk.org/results/dashboard/tarballs/35390/ UNH-IOL DPDK Community Lab To manage your email subscriptions, visit: https://lab.dpdk.org/results/dashboard/preferences/subscriptions/