From mboxrd@z Thu Jan 1 00:00:00 1970 Return-Path: Received: from mails.dpdk.org (mails.dpdk.org [217.70.189.124]) by inbox.dpdk.org (Postfix) with ESMTP id 77DFE48A52 for ; Wed, 29 Oct 2025 18:36:55 +0100 (CET) Received: from mails.dpdk.org (localhost [127.0.0.1]) by mails.dpdk.org (Postfix) with ESMTP id 612A740150; Wed, 29 Oct 2025 18:36:55 +0100 (CET) Received: from mail-pj1-f100.google.com (mail-pj1-f100.google.com [209.85.216.100]) by mails.dpdk.org (Postfix) with ESMTP id 64C4340150 for ; Wed, 29 Oct 2025 18:36:53 +0100 (CET) Received: by mail-pj1-f100.google.com with SMTP id 98e67ed59e1d1-33e27cda4d7so1334091a91.0 for ; Wed, 29 Oct 2025 10:36:53 -0700 (PDT) DKIM-Signature: v=1; a=rsa-sha256; c=relaxed/relaxed; d=iol.unh.edu; s=unh-iol; t=1761759412; x=1762364212; darn=dpdk.org; h=cc:to:from:subject:message-id:date:from:to:cc:subject:date :message-id:reply-to; bh=RKD3/cVz2eQE6uusrQxJSYvuaGhc6eOD4BmGTsx3p5s=; b=hJVQZCm5SrtWe8x6Ym3+Gj48FrV+0/X8v353eKLeL7K3BfLVou548jAuN+nqS8In7C 259mf31vk7BIeGkHVGFUMQ5cF2C7g/DrSen+1LLv9+JCbdh1Myz3L3zFfJsrn8eyyxEZ ufO4iCOu2EwJ/GyXMzK/5ssVp2au5hIO8kR0w= X-Google-DKIM-Signature: v=1; a=rsa-sha256; c=relaxed/relaxed; d=1e100.net; s=20230601; t=1761759412; x=1762364212; h=cc:to:from:subject:message-id:date:x-gm-message-state:from:to:cc :subject:date:message-id:reply-to; bh=RKD3/cVz2eQE6uusrQxJSYvuaGhc6eOD4BmGTsx3p5s=; b=tcoASIZgEvPjmP/iGL71MYt+vicCPLdXpHkQQJid/LvOOfCtQz5iA5jvcMAarWbvyZ LCd1otTVaKF3nbDY4CW7EBeF2KEMSlIctcZNAVii2cNeC5x9tqe1e+7PSfbynKsJnYBT jG50sITetaxlmG1qSWXgJip8hB3XDb1Fqe95yrS2iio48bZu1m1FvKZSpy4xnbcVIKBH xkP1YRNDh1AVOmHKw6bI0ntISQPQS8iUEOjTGRNpz9EtXi6HUWlga07AsTVLvPmRs0VN RMC7fkIqLhBJbtrmRfS2WGSudm1xyWr3h4uSNNNIV9S1k+Zm8hx3UW4FG2hNofpGZHiW Eh9A== X-Gm-Message-State: AOJu0YxE15EQmtx3mfDN+IA+bxkY//cgP0ub/Trd8Zbu3+KMpZ4GTDuB NkpzvAov4/lLOD5U1+N3t5OLgsaQTxbew+cJfkKh0beFko04YefU3hSPMhZbpnh/GQlgGpwqfsP 4ETTZ7ZTbzGOEVWMCnacBsUqeQfTF+1K4ZnJgFrcCl5uVFR01UT43 X-Gm-Gg: ASbGncsZHQ3MVZpY3dDzixolyWSKWPCXl9YpLZORavCbMpFONQ2QqydDtZB8V6AopIQ TXI/0dZhjm1ox5w1gvERB5VqCU1dhCjviQnc5NL4SO25LikI4iukzp0F12+mWFFxPmq+WEe3cNe Okf2Pc0jI7SY04NpF1L2S4MuYeZDaOBppF9w7PYFY9s07sV2842qulTFsf9ZzlhDWHAg0mJuz6x xbYswx74zgIGiZ4fAIVbdE9f/1V3R+MT7w5LHvEFS9bPS30GT65PDTJ46MQz2AsMiW5MXYKyCbm SJAcAkuuGUO5HUyBTcsxQe/gP7M0wE6BEVDXb4+QgbSMRONly2994kFhzgQTXWpRQQBw5YOM4Z1 ABsZhJrr3 X-Google-Smtp-Source: AGHT+IE/WjzDi4hJ03FoZM4yJD5eKhdESEFzMV8X8VXaVrmaco+3j8L3AwH/Zog2dunNV7OSrLLIB7drhcnv X-Received: by 2002:a17:90b:1c8d:b0:314:2cd2:595d with SMTP id 98e67ed59e1d1-3404ac4603dmr463601a91.8.1761759412379; Wed, 29 Oct 2025 10:36:52 -0700 (PDT) Received: from postal.iol.unh.edu (postal.iol.unh.edu. [2606:4100:3880:1234::84]) by smtp-relay.gmail.com with ESMTPS id 41be03b00d2f7-b712d9b828asm931190a12.9.2025.10.29.10.36.52 (version=TLS1_2 cipher=ECDHE-ECDSA-AES128-GCM-SHA256 bits=128/128); Wed, 29 Oct 2025 10:36:52 -0700 (PDT) X-Relaying-Domain: iol.unh.edu Date: Wed, 29 Oct 2025 10:36:52 -0700 (PDT) Message-ID: <690250b4.630a0220.393d48.b730SMTPIN_ADDED_MISSING@mx.google.com> Received: from [172.21.0.2] (unknown [172.18.0.240]) by postal.iol.unh.edu (Postfix) with ESMTP id 79E9D604D420; Wed, 29 Oct 2025 13:36:51 -0400 (EDT) Subject: |SUCCESS| [GIT MASTER] 5d40aaf77852b5884e137f1588726c92feb59002 From: dpdklab@iol.unh.edu To: Test Report Cc: dpdk-test-reports@iol.unh.edu, Ajit Khaparde Content-Type: text/plain X-BeenThere: test-report@dpdk.org X-Mailman-Version: 2.1.29 Precedence: list List-Id: automatic DPDK test reports List-Unsubscribe: , List-Archive: List-Post: List-Help: List-Subscribe: , Errors-To: test-report-bounces@dpdk.org _Testing PASS_ Branch: next-net-brcm-for-next-net 5d40aaf77852b5884e137f1588726c92feb59002 --> testing pass Upstream job id: Generic-VM-Unit-Test-DPDK#32161 Test environment and result as below: +-------------------------------+----------------+ | Environment | dpdk_unit_test | +===============================+================+ | CentOS Stream 10 | PASS | +-------------------------------+----------------+ | CentOS Stream 9 | PASS | +-------------------------------+----------------+ | Debian GNU/Linux 12 | PASS | +-------------------------------+----------------+ | Red Hat Enterprise Linux 8.10 | PASS | +-------------------------------+----------------+ | Fedora Linux 41 | PASS | +-------------------------------+----------------+ | Fedora Linux 42 | PASS | +-------------------------------+----------------+ | Fedora Linux 40 | PASS | +-------------------------------+----------------+ | Red Hat Enterprise Linux 9.5 | PASS | +-------------------------------+----------------+ | Ubuntu 20.04 | PASS | +-------------------------------+----------------+ | Ubuntu 24.04 | PASS | +-------------------------------+----------------+ | Ubuntu 22.04 | PASS | +-------------------------------+----------------+ | Windows Server 2022 | PASS | +-------------------------------+----------------+ CentOS Stream 10 Kernel: 5.15 Compiler: gcc gcc (GCC) 14.2.1 20250110 (Red Hat 14.2.1-8) CentOS Stream 9 Kernel: 5.15 Compiler: gcc gcc (GCC) 11.5.0 20240719 (Red Hat 11.5.0-11) Debian GNU/Linux 12 Kernel: 5.15 Compiler: gcc gcc (Debian 12.2.0-14+deb12u1) 12.2.0 Red Hat Enterprise Linux 8.10 Kernel: 5.15 Compiler: gcc gcc (GCC) 8.5.0 20210514 (Red Hat 8.5.0-22) Fedora Linux 41 Kernel: 5.15 Compiler: gcc gcc (GCC) 14.3.1 20250523 (Red Hat 14.3.1-1) Fedora Linux 42 Kernel: 5.15 Compiler: gcc gcc (GCC) 15.2.1 20250808 (Red Hat 15.2.1-1) Fedora Linux 40 Kernel: 5.15 Compiler: clang gcc (GCC) 14.2.1 20240912 (Red Hat 14.2.1-3) Red Hat Enterprise Linux 9.5 Kernel: 5.15 Compiler: gcc gcc (GCC) 11.5.0 20240719 (Red Hat 11.5.0-2) Ubuntu 20.04 Kernel: 5.15 Compiler: gcc gcc (Ubuntu 9.4.0-1ubuntu1~20.04.2) 9.4.0 Ubuntu 24.04 Kernel: 5.15 Compiler: gcc gcc (Ubuntu 13.3.0-6ubuntu2~24.04) 13.3.0 Ubuntu 22.04 Kernel: 5.15 Compiler: gcc gcc (Ubuntu 11.4.0-1ubuntu1~22.04) 11.4.0 Windows Server 2022 Kernel: 10.0.20348.2031 Compiler: clang 15.0.7, gcc 14.1.0 (MinGW), and MSVC VS 19.39.33521 To view detailed results, visit: https://lab.dpdk.org/results/dashboard/tarballs/35390/ UNH-IOL DPDK Community Lab To manage your email subscriptions, visit: https://lab.dpdk.org/results/dashboard/preferences/subscriptions/