From mboxrd@z Thu Jan 1 00:00:00 1970 Return-Path: Received: from mails.dpdk.org (mails.dpdk.org [217.70.189.124]) by inbox.dpdk.org (Postfix) with ESMTP id AF2CA48A52 for ; Wed, 29 Oct 2025 18:38:38 +0100 (CET) Received: from mails.dpdk.org (localhost [127.0.0.1]) by mails.dpdk.org (Postfix) with ESMTP id 8E87540150; Wed, 29 Oct 2025 18:38:38 +0100 (CET) Received: from mail-pl1-f227.google.com (mail-pl1-f227.google.com [209.85.214.227]) by mails.dpdk.org (Postfix) with ESMTP id 1955D40150 for ; Wed, 29 Oct 2025 18:38:37 +0100 (CET) Received: by mail-pl1-f227.google.com with SMTP id d9443c01a7336-273a0aeed57so15529335ad.1 for ; Wed, 29 Oct 2025 10:38:37 -0700 (PDT) DKIM-Signature: v=1; a=rsa-sha256; c=relaxed/relaxed; d=iol.unh.edu; s=unh-iol; t=1761759516; x=1762364316; darn=dpdk.org; h=references:in-reply-to:cc:to:from:subject:message-id:date:from:to :cc:subject:date:message-id:reply-to; bh=tFxQIS0K3P5Pg1DMhjyXHB4A5CoPjtrEjHe9SAI+dV4=; b=BiIaEdpc8oGejKfzgIRBgqCgqDuvhTdA38JoWyoGH/fxWK3CBinprdijSBIhg5STGJ 0UfumtWXYdGYlcMSwrYKskO40Aj/E6v2zCP3CaxP+f7hJj3nPL2xrrYBkIW89DaIAO0B EoloAGGnE0GC2PRV14VtMxI51Xzwq6dfeJkwY= X-Google-DKIM-Signature: v=1; a=rsa-sha256; c=relaxed/relaxed; d=1e100.net; s=20230601; t=1761759516; x=1762364316; h=references:in-reply-to:cc:to:from:subject:message-id:date :x-gm-message-state:from:to:cc:subject:date:message-id:reply-to; bh=tFxQIS0K3P5Pg1DMhjyXHB4A5CoPjtrEjHe9SAI+dV4=; b=IHc8E5V5s3sDsXgXaNcqjb2CHhD0ksQ4NysVLv94US9Spcvd2ETDiaiUX+0T8LX5ju hOyLqULI822tHF0EZoiLU7lNS4fYIPPRK+bk3UddMbyl2GOIv7dDl9vg5NZdHGSXANi4 ITU3FAZNirDStj33c2ZWLgl0QlL9gWmHZMdfhlSKr7MDSvTCGehJZawhJITwL67sTbPS EJ1EDsewtL1X0pzWLNyGZvi751UhF/SOu2KB5nDwCkWPRw8C5Xi8wvXl69G5pHcVhERK IOTDafCdzhqm8eExw9v0HJEQSjfnZZEke/lSI0hNLOZUDaFbFZJ2VCqtbCXPGgcmgtBT kiMw== X-Gm-Message-State: AOJu0YwcD94gVZFPZeQ1wk1njmGOskuXw3otGjN43ffGraUUxgzJYmFv JfxKw+cEltLCNgxCorgaTZ9t9A9TC2DwIRBo+leZiPG/wKnve/l+xSS4EmYPWpv2taOtNJqQBUK EZ/7vO4Vbme9Lu+jRu/xwWFiGA3+7GiV9ma4S1Mnh/nGAYC2wNuqzTVZEHkwq X-Gm-Gg: ASbGncvpWJr8ngvNEoTl7Zq7apdPgjHDfgvublgJIDQllKxZPdTeaSMgMoNyL2z/325 r6nYAq2UvIxrYoCkkO8rmfUNsIM5EEket0fxfq6P8fmQ/OKaBAlsyw2v2ulxls+F4KpG5rGO+ec B/jSSROzn5Bs6ukgAxFevBiyow8mpyUqwK3hglpTTZR7aEy16kewHZo1ozFQBqzFOd/xuQ/gkaP klSRtWyp+pYP5x4jb4JdGMbl43feerqRFewYZOFbIRgtTPbYNoz8hrIoMqNqnUh07cVgp5+BARg xPrSdiboEUzBMws+6n74Vf7k2/kZvt1Bt1pTDlpE09ReS+bW9zf+etl9ZglzWyEWDKcHMTItRNd f4taCCUlz X-Google-Smtp-Source: AGHT+IGKqy4xme4VlwS8bzA6aK+XxJsGFRy/Y/ytZq5i2o3vTj18gwDMWUeT+nSfalXr1wobywbj8xdRw+fx X-Received: by 2002:a17:902:ea10:b0:274:506d:7fcc with SMTP id d9443c01a7336-294ed07254cmr4212475ad.6.1761759516189; Wed, 29 Oct 2025 10:38:36 -0700 (PDT) Received: from postal.iol.unh.edu (postal.iol.unh.edu. [2606:4100:3880:1234::84]) by smtp-relay.gmail.com with ESMTPS id d9443c01a7336-29498d274e5sm13572615ad.28.2025.10.29.10.38.36 (version=TLS1_2 cipher=ECDHE-ECDSA-AES128-GCM-SHA256 bits=128/128); Wed, 29 Oct 2025 10:38:36 -0700 (PDT) X-Relaying-Domain: iol.unh.edu Date: Wed, 29 Oct 2025 10:38:36 -0700 (PDT) Message-ID: <6902511c.170a0220.1582da.f287SMTPIN_ADDED_MISSING@mx.google.com> Received: from [172.21.0.3] (unknown [172.18.0.240]) by postal.iol.unh.edu (Postfix) with ESMTP id 4150A604D420; Wed, 29 Oct 2025 13:38:35 -0400 (EDT) Subject: |SUCCESS| pw158223-158224 [PATCH] [3/3] net/mlx5: support flow metad From: dpdklab@iol.unh.edu To: Test Report Cc: dpdk-test-reports@iol.unh.edu In-Reply-To: <20251029155711.169580-3-getelson@nvidia.com> References: <20251029155711.169580-3-getelson@nvidia.com> Content-Type: text/plain X-BeenThere: test-report@dpdk.org X-Mailman-Version: 2.1.29 Precedence: list List-Id: automatic DPDK test reports List-Unsubscribe: , List-Archive: List-Post: List-Help: List-Subscribe: , Errors-To: test-report-bounces@dpdk.org Test-Label: iol-unit-amd64-testing Test-Status: SUCCESS http://dpdk.org/patch/158224 _Testing PASS_ Submitter: Gregory Etelson Date: Wednesday, October 29 2025 15:57:10 DPDK git baseline: Repo:dpdk-next-net-mlx Branch: master CommitID:39b54f2dcf44ad1f91eabc7080cd5dea763607fd 158223-158224 --> testing pass Upstream job id: Generic-Unit-Test-DPDK#386755 Test environment and result as below: +-------------------------------+----------------+ | Environment | dpdk_unit_test | +===============================+================+ | CentOS Stream 9 | PASS | +-------------------------------+----------------+ | CentOS Stream 10 | PASS | +-------------------------------+----------------+ | Debian GNU/Linux 12 | PASS | +-------------------------------+----------------+ | Fedora Linux 40 | PASS | +-------------------------------+----------------+ | Red Hat Enterprise Linux 9.5 | PASS | +-------------------------------+----------------+ | Fedora Linux 41 | PASS | +-------------------------------+----------------+ | Fedora Linux 42 | PASS | +-------------------------------+----------------+ | Red Hat Enterprise Linux 8.10 | PASS | +-------------------------------+----------------+ | Ubuntu 20.04 | PASS | +-------------------------------+----------------+ | Ubuntu 24.04 | PASS | +-------------------------------+----------------+ | Ubuntu 22.04 | PASS | +-------------------------------+----------------+ CentOS Stream 9 Kernel: 5.15 Compiler: gcc gcc (GCC) 11.5.0 20240719 (Red Hat 11.5.0-11) CentOS Stream 10 Kernel: 5.15 Compiler: gcc gcc (GCC) 14.2.1 20250110 (Red Hat 14.2.1-8) Debian GNU/Linux 12 Kernel: 5.15 Compiler: gcc gcc (Debian 12.2.0-14+deb12u1) 12.2.0 Fedora Linux 40 Kernel: 5.15 Compiler: gcc gcc (GCC) 14.2.1 20240912 (Red Hat 14.2.1-3) Red Hat Enterprise Linux 9.5 Kernel: 5.15 Compiler: gcc gcc (GCC) 11.5.0 20240719 (Red Hat 11.5.0-2) Fedora Linux 41 Kernel: 5.15 Compiler: gcc gcc (GCC) 14.3.1 20250523 (Red Hat 14.3.1-1) Fedora Linux 42 Kernel: 5.15 Compiler: gcc gcc (GCC) 15.2.1 20250808 (Red Hat 15.2.1-1) Red Hat Enterprise Linux 8.10 Kernel: 5.15 Compiler: gcc gcc (GCC) 8.5.0 20210514 (Red Hat 8.5.0-22) Ubuntu 20.04 Kernel: 5.15 Compiler: gcc gcc (Ubuntu 9.4.0-1ubuntu1~20.04.2) 9.4.0 Ubuntu 24.04 Kernel: 5.15 Compiler: gcc gcc (Ubuntu 13.3.0-6ubuntu2~24.04) 13.3.0 Ubuntu 22.04 Kernel: 5.15 Compiler: gcc gcc (Ubuntu 11.4.0-1ubuntu1~22.04) 11.4.0 To view detailed results, visit: https://lab.dpdk.org/results/dashboard/patchsets/34418/ UNH-IOL DPDK Community Lab To manage your email subscriptions, visit: https://lab.dpdk.org/results/dashboard/preferences/subscriptions/