From mboxrd@z Thu Jan 1 00:00:00 1970 Return-Path: Received: from mails.dpdk.org (mails.dpdk.org [217.70.189.124]) by inbox.dpdk.org (Postfix) with ESMTP id 2873148A52 for ; Wed, 29 Oct 2025 18:55:14 +0100 (CET) Received: from mails.dpdk.org (localhost [127.0.0.1]) by mails.dpdk.org (Postfix) with ESMTP id 2253240150; Wed, 29 Oct 2025 18:55:14 +0100 (CET) Received: from mail-io1-f99.google.com (mail-io1-f99.google.com [209.85.166.99]) by mails.dpdk.org (Postfix) with ESMTP id D40A740150 for ; Wed, 29 Oct 2025 18:55:12 +0100 (CET) Received: by mail-io1-f99.google.com with SMTP id ca18e2360f4ac-940dbb1e343so55223739f.0 for ; Wed, 29 Oct 2025 10:55:12 -0700 (PDT) DKIM-Signature: v=1; a=rsa-sha256; c=relaxed/relaxed; d=iol.unh.edu; s=unh-iol; t=1761760512; x=1762365312; darn=dpdk.org; h=cc:to:from:subject:message-id:date:from:to:cc:subject:date :message-id:reply-to; bh=gl59ycjMagkDugBJioi+JWjcWIJwDTqegaHpxu67T6w=; b=HEasg5WUsYX8i/6KkWEuRjLWWxCK6hepuSb7GxaN+VyZ9+GfpDXy0dJ7VbUYTCJ0wl AornR4vuclVQxQegBQVJvePhKPxxAm3PUwaGJmFrX8TFVIED1tD4pFqB8P+YY2pxhAL9 hxMXyXCw8Jnrv2z0oUmXRV22laAooW0e4P2Js= X-Google-DKIM-Signature: v=1; a=rsa-sha256; c=relaxed/relaxed; d=1e100.net; s=20230601; t=1761760512; x=1762365312; h=cc:to:from:subject:message-id:date:x-gm-message-state:from:to:cc :subject:date:message-id:reply-to; bh=gl59ycjMagkDugBJioi+JWjcWIJwDTqegaHpxu67T6w=; b=LmB156WuPh6WNFK3oLargSzVwoW9WbQ+7BWk2hpii8gc4WWlWDHUFddfqKDKbxV9S2 lrbRT8E/n9x/dEIWl3tGa5+cB/a7QlxDxXYHJJAlu4jAG1cT1yQSz8hfRmJIsQsHyTbu bG2SYuYNicWkUMYAVAEDHLahInPfB/2N74cW5XXpR+HEAN+RVtmUu80j0bOto+xpasNB 3E9nu4bvtBguFEqaQTiHIM1oDPmgv6Nb08L7DpL+zAIEMdboJoNzeEyZhKH46h3NaRcA Wu8hktbI1mghmKjwK4qFDFaT8U1W1Y59CMi3+SBICGifCg2W/xzoVqA5Rc4FKUVrLY92 0myw== X-Gm-Message-State: AOJu0YxcdQiDJlgy6diZwT4kJvOG1DUhegEVIFKaSL8BsYSdqmzZoZgw KtGd92CIoXIqOPfvI7NLbTB4wQdlKAvWn8tzdOSATA1qpRQpEHdkcV39UhsLMQAat9zD13VKsHa fcTbfq64NTILJDBk6KJZA3XOf78tpn/ewtdnuBrWXpNez9uVwxFRC X-Gm-Gg: ASbGnctr0c0vuD0kk9dDCUiY3aeWod0zItw0CWXg0s/nJr9jAE41762KVtJL8PdHJzE VRamiz/XNu3MjFOZVyceI3DDXFkTX8f+yBQyo+9+CRb4kE4CvBKlnelBvjTLq0IeaVuR2N2PBf5 O+298jXpRe/3LEPjToLnrIq6zDCEdAubtd0vIKkcWQNQKogIJiq5oUgY2FN4DyV04AECjhVjHIo uFRdYJqKUaxZ0HvW/9P5u+nafwuRiKfkngXeYofgrKqgNrzidZBKhRLkCtaKP78uuKXudDvmF/8 /ZnePGaQlXP95yuhtSVQO5OPRwe2cIZs3rzHYx/sD6czntxE4HxK5X8muYUFIbqi7ncZyYyDp4W HzKqQW4wP X-Google-Smtp-Source: AGHT+IFfNgzrwEy5i4eT+j9UauWFpLAxuZkjllhqnGx+EbSDvIq+HHl04+pIDg6OZsZnaerEOJ4vKyow2GVz X-Received: by 2002:a05:6e02:370d:b0:431:d83a:9ca with SMTP id e9e14a558f8ab-4330122bfecmr6621485ab.12.1761760512068; Wed, 29 Oct 2025 10:55:12 -0700 (PDT) Received: from postal.iol.unh.edu (postal.iol.unh.edu. [2606:4100:3880:1234::84]) by smtp-relay.gmail.com with ESMTPS id e9e14a558f8ab-431f688d961sm14217195ab.17.2025.10.29.10.55.11 (version=TLS1_2 cipher=ECDHE-ECDSA-AES128-GCM-SHA256 bits=128/128); Wed, 29 Oct 2025 10:55:12 -0700 (PDT) X-Relaying-Domain: iol.unh.edu Date: Wed, 29 Oct 2025 10:55:12 -0700 (PDT) Message-ID: <69025500.050a0220.ed1ac.3221SMTPIN_ADDED_MISSING@mx.google.com> Received: from [172.21.0.2] (unknown [172.18.0.240]) by postal.iol.unh.edu (Postfix) with ESMTP id 9789B604D420; Wed, 29 Oct 2025 13:55:11 -0400 (EDT) Subject: |SUCCESS| [GIT MASTER] 5d40aaf77852b5884e137f1588726c92feb59002 From: dpdklab@iol.unh.edu To: Test Report Cc: dpdk-test-reports@iol.unh.edu, Ajit Khaparde Content-Type: text/plain X-BeenThere: test-report@dpdk.org X-Mailman-Version: 2.1.29 Precedence: list List-Id: automatic DPDK test reports List-Unsubscribe: , List-Archive: List-Post: List-Help: List-Subscribe: , Errors-To: test-report-bounces@dpdk.org _Testing PASS_ Branch: next-net-brcm-for-next-net 5d40aaf77852b5884e137f1588726c92feb59002 --> testing pass Upstream job id: Generic-VM-Unit-Test-DPDK#32162 Test environment and result as below: +-------------------------------+----------------+ | Environment | dpdk_unit_test | +===============================+================+ | CentOS Stream 10 | PASS | +-------------------------------+----------------+ | CentOS Stream 9 | PASS | +-------------------------------+----------------+ | Debian GNU/Linux 12 | PASS | +-------------------------------+----------------+ | Red Hat Enterprise Linux 8.10 | PASS | +-------------------------------+----------------+ | Fedora Linux 41 | PASS | +-------------------------------+----------------+ | Fedora Linux 42 | PASS | +-------------------------------+----------------+ | Fedora Linux 40 | PASS | +-------------------------------+----------------+ | Red Hat Enterprise Linux 9.5 | PASS | +-------------------------------+----------------+ | Ubuntu 20.04 | PASS | +-------------------------------+----------------+ | Ubuntu 24.04 | PASS | +-------------------------------+----------------+ | Ubuntu 22.04 | PASS | +-------------------------------+----------------+ | Windows Server 2022 | PASS | +-------------------------------+----------------+ CentOS Stream 10 Kernel: 5.15 Compiler: gcc gcc (GCC) 14.2.1 20250110 (Red Hat 14.2.1-8) CentOS Stream 9 Kernel: 5.15 Compiler: gcc gcc (GCC) 11.5.0 20240719 (Red Hat 11.5.0-11) Debian GNU/Linux 12 Kernel: 5.15 Compiler: gcc gcc (Debian 12.2.0-14+deb12u1) 12.2.0 Red Hat Enterprise Linux 8.10 Kernel: 5.15 Compiler: gcc gcc (GCC) 8.5.0 20210514 (Red Hat 8.5.0-22) Fedora Linux 41 Kernel: 5.15 Compiler: gcc gcc (GCC) 14.3.1 20250523 (Red Hat 14.3.1-1) Fedora Linux 42 Kernel: 5.15 Compiler: gcc gcc (GCC) 15.2.1 20250808 (Red Hat 15.2.1-1) Fedora Linux 40 Kernel: 5.15 Compiler: clang gcc (GCC) 14.2.1 20240912 (Red Hat 14.2.1-3) Red Hat Enterprise Linux 9.5 Kernel: 5.15 Compiler: gcc gcc (GCC) 11.5.0 20240719 (Red Hat 11.5.0-2) Ubuntu 20.04 Kernel: 5.15 Compiler: gcc gcc (Ubuntu 9.4.0-1ubuntu1~20.04.2) 9.4.0 Ubuntu 24.04 Kernel: 5.15 Compiler: gcc gcc (Ubuntu 13.3.0-6ubuntu2~24.04) 13.3.0 Ubuntu 22.04 Kernel: 5.15 Compiler: gcc gcc (Ubuntu 11.4.0-1ubuntu1~22.04) 11.4.0 Windows Server 2022 Kernel: 10.0.20348.2031 Compiler: clang 15.0.7, gcc 14.1.0 (MinGW), and MSVC VS 19.39.33521 To view detailed results, visit: https://lab.dpdk.org/results/dashboard/tarballs/35390/ UNH-IOL DPDK Community Lab To manage your email subscriptions, visit: https://lab.dpdk.org/results/dashboard/preferences/subscriptions/