From mboxrd@z Thu Jan 1 00:00:00 1970 Return-Path: Received: from mails.dpdk.org (mails.dpdk.org [217.70.189.124]) by inbox.dpdk.org (Postfix) with ESMTP id 3369048A20 for ; Wed, 29 Oct 2025 19:06:21 +0100 (CET) Received: from mails.dpdk.org (localhost [127.0.0.1]) by mails.dpdk.org (Postfix) with ESMTP id 278DF40150; Wed, 29 Oct 2025 19:06:21 +0100 (CET) Received: from mail-io1-f97.google.com (mail-io1-f97.google.com [209.85.166.97]) by mails.dpdk.org (Postfix) with ESMTP id DD1DA40150 for ; Wed, 29 Oct 2025 19:06:19 +0100 (CET) Received: by mail-io1-f97.google.com with SMTP id ca18e2360f4ac-93e7d3648a8so5178739f.2 for ; Wed, 29 Oct 2025 11:06:19 -0700 (PDT) DKIM-Signature: v=1; a=rsa-sha256; c=relaxed/relaxed; d=iol.unh.edu; s=unh-iol; t=1761761179; x=1762365979; darn=dpdk.org; h=references:in-reply-to:cc:to:from:subject:message-id:date:from:to :cc:subject:date:message-id:reply-to; bh=XOUWCGIQzJMZ8vXE+fh9ax552Aly22PZf2/zGJOBuEk=; b=RUwFrREOA8R3Nay8RKoDNBbHkILLJxsPXS8742smxl4NcqMtqpKiTGQiiUXveBwJdS R0swvpdJKmc+FAOQ7iEN2WcWVZ4qOaL9T0rv/UBG9Ym9IalXpzrli0Pg/t6Ej10Pmd5M HI0stvNz5x8OeDQVamJOkukg/fXh8qbqAglzI= X-Google-DKIM-Signature: v=1; a=rsa-sha256; c=relaxed/relaxed; d=1e100.net; s=20230601; t=1761761179; x=1762365979; h=references:in-reply-to:cc:to:from:subject:message-id:date :x-gm-message-state:from:to:cc:subject:date:message-id:reply-to; bh=XOUWCGIQzJMZ8vXE+fh9ax552Aly22PZf2/zGJOBuEk=; b=wLJiOAwRCLvBUqGh+2yTkl/VP+QLyY1jiakA5rF7uQwquqCHylMhX9a+8jy2J4R0Aa e0TVVt6u8lqLjmj2lemof6RLdkF9+8mUuF88fBfx9YV8b6Y8KcKdzEitvo755LWAjYtL QIgA+LhsLOiHqU/ZrgeEsVNy7MOFSPoSDcI48tzyOYM5xEnt9+K/VX7wBgeBt2zlofLu QVAUp8/K9XRk+NBpp8PHqKGsyEmjftpOFaKlpZ0G2eXdFdCKMNu1/XS7iFeMCIbq7TjU KPMSb1wgXpbg8STXFZZ4lgRA3gXzc7dwRUb1LUsO4y7p5G5TEx2yr3FJlbddG5aFJA1z ts0g== X-Gm-Message-State: AOJu0YxsNycm+Pi/UfuvYob4QreGYNrpfExFTaAUzt3u5sNu7FKlmGC3 nvAzE43w//er/4VG9pzlzlHRh/5fIvIHiQWW2+m138auqSX/UKB6194bR/IA+sZeWr0XrUV3VdW hqXgQunJyPuCP+QOR+/8cmHqTL4JcHZshRKFxG8T8zwtqE/gPqBSfrM4cDK5f X-Gm-Gg: ASbGnctPFf/HVTh74dIwSt/bay83+WZjpG7YgJbi3kE5sN+QFTg7tcdxP3a+pvRHU2Q KcY9YLcGsDS6dAxr0Xywwto1O7dZfrultmGLeX+8KMGW/8+MhvvIybH6AMW45RCCJD66bdtP2kQ TEFM2eBqg8kLlZEhYepcq0W2VKniLYtKmrQgW2acqhmD7HCfkiDRJZ1NH+y5MfRN3b3A1askkLt cIIGCChA+ig53Ca7w2PJMLfkuXdAHRH1YmKJX9Ip7J/7QB3KNOZjrCvOJ9LSzNMxiODNsqSDliP iKrYJMn5FsKaMnvJ29p4jhbrGVUUdK6SeM/PhVeJFW7eQ8Dwq1ujRM3bAiJqjkz76S5i3YNtfP8 j1+xnFadf X-Google-Smtp-Source: AGHT+IGMllQ3qBPr7/CSOi98lxO9MXg+nQEMZNp7UvMn32v/WeqBkcNosVqCSDpetBsKi1eh/qi/Nc5vSYYP X-Received: by 2002:a05:6e02:74a:b0:431:d864:366a with SMTP id e9e14a558f8ab-432f8f8715dmr49861965ab.2.1761761178978; Wed, 29 Oct 2025 11:06:18 -0700 (PDT) Received: from postal.iol.unh.edu (postal.iol.unh.edu. [2606:4100:3880:1234::84]) by smtp-relay.gmail.com with ESMTPS id e9e14a558f8ab-431f6899e31sm14232115ab.24.2025.10.29.11.06.18 (version=TLS1_2 cipher=ECDHE-ECDSA-AES128-GCM-SHA256 bits=128/128); Wed, 29 Oct 2025 11:06:18 -0700 (PDT) X-Relaying-Domain: iol.unh.edu Date: Wed, 29 Oct 2025 11:06:18 -0700 (PDT) Message-ID: <6902579a.050a0220.1b565e.3a28SMTPIN_ADDED_MISSING@mx.google.com> Received: from [172.21.0.2] (unknown [172.18.0.240]) by postal.iol.unh.edu (Postfix) with ESMTP id 980D5604D420; Wed, 29 Oct 2025 14:06:18 -0400 (EDT) Subject: |SUCCESS| pw158227-158282 [PATCH] [v5,57/57] net/bnxt/tf_ulp: remove From: dpdklab@iol.unh.edu To: Test Report Cc: dpdk-test-reports@iol.unh.edu In-Reply-To: <20251029160712.58519-58-manish.kurup@broadcom.com> References: <20251029160712.58519-58-manish.kurup@broadcom.com> Content-Type: text/plain X-BeenThere: test-report@dpdk.org X-Mailman-Version: 2.1.29 Precedence: list List-Id: automatic DPDK test reports List-Unsubscribe: , List-Archive: List-Post: List-Help: List-Subscribe: , Errors-To: test-report-bounces@dpdk.org Test-Label: iol-unit-amd64-testing Test-Status: SUCCESS http://dpdk.org/patch/158282 _Testing PASS_ Submitter: Manish Kurup Date: Wednesday, October 29 2025 16:07:12 DPDK git baseline: Repo:dpdk Branch: master CommitID:39b54f2dcf44ad1f91eabc7080cd5dea763607fd 158227-158282 --> testing pass Upstream job id: Generic-Unit-Test-DPDK#386781 Test environment and result as below: +-------------------------------+----------------+ | Environment | dpdk_unit_test | +===============================+================+ | Debian GNU/Linux 12 | PASS | +-------------------------------+----------------+ | CentOS Stream 10 | PASS | +-------------------------------+----------------+ | CentOS Stream 9 | PASS | +-------------------------------+----------------+ | Fedora Linux 40 | PASS | +-------------------------------+----------------+ | Fedora Linux 41 | PASS | +-------------------------------+----------------+ | Fedora Linux 42 | PASS | +-------------------------------+----------------+ | Red Hat Enterprise Linux 9.5 | PASS | +-------------------------------+----------------+ | Red Hat Enterprise Linux 8.10 | PASS | +-------------------------------+----------------+ | Ubuntu 20.04 | PASS | +-------------------------------+----------------+ | Ubuntu 22.04 | PASS | +-------------------------------+----------------+ | Ubuntu 24.04 | PASS | +-------------------------------+----------------+ Debian GNU/Linux 12 Kernel: 5.15 Compiler: gcc gcc (Debian 12.2.0-14+deb12u1) 12.2.0 CentOS Stream 10 Kernel: 5.15 Compiler: gcc gcc (GCC) 14.2.1 20250110 (Red Hat 14.2.1-8) CentOS Stream 9 Kernel: 5.15 Compiler: gcc gcc (GCC) 11.5.0 20240719 (Red Hat 11.5.0-11) Fedora Linux 40 Kernel: 5.15 Compiler: clang gcc (GCC) 14.2.1 20240912 (Red Hat 14.2.1-3) Fedora Linux 41 Kernel: 5.15 Compiler: gcc gcc (GCC) 14.3.1 20250523 (Red Hat 14.3.1-1) Fedora Linux 42 Kernel: 5.15 Compiler: clang gcc (GCC) 15.2.1 20250808 (Red Hat 15.2.1-1) Red Hat Enterprise Linux 9.5 Kernel: 5.15 Compiler: gcc gcc (GCC) 11.5.0 20240719 (Red Hat 11.5.0-2) Red Hat Enterprise Linux 8.10 Kernel: 5.15 Compiler: gcc gcc (GCC) 8.5.0 20210514 (Red Hat 8.5.0-22) Ubuntu 20.04 Kernel: 5.15 Compiler: gcc gcc (Ubuntu 9.4.0-1ubuntu1~20.04.2) 9.4.0 Ubuntu 22.04 Kernel: 5.15 Compiler: gcc gcc (Ubuntu 11.4.0-1ubuntu1~22.04) 11.4.0 Ubuntu 24.04 Kernel: 5.15 Compiler: gcc gcc (Ubuntu 13.3.0-6ubuntu2~24.04) 13.3.0 To view detailed results, visit: https://lab.dpdk.org/results/dashboard/patchsets/34419/ UNH-IOL DPDK Community Lab To manage your email subscriptions, visit: https://lab.dpdk.org/results/dashboard/preferences/subscriptions/