From mboxrd@z Thu Jan 1 00:00:00 1970 Return-Path: Received: from mails.dpdk.org (mails.dpdk.org [217.70.189.124]) by inbox.dpdk.org (Postfix) with ESMTP id 3040048A22 for ; Wed, 29 Oct 2025 19:12:22 +0100 (CET) Received: from mails.dpdk.org (localhost [127.0.0.1]) by mails.dpdk.org (Postfix) with ESMTP id 2988140150; Wed, 29 Oct 2025 19:12:22 +0100 (CET) Received: from mail-oa1-f99.google.com (mail-oa1-f99.google.com [209.85.160.99]) by mails.dpdk.org (Postfix) with ESMTP id 4842840150 for ; Wed, 29 Oct 2025 19:12:21 +0100 (CET) Received: by mail-oa1-f99.google.com with SMTP id 586e51a60fabf-3c9a42d6349so340074fac.1 for ; Wed, 29 Oct 2025 11:12:21 -0700 (PDT) DKIM-Signature: v=1; a=rsa-sha256; c=relaxed/relaxed; d=iol.unh.edu; s=unh-iol; t=1761761540; x=1762366340; darn=dpdk.org; h=references:in-reply-to:cc:to:from:subject:message-id:date:from:to :cc:subject:date:message-id:reply-to; bh=IIKxfhUj3WH8SGvqqf7wBHtsvGvGeu8dbBXuFGAFofg=; b=YiI/i831crvrZNO6hl6J1gvLGGC026PFtpBCa4mIdTyu8RcdNsBY5WhSOSjQu4CXIc rcqX56Sgq0qSlYgS7lHHjmCJ7FgyMGR+F081I+Z2ZZRRJB1qSIpLU9vQDqWJcMYY55V4 lnpt5ngJZ5Dg96znW+GF9kYpg9t6QVWr4i/88= X-Google-DKIM-Signature: v=1; a=rsa-sha256; c=relaxed/relaxed; d=1e100.net; s=20230601; t=1761761540; x=1762366340; h=references:in-reply-to:cc:to:from:subject:message-id:date :x-gm-message-state:from:to:cc:subject:date:message-id:reply-to; bh=IIKxfhUj3WH8SGvqqf7wBHtsvGvGeu8dbBXuFGAFofg=; b=qJL+XTu9QzW1K2KR6OXbOKQFXZ5asKsAxk5IXukWFlkGZGtdYtD6mIY43ng0BWa/ak zF9IsxlLz1SI2x30rFMnWdZJUeCldEBrtibUa32XlWjYovznqER+teoQKBVeaal9833/ B+V4jjf5X8TTBIVMJWI5IZHNdknKXbYXjJy5qBFJtN2GzrwP0ZICRIip2rPSbiANGXbo 3sUH6ABynnKBcTWOidMclga81pxQQUsxwP9qKmWCBdcKxKeJQteifjmPDLplR+IWVxXw ix10Z8GZb72165f+zaMsa2ATf8mBWgosPri5EXMgeHRCc5DZMsp9wzNSzpyv65WHNSAI qoaw== X-Gm-Message-State: AOJu0YxicuCsb9aLIyyOJonxrDHbV0ItJYFaFl+RGMsoBC++foqqok1Q f1nrS2nf3NNWWO/8esTSyT1Y1ViMrLuS9fBaec0Jnpqvv8o1ofk+Qy2kp62gxJGBudLMYaCUsxh y95eH7yvuCt7/o9elRYm+CLAF9cG1DHlUNO8PPBPwEDwG X-Gm-Gg: ASbGnctbTZzfOvheaEjKivT4gAvzHGu0UwXO8+lboJo0NANA/oAthF+fW9kV4xQfCpB WPBw65o7g1JynbvX7psbvKoxxPboWHZq3nf3Ia5GVCs4t7TsPt+FMVSSe0ftLfYlox93AGbPN8a pWv/No91l16rvLO6URXg4frhVdU4iWBaonlITMQr2f9Op1bFaj7yPYSDty4Oc6gqpinmhNEaRui meFywulRMw1oKtF0kw4Pgv7Bo3O0TF9UDKuZRuxy/5mHVL7C3UOX79+KgD3I0NnJRmZ8+3p90Dm 9sWd+WgNm1QS6QjyV22JDJyERUDWOl7N555PGIS5V1+VB1emlLsCVccuit+DrybFIavUKvFsB6g t+w/cSetRMoQeFOB2jY6Fx4fBpQHmDXM= X-Google-Smtp-Source: AGHT+IHDs1udh/s5A9b71fGf8U4m3g4/8QL6iwIvVs/KkckMbimol1lm610umQeLFYwvTSfS0rLyWFn9raG5 X-Received: by 2002:a05:6870:c6a0:b0:396:3593:d1aa with SMTP id 586e51a60fabf-3d747d48369mr1889048fac.43.1761761540543; Wed, 29 Oct 2025 11:12:20 -0700 (PDT) Received: from postal.iol.unh.edu (postal.iol.unh.edu. [132.177.123.84]) by smtp-relay.gmail.com with ESMTPS id 586e51a60fabf-3d1e22e86a2sm1353682fac.0.2025.10.29.11.12.20 (version=TLS1_2 cipher=ECDHE-ECDSA-AES128-GCM-SHA256 bits=128/128); Wed, 29 Oct 2025 11:12:20 -0700 (PDT) X-Relaying-Domain: iol.unh.edu Date: Wed, 29 Oct 2025 11:12:20 -0700 (PDT) Message-ID: <69025904.050a0220.28cda6.0769SMTPIN_ADDED_MISSING@mx.google.com> Received: from [172.21.0.2] (unknown [172.18.0.240]) by postal.iol.unh.edu (Postfix) with ESMTP id 157D66051830; Wed, 29 Oct 2025 14:12:20 -0400 (EDT) Subject: |WARNING| pw158223-158224 [PATCH] [3/3] net/mlx5: support flow metad From: dpdklab@iol.unh.edu To: Test Report Cc: dpdk-test-reports@iol.unh.edu In-Reply-To: <20251029155711.169580-3-getelson@nvidia.com> References: <20251029155711.169580-3-getelson@nvidia.com> Content-Type: text/plain X-BeenThere: test-report@dpdk.org X-Mailman-Version: 2.1.29 Precedence: list List-Id: automatic DPDK test reports List-Unsubscribe: , List-Archive: List-Post: List-Help: List-Subscribe: , Errors-To: test-report-bounces@dpdk.org Test-Label: iol-compile-amd64-testing Test-Status: WARNING http://dpdk.org/patch/158224 _Testing issues_ Submitter: Gregory Etelson Date: Wednesday, October 29 2025 15:57:10 DPDK git baseline: Repo:dpdk-next-net-mlx Branch: master CommitID:39b54f2dcf44ad1f91eabc7080cd5dea763607fd 158223-158224 --> testing issues Upstream job id: Generic-DPDK-Compile-Meson#439105 Test environment and result as below: +-------------------------------+--------------------+-------------------+------------------+-------------------+ | Environment | dpdk_meson_compile | dpdk_compile_spdk | dpdk_compile_ovs | dpdk_msvc_compile | +===============================+====================+===================+==================+===================+ | FreeBSD 14.2 | PASS | SKIPPED | SKIPPED | SKIPPED | +-------------------------------+--------------------+-------------------+------------------+-------------------+ | CentOS Stream 9 | PASS | WARN | SKIPPED | SKIPPED | +-------------------------------+--------------------+-------------------+------------------+-------------------+ | CentOS Stream 10 | PASS | SKIPPED | SKIPPED | SKIPPED | +-------------------------------+--------------------+-------------------+------------------+-------------------+ | Debian GNU/Linux 12 | PASS | WARN | SKIPPED | SKIPPED | +-------------------------------+--------------------+-------------------+------------------+-------------------+ | Ubuntu 20.04 | PASS | SKIPPED | SKIPPED | SKIPPED | +-------------------------------+--------------------+-------------------+------------------+-------------------+ | Fedora Linux 42 | PASS | WARN | PASS | SKIPPED | +-------------------------------+--------------------+-------------------+------------------+-------------------+ | openSUSE Leap 15.6 | PASS | SKIPPED | SKIPPED | SKIPPED | +-------------------------------+--------------------+-------------------+------------------+-------------------+ | Red Hat Enterprise Linux 8.10 | PASS | SKIPPED | SKIPPED | SKIPPED | +-------------------------------+--------------------+-------------------+------------------+-------------------+ | Red Hat Enterprise Linux 9.5 | PASS | SKIPPED | SKIPPED | SKIPPED | +-------------------------------+--------------------+-------------------+------------------+-------------------+ | Ubuntu 22.04 | PASS | WARN | SKIPPED | SKIPPED | +-------------------------------+--------------------+-------------------+------------------+-------------------+ | Windows Server 2022 | SKIPPED | SKIPPED | SKIPPED | PASS | +-------------------------------+--------------------+-------------------+------------------+-------------------+ ==== 20 line log output for Ubuntu 22.04 (dpdk_compile_spdk): ==== --- Failed to get log output --- ==== End log output ==== FreeBSD 14.2 Kernel: 14.2-RELEASE Compiler: clang 18.1.6 CentOS Stream 9 Kernel: 5.15 Compiler: gcc gcc (GCC) 11.5.0 20240719 (Red Hat 11.5.0-11) CentOS Stream 10 Kernel: 5.15 Compiler: gcc gcc (GCC) 14.2.1 20250110 (Red Hat 14.2.1-8) Debian GNU/Linux 12 Kernel: 5.15 Compiler: gcc gcc (Debian 12.2.0-14+deb12u1) 12.2.0 Ubuntu 20.04 Kernel: 4.19 Compiler: gcc gcc (Ubuntu 9.4.0-1ubuntu1~20.04.2) 9.4.0 Fedora Linux 42 Kernel: 5.15 Compiler: clang gcc (GCC) 15.2.1 20250808 (Red Hat 15.2.1-1) openSUSE Leap 15.6 Kernel: 5.15 Compiler: gcc gcc (SUSE Linux) 7.5.0 Red Hat Enterprise Linux 8.10 Kernel: 5.15 Compiler: gcc gcc (GCC) 8.5.0 20210514 (Red Hat 8.5.0-22) Red Hat Enterprise Linux 9.5 Kernel: 5.15 Compiler: gcc gcc (GCC) 11.5.0 20240719 (Red Hat 11.5.0-2) Ubuntu 22.04 Kernel: 5.15 Compiler: gcc gcc (Ubuntu 11.4.0-1ubuntu1~22.04) 11.4.0 Windows Server 2022 Kernel: 10.0.20348.2031 Compiler: clang 15.0.7, gcc 14.1.0 (MinGW), and MSVC VS 19.39.33521 To view detailed results, visit: https://lab.dpdk.org/results/dashboard/patchsets/34418/ UNH-IOL DPDK Community Lab To manage your email subscriptions, visit: https://lab.dpdk.org/results/dashboard/preferences/subscriptions/