From mboxrd@z Thu Jan 1 00:00:00 1970 Return-Path: Received: from mails.dpdk.org (mails.dpdk.org [217.70.189.124]) by inbox.dpdk.org (Postfix) with ESMTP id 8169A48A22 for ; Wed, 29 Oct 2025 19:14:56 +0100 (CET) Received: from mails.dpdk.org (localhost [127.0.0.1]) by mails.dpdk.org (Postfix) with ESMTP id 62A934028D; Wed, 29 Oct 2025 19:14:56 +0100 (CET) Received: from mail-ot1-f100.google.com (mail-ot1-f100.google.com [209.85.210.100]) by mails.dpdk.org (Postfix) with ESMTP id 6FE6C4028D for ; Wed, 29 Oct 2025 19:14:55 +0100 (CET) Received: by mail-ot1-f100.google.com with SMTP id 46e09a7af769-7c531445439so33103a34.0 for ; Wed, 29 Oct 2025 11:14:55 -0700 (PDT) DKIM-Signature: v=1; a=rsa-sha256; c=relaxed/relaxed; d=iol.unh.edu; s=unh-iol; t=1761761694; x=1762366494; darn=dpdk.org; h=cc:to:from:subject:message-id:date:from:to:cc:subject:date :message-id:reply-to; bh=ZsjcxQHqmC9dFcEF2P3lJN9wFNKLxlTIoXkjXLC0GRw=; b=EiThzdDiyCh9QDM2Y/nBYnL9W4v9EptZOiQz7NGFNCtQcCOjtHyWFP7dS5uEwxZbef +GgyOWIkkDEd6mRWMHy6V8DDL9bhCZIIP6VYmyCvXxUVeFzMn0AYG/hPJwePVnY4EaRr LXbBV42CfIpPhF4agw52X75r9Zb8LUHIfvkaY= X-Google-DKIM-Signature: v=1; a=rsa-sha256; c=relaxed/relaxed; d=1e100.net; s=20230601; t=1761761694; x=1762366494; h=cc:to:from:subject:message-id:date:x-gm-message-state:from:to:cc :subject:date:message-id:reply-to; bh=ZsjcxQHqmC9dFcEF2P3lJN9wFNKLxlTIoXkjXLC0GRw=; b=m1GFmACl+zh0lOrAwwYf1sRXuziPyWpXqeq0xp9LTIRHW/ql6MwXqJAr7BGAgA8ZPP CTKQU3wBkbk7muXihmqOOrUCK4ivaR28uNEKExNGk/V+vj0ibH1Hp4ldMLAWRb5CRSJM 4isyDR2tXsZCtDrPaP5WsQT0J+jOAyZs7yCIaw6ndJBf8Tsa4Q91TsDysEhZzu0jXlDU 4SyRHR/DNdEZvvpXnrYSCILLGIIMK89S6fXs1DICOk/+7zTFzEIJbc78EexE2hBr/rjQ sjtpV4qlMAhyq+5zlpk5CP2PkqvoJHf1dxUhAe2rvwd8l4CZddzv45BV+P2mvny8nvKU NJgA== X-Gm-Message-State: AOJu0YwwqtqClrJay4fktHgPTTwwh3jzcc2y2FKeZWNzqAwkpWs+aonU mqXtgt2tMySZchO9BxfkaPdts2vvACpzHzSLjFeyqqbUa2vdaFBYou4oZxEoev95+ovdgihYWFV MTpTGqf4lFfBTPSGoWcr2pZbyTLP3V7nRDXPDY/Wmv4iZHgZ5owzA X-Gm-Gg: ASbGncv3Xq8pn+0OJIr1iVaC8eyMdNDP9pckF1sZl6oqPa3iLgZIkiWKYYaXsz53xP/ z6tlP9qxsPEK8CjeGeqwerW9lPs4f0/FObuPbazsniKTGL0IuQS42hnqWtTLcpIkRCv0NBaCOeD euMtUY7mMatqdaS0BDi1ouQuSq10gP6kesFmBIr6iPKnWVv5IEfvCLgFp3AoxFiHObdcpg33OS4 5efVSNJic/2TKdC0xaZe40kara7pz6V19UKKfOe/K8VYMuy4STJiyEsidCiRoTVmFL2uwNBqO3X WL6NuRwNPSbb1dGMeug2fLnEruXp286GRVH6cl3SROIGfvpANfnFrJrB6/s6RXOEHhEUKMjEUb6 P9bqKk75j X-Google-Smtp-Source: AGHT+IGBb9hRJu2Vzp8MZRa0ujsUTVbhsjEG5I0ikC8HYkZoQvARNLmiPrbqRKGVVLFwbM5HSj2OU+5G+PXk X-Received: by 2002:a05:6830:4413:b0:78a:8561:9cb2 with SMTP id 46e09a7af769-7c6830c2dd1mr2275448a34.24.1761761694664; Wed, 29 Oct 2025 11:14:54 -0700 (PDT) Received: from postal.iol.unh.edu (postal.iol.unh.edu. [2606:4100:3880:1234::84]) by smtp-relay.gmail.com with ESMTPS id 46e09a7af769-7c5301b40d8sm1290321a34.4.2025.10.29.11.14.54 (version=TLS1_2 cipher=ECDHE-ECDSA-AES128-GCM-SHA256 bits=128/128); Wed, 29 Oct 2025 11:14:54 -0700 (PDT) X-Relaying-Domain: iol.unh.edu Date: Wed, 29 Oct 2025 11:14:54 -0700 (PDT) Message-ID: <6902599e.050a0220.30d3e2.da58SMTPIN_ADDED_MISSING@mx.google.com> Received: from [172.21.0.2] (unknown [172.18.0.240]) by postal.iol.unh.edu (Postfix) with ESMTP id 2ABC56051830; Wed, 29 Oct 2025 14:14:54 -0400 (EDT) Subject: |WARNING| [GIT MASTER] 5d40aaf77852b5884e137f1588726c92feb59002 From: dpdklab@iol.unh.edu To: Test Report Cc: dpdk-test-reports@iol.unh.edu, Ajit Khaparde Content-Type: text/plain X-BeenThere: test-report@dpdk.org X-Mailman-Version: 2.1.29 Precedence: list List-Id: automatic DPDK test reports List-Unsubscribe: , List-Archive: List-Post: List-Help: List-Subscribe: , Errors-To: test-report-bounces@dpdk.org _Testing issues_ Branch: next-net-brcm-for-next-net 5d40aaf77852b5884e137f1588726c92feb59002 --> testing issues Upstream job id: Windows-Compile-DPDK-Native#31988 Test environment and result as below: +-------------------------------+--------------------+-------------------+-------------------+------------------+-------------------------+----------------------+ | Environment | dpdk_meson_compile | dpdk_msvc_compile | dpdk_compile_spdk | dpdk_compile_ovs | dpdk_llvm_clang_compile | dpdk_mingw64_compile | +===============================+====================+===================+===================+==================+=========================+======================+ | Ubuntu 20.04 | PASS | SKIPPED | SKIPPED | SKIPPED | SKIPPED | SKIPPED | +-------------------------------+--------------------+-------------------+-------------------+------------------+-------------------------+----------------------+ | FreeBSD 14.2 | PASS | SKIPPED | SKIPPED | SKIPPED | SKIPPED | SKIPPED | +-------------------------------+--------------------+-------------------+-------------------+------------------+-------------------------+----------------------+ | CentOS Stream 9 | PASS | SKIPPED | WARN | SKIPPED | SKIPPED | SKIPPED | +-------------------------------+--------------------+-------------------+-------------------+------------------+-------------------------+----------------------+ | CentOS Stream 10 | PASS | SKIPPED | SKIPPED | SKIPPED | SKIPPED | SKIPPED | +-------------------------------+--------------------+-------------------+-------------------+------------------+-------------------------+----------------------+ | Debian GNU/Linux 12 | PASS | SKIPPED | WARN | SKIPPED | SKIPPED | SKIPPED | +-------------------------------+--------------------+-------------------+-------------------+------------------+-------------------------+----------------------+ | Fedora Linux 42 | PASS | SKIPPED | WARN | PASS | SKIPPED | SKIPPED | +-------------------------------+--------------------+-------------------+-------------------+------------------+-------------------------+----------------------+ | Red Hat Enterprise Linux 8.10 | PASS | SKIPPED | SKIPPED | SKIPPED | SKIPPED | SKIPPED | +-------------------------------+--------------------+-------------------+-------------------+------------------+-------------------------+----------------------+ | openSUSE Leap 15.6 | PASS | SKIPPED | SKIPPED | SKIPPED | SKIPPED | SKIPPED | +-------------------------------+--------------------+-------------------+-------------------+------------------+-------------------------+----------------------+ | Red Hat Enterprise Linux 9.5 | PASS | SKIPPED | SKIPPED | SKIPPED | SKIPPED | SKIPPED | +-------------------------------+--------------------+-------------------+-------------------+------------------+-------------------------+----------------------+ | Ubuntu 22.04 | PASS | SKIPPED | WARN | SKIPPED | SKIPPED | SKIPPED | +-------------------------------+--------------------+-------------------+-------------------+------------------+-------------------------+----------------------+ | Ubuntu 24.04 | PASS | SKIPPED | WARN | PASS | SKIPPED | SKIPPED | +-------------------------------+--------------------+-------------------+-------------------+------------------+-------------------------+----------------------+ | Alpine Linux 3.22.0 | PASS | SKIPPED | SKIPPED | SKIPPED | SKIPPED | SKIPPED | +-------------------------------+--------------------+-------------------+-------------------+------------------+-------------------------+----------------------+ | Windows Server 2022 | SKIPPED | PASS | SKIPPED | SKIPPED | PASS | PASS | +-------------------------------+--------------------+-------------------+-------------------+------------------+-------------------------+----------------------+ ==== 20 line log output for Ubuntu 24.04 (dpdk_compile_spdk): ==== --- Failed to get log output --- ==== End log output ==== Ubuntu 20.04 Kernel: 4.19 Compiler: gcc gcc (Ubuntu 9.4.0-1ubuntu1~20.04.2) 9.4.0 FreeBSD 14.2 Kernel: 14.2-RELEASE Compiler: clang 18.1.6 CentOS Stream 9 Kernel: 5.15 Compiler: gcc gcc (GCC) 11.5.0 20240719 (Red Hat 11.5.0-11) CentOS Stream 10 Kernel: 5.15 Compiler: gcc gcc (GCC) 14.2.1 20250110 (Red Hat 14.2.1-8) Debian GNU/Linux 12 Kernel: 5.15 Compiler: gcc gcc (Debian 12.2.0-14+deb12u1) 12.2.0 Fedora Linux 42 Kernel: 5.15 Compiler: clang gcc (GCC) 15.2.1 20250808 (Red Hat 15.2.1-1) Red Hat Enterprise Linux 8.10 Kernel: 5.15 Compiler: gcc gcc (GCC) 8.5.0 20210514 (Red Hat 8.5.0-22) openSUSE Leap 15.6 Kernel: 5.15 Compiler: gcc gcc (SUSE Linux) 7.5.0 Red Hat Enterprise Linux 9.5 Kernel: 5.15 Compiler: gcc gcc (GCC) 11.5.0 20240719 (Red Hat 11.5.0-2) Ubuntu 22.04 Kernel: 5.15 Compiler: gcc gcc (Ubuntu 11.4.0-1ubuntu1~22.04) 11.4.0 Ubuntu 24.04 Kernel: 5.15 Compiler: gcc gcc (Ubuntu 13.3.0-6ubuntu2~24.04) 13.3.0 Alpine Linux 3.22.0 Kernel: 5.15 Compiler: gcc gcc (Alpine 14.2.0) 14.2.0 Windows Server 2022 Kernel: 10.0.20348.2031 Compiler: clang 15.0.7, gcc 14.1.0 (MinGW), and MSVC VS 19.39.33521 To view detailed results, visit: https://lab.dpdk.org/results/dashboard/tarballs/35390/ UNH-IOL DPDK Community Lab To manage your email subscriptions, visit: https://lab.dpdk.org/results/dashboard/preferences/subscriptions/