From mboxrd@z Thu Jan 1 00:00:00 1970 Return-Path: Received: from mails.dpdk.org (mails.dpdk.org [217.70.189.124]) by inbox.dpdk.org (Postfix) with ESMTP id 6194D48A42 for ; Wed, 29 Oct 2025 19:25:38 +0100 (CET) Received: from mails.dpdk.org (localhost [127.0.0.1]) by mails.dpdk.org (Postfix) with ESMTP id 5C43340150; Wed, 29 Oct 2025 19:25:38 +0100 (CET) Received: from mail-pg1-f227.google.com (mail-pg1-f227.google.com [209.85.215.227]) by mails.dpdk.org (Postfix) with ESMTP id 23BBD40150 for ; Wed, 29 Oct 2025 19:25:37 +0100 (CET) Received: by mail-pg1-f227.google.com with SMTP id 41be03b00d2f7-b6ce6d1d3dcso40453a12.3 for ; Wed, 29 Oct 2025 11:25:37 -0700 (PDT) DKIM-Signature: v=1; a=rsa-sha256; c=relaxed/relaxed; d=iol.unh.edu; s=unh-iol; t=1761762336; x=1762367136; darn=dpdk.org; h=references:in-reply-to:cc:to:from:subject:message-id:date:from:to :cc:subject:date:message-id:reply-to; bh=Ir7ZaZS/b2i3kSkOYrnzQ+2BPwVgeWl07Jrokgcgf/k=; b=YwsoJhWnwaDf771ZMkyG/Z7aDs/Wp7pHQan44R6iV0osxmhsgpba8R54yf8z/EMpZe lJtMwALWNdC5I9WE14JiSUUg4u1x0LZ8MgPqfBWvpRZEjv9N19KqPslYxaCh/A1UPXsR DNwDZeYHyyzgvTbs/KungsjUIrzQBklviJXfs= X-Google-DKIM-Signature: v=1; a=rsa-sha256; c=relaxed/relaxed; d=1e100.net; s=20230601; t=1761762336; x=1762367136; h=references:in-reply-to:cc:to:from:subject:message-id:date :x-gm-message-state:from:to:cc:subject:date:message-id:reply-to; bh=Ir7ZaZS/b2i3kSkOYrnzQ+2BPwVgeWl07Jrokgcgf/k=; b=i8BdZa7uPozTQRzhqyDJE71O2TcewLQdgUyM6jqcmuEDYYvMsskrHXDZiPTcZH38+X y1OBtacB3cChHvQYNk1T2rsnuZhljkLOSwYp0R2jK27Uwd3dhqdaMtgL8C//2gGhm503 rTK6t/w5Js9pccPQXh8ylFaewfww0jGoQl7bE5NAimJArEle4enh154Ll7v17fBO/8an u0Ih39XBs2lql2i8mpEjh9vn34d3LTdIzADtyaRQosYdEx94aHuMp6WZ7yzJzhbk0qpS YqezrOw2aPWWFVfTlmQ87hqbEefVZ44QXflYFmWqf1Er1ZKUki+BGv8G9iTPzwG258fy Ta1Q== X-Gm-Message-State: AOJu0YzTalQ26NGKeAthG9cqvKZxTnbHfzmOdrf1A6L7jlEWvFDM2Uc9 k5cY2dmyeQITLWP38Wgle1P50AaDIWzZMTtK1quLVAzWzoXbWu7OltsI/CsNV4xAZsJ8MqGNwAm AKxbc6Dl0Xvvoi6fSF4V2CR9p41YIJC0rWt57Lw29b9e3 X-Gm-Gg: ASbGnct/aXbPBrRUJvHwK0eeTTLXAaWcuBwKow/ZCcuJ46VGxNNQjjDXz3f4Jwptz0T stog02VIdW45K8LcZn3ko7O9Fbsm1SErn2W9a83j9J0YGdi6WDHbubFjwaQRPvc6dnlkn8AGGle TRoiLZkQ0yhb8SThgdhX3a6WYIVJDQ6TlPOhE/Ymdy3fzIjWHfjk+Vjvj3jBUz6LtqiHUbj4UYy n2K4Z2559jJC9qaFaJv8VW2x1iPJ+n5jQmn7HR9k015g2kptX6cCb6cztIYjPvxK/eQosgRzWeq KXY6glXY3hMaCItW+L+ddtYywZs/mBefSPd79hFYGjKxI97RtXu6FTGUc5ijV245RPjFuwfo4X+ nDOS+2VOkV0rVxWJNZ4h4+AmklVGmyrY= X-Google-Smtp-Source: AGHT+IEnUSZCN32qxyc/aKJQAuGQF3ZEAdRLY549xD7AaYaT5WevATzeXOw3CUx+atQ0J4OInwid9+Y/Ns9I X-Received: by 2002:a17:902:f68c:b0:292:dca8:c142 with SMTP id d9443c01a7336-294def021f1mr48317275ad.54.1761762335957; Wed, 29 Oct 2025 11:25:35 -0700 (PDT) Received: from postal.iol.unh.edu (postal.iol.unh.edu. [132.177.123.84]) by smtp-relay.gmail.com with ESMTPS id d9443c01a7336-29498d23060sm14653715ad.26.2025.10.29.11.25.35 (version=TLS1_2 cipher=ECDHE-ECDSA-AES128-GCM-SHA256 bits=128/128); Wed, 29 Oct 2025 11:25:35 -0700 (PDT) X-Relaying-Domain: iol.unh.edu Date: Wed, 29 Oct 2025 11:25:35 -0700 (PDT) Message-ID: <69025c1f.170a0220.8ba26.5105SMTPIN_ADDED_MISSING@mx.google.com> Received: from [172.21.0.3] (unknown [172.18.0.240]) by postal.iol.unh.edu (Postfix) with ESMTP id 5C91B6050A61; Wed, 29 Oct 2025 14:25:35 -0400 (EDT) Subject: |SUCCESS| pw158283 [PATCH] pmdinfogen: fix warning with python 3.14 From: dpdklab@iol.unh.edu To: Test Report Cc: dpdk-test-reports@iol.unh.edu In-Reply-To: <20251029164616.76233-2-rjarry@redhat.com> References: <20251029164616.76233-2-rjarry@redhat.com> Content-Type: text/plain X-BeenThere: test-report@dpdk.org X-Mailman-Version: 2.1.29 Precedence: list List-Id: automatic DPDK test reports List-Unsubscribe: , List-Archive: List-Post: List-Help: List-Subscribe: , Errors-To: test-report-bounces@dpdk.org Test-Label: iol-unit-amd64-testing Test-Status: SUCCESS http://dpdk.org/patch/158283 _Testing PASS_ Submitter: Robin Jarry Date: Wednesday, October 29 2025 16:46:17 DPDK git baseline: Repo:dpdk Branch: master CommitID:39b54f2dcf44ad1f91eabc7080cd5dea763607fd 158283 --> testing pass Upstream job id: Generic-Unit-Test-DPDK#386824 Test environment and result as below: +-------------------------------+----------------+ | Environment | dpdk_unit_test | +===============================+================+ | Debian GNU/Linux 12 | PASS | +-------------------------------+----------------+ | CentOS Stream 9 | PASS | +-------------------------------+----------------+ | Fedora Linux 40 | PASS | +-------------------------------+----------------+ | CentOS Stream 10 | PASS | +-------------------------------+----------------+ | Fedora Linux 42 | PASS | +-------------------------------+----------------+ | Fedora Linux 41 | PASS | +-------------------------------+----------------+ | Red Hat Enterprise Linux 8.10 | PASS | +-------------------------------+----------------+ | Ubuntu 20.04 | PASS | +-------------------------------+----------------+ | Red Hat Enterprise Linux 9.5 | PASS | +-------------------------------+----------------+ | Ubuntu 22.04 | PASS | +-------------------------------+----------------+ | Ubuntu 24.04 | PASS | +-------------------------------+----------------+ Debian GNU/Linux 12 Kernel: 5.15 Compiler: gcc gcc (Debian 12.2.0-14+deb12u1) 12.2.0 CentOS Stream 9 Kernel: 5.15 Compiler: gcc gcc (GCC) 11.5.0 20240719 (Red Hat 11.5.0-11) Fedora Linux 40 Kernel: 5.15 Compiler: gcc gcc (GCC) 14.2.1 20240912 (Red Hat 14.2.1-3) CentOS Stream 10 Kernel: 5.15 Compiler: gcc gcc (GCC) 14.2.1 20250110 (Red Hat 14.2.1-8) Fedora Linux 42 Kernel: 5.15 Compiler: gcc gcc (GCC) 15.2.1 20250808 (Red Hat 15.2.1-1) Fedora Linux 41 Kernel: 5.15 Compiler: clang gcc (GCC) 14.3.1 20250523 (Red Hat 14.3.1-1) Red Hat Enterprise Linux 8.10 Kernel: 5.15 Compiler: gcc gcc (GCC) 8.5.0 20210514 (Red Hat 8.5.0-22) Ubuntu 20.04 Kernel: 5.15 Compiler: gcc gcc (Ubuntu 9.4.0-1ubuntu1~20.04.2) 9.4.0 Red Hat Enterprise Linux 9.5 Kernel: 5.15 Compiler: gcc gcc (GCC) 11.5.0 20240719 (Red Hat 11.5.0-2) Ubuntu 22.04 Kernel: 5.15 Compiler: gcc gcc (Ubuntu 11.4.0-1ubuntu1~22.04) 11.4.0 Ubuntu 24.04 Kernel: 5.15 Compiler: gcc gcc (Ubuntu 13.3.0-6ubuntu2~24.04) 13.3.0 To view detailed results, visit: https://lab.dpdk.org/results/dashboard/patchsets/34420/ UNH-IOL DPDK Community Lab To manage your email subscriptions, visit: https://lab.dpdk.org/results/dashboard/preferences/subscriptions/