From mboxrd@z Thu Jan 1 00:00:00 1970 Return-Path: Received: from mails.dpdk.org (mails.dpdk.org [217.70.189.124]) by inbox.dpdk.org (Postfix) with ESMTP id C1AED48A4C for ; Wed, 29 Oct 2025 19:52:13 +0100 (CET) Received: from mails.dpdk.org (localhost [127.0.0.1]) by mails.dpdk.org (Postfix) with ESMTP id B730F40150; Wed, 29 Oct 2025 19:52:13 +0100 (CET) Received: from mail-qk1-f225.google.com (mail-qk1-f225.google.com [209.85.222.225]) by mails.dpdk.org (Postfix) with ESMTP id 0936540150 for ; Wed, 29 Oct 2025 19:52:12 +0100 (CET) Received: by mail-qk1-f225.google.com with SMTP id af79cd13be357-891208f6185so14242685a.1 for ; Wed, 29 Oct 2025 11:52:11 -0700 (PDT) DKIM-Signature: v=1; a=rsa-sha256; c=relaxed/relaxed; d=iol.unh.edu; s=unh-iol; t=1761763931; x=1762368731; darn=dpdk.org; h=references:in-reply-to:cc:to:from:subject:message-id:date:from:to :cc:subject:date:message-id:reply-to; bh=VSQ/VF7srUc81wUfmRew3AAkhHIE/40IGJLA3xKRr/Q=; b=Ia9aCDuVdM2CO2MXriiF850Xy1bZNMTqmOm9FHvBIXrUGj0Qnu9rMDF4Ed1yYxpkTs YgNFYB1mjxrJOU+kBsijN1zO3aetSKiKZYwhjBYicp5dXgzPWcpginLeuMYkce74FYI/ RPvg+jukATq/m1ICgzUM40Sl1L0TRgO9W5s8M= X-Google-DKIM-Signature: v=1; a=rsa-sha256; c=relaxed/relaxed; d=1e100.net; s=20230601; t=1761763931; x=1762368731; h=references:in-reply-to:cc:to:from:subject:message-id:date :x-gm-message-state:from:to:cc:subject:date:message-id:reply-to; bh=VSQ/VF7srUc81wUfmRew3AAkhHIE/40IGJLA3xKRr/Q=; b=MhoJhyyA8tODpKrfirkMmFuvhUCloh5vpspAMC7YBc8auQl6xptl0vE/xnV1LLDVdd MDwXDbuwTyC55P+Qhwz2KMpw1YhQBsAsU+s7gcAjfpheE9bAgxHigx/Ie5ut8OmiCBbo Suw1ruuORyS1ewf1HjeGlNWHYliLaZ+nLoHEXbthLmH0XmUk1W1a0Dn0bwaoo9j7nnm0 gvseWnBj0RlMJZvZiDUT6hmNFfijOklM8S+0UrOU1RDiN1eN/RmSiVJYOryHlnHFgW/b a6fIX+uN/rOCHfr6XA1vQ0FmDjsf6bl5f9xeg46fy4TWvbNv9vGOv0++C+QSVL/+f3v7 mKJQ== X-Gm-Message-State: AOJu0Yw5VvsrfoEUHHlAAKfqCMZB0NqryVWCrUdk9bLeSx4aLg+IhWKG Q6QwMB0sj9Fo3tvkSrZ4e1QlgYdKgYZSX691PcUeZRl9H3Wn7D5UbAnZFaPHKTy0XK/TtwiYGU7 NVmUWCI/wgEVtBzPBa2nAVF4Fl2U8x6FfLTWOz7O9gqeolzD+qvvAReJURgzz X-Gm-Gg: ASbGncsE2CIbkHkOqvavTCuPtSNbR6qwfShnCDsdMVSvVHx5jrOtRlnhtLMhDf9xzSE uzdZ8rg42pMMuVo+hRJaxRGzmnSI9t4+LxQi5m8oPf3It5s78ZNFM7HLuCyib11OeObekAh+wgX 1OpFd+rfKpNtHOpU9Hl0VrJ+XmnWydn7BPtI6V1TtaCXSZqeO3T6KPF5hh6leQbXQf4E6V7Yzqx CMeeNflg5Jqk+JIm/qeyM+SoTGiNN/fbuL/rJn6pG5UtXL1GA85YRwzdO0FNxKt7xfNZurgAsOv w5HxWCIOtW2FbJ85hJhbNBYuIqpTkWH/UzSC7JKEiHwU4cz4dTRUMiMO9JxiVa1Tprw2aPFkXrR zoU9rfZ2a X-Google-Smtp-Source: AGHT+IE6/WdqTBjN4ABIrItnY0p3DKEMS+LaxBzT78LqILVerFL4dxLrYkmT1Q5Oa7Aa2yfdUfS+nGRD3dhf X-Received: by 2002:a05:620a:3722:b0:89f:2d97:98fd with SMTP id af79cd13be357-8a8ed163911mr507344685a.2.1761763931312; Wed, 29 Oct 2025 11:52:11 -0700 (PDT) Received: from postal.iol.unh.edu (postal.iol.unh.edu. [2606:4100:3880:1234::84]) by smtp-relay.gmail.com with ESMTPS id af79cd13be357-89f234658e5sm135163985a.1.2025.10.29.11.52.11 (version=TLS1_2 cipher=ECDHE-ECDSA-AES128-GCM-SHA256 bits=128/128); Wed, 29 Oct 2025 11:52:11 -0700 (PDT) X-Relaying-Domain: iol.unh.edu Date: Wed, 29 Oct 2025 11:52:11 -0700 (PDT) Message-ID: <6902625b.050a0220.53a8f.e656SMTPIN_ADDED_MISSING@mx.google.com> Received: from [172.21.0.2] (unknown [172.18.0.240]) by postal.iol.unh.edu (Postfix) with ESMTP id 0BA7E6050A61; Wed, 29 Oct 2025 14:52:11 -0400 (EDT) Subject: |WARNING| pw158227-158282 [PATCH] [v5,57/57] net/bnxt/tf_ulp: remove From: dpdklab@iol.unh.edu To: Test Report Cc: dpdk-test-reports@iol.unh.edu In-Reply-To: <20251029160712.58519-58-manish.kurup@broadcom.com> References: <20251029160712.58519-58-manish.kurup@broadcom.com> Content-Type: text/plain X-BeenThere: test-report@dpdk.org X-Mailman-Version: 2.1.29 Precedence: list List-Id: automatic DPDK test reports List-Unsubscribe: , List-Archive: List-Post: List-Help: List-Subscribe: , Errors-To: test-report-bounces@dpdk.org Test-Label: iol-compile-amd64-testing Test-Status: WARNING http://dpdk.org/patch/158282 _Testing issues_ Submitter: Manish Kurup Date: Wednesday, October 29 2025 16:07:12 DPDK git baseline: Repo:dpdk Branch: master CommitID:39b54f2dcf44ad1f91eabc7080cd5dea763607fd 158227-158282 --> testing issues Upstream job id: Generic-DPDK-Compile-Meson#439109 Test environment and result as below: +---------------------+--------------------+-------------------+-------------------+ | Environment | dpdk_meson_compile | dpdk_msvc_compile | dpdk_compile_spdk | +=====================+====================+===================+===================+ | FreeBSD 14.2 | PASS | SKIPPED | SKIPPED | +---------------------+--------------------+-------------------+-------------------+ | Ubuntu 20.04 | PASS | SKIPPED | SKIPPED | +---------------------+--------------------+-------------------+-------------------+ | CentOS Stream 9 | PASS | SKIPPED | WARN | +---------------------+--------------------+-------------------+-------------------+ | CentOS Stream 10 | PASS | SKIPPED | SKIPPED | +---------------------+--------------------+-------------------+-------------------+ | Windows Server 2022 | SKIPPED | PEND | SKIPPED | +---------------------+--------------------+-------------------+-------------------+ ==== 20 line log output for CentOS Stream 9 (dpdk_compile_spdk): ==== --- Failed to get log output --- ==== End log output ==== FreeBSD 14.2 Kernel: 14.2-RELEASE Compiler: clang 18.1.6 Ubuntu 20.04 Kernel: 4.19 Compiler: gcc gcc (Ubuntu 9.4.0-1ubuntu1~20.04.2) 9.4.0 CentOS Stream 9 Kernel: 5.15 Compiler: gcc gcc (GCC) 11.5.0 20240719 (Red Hat 11.5.0-11) CentOS Stream 10 Kernel: 5.15 Compiler: gcc gcc (GCC) 14.2.1 20250110 (Red Hat 14.2.1-8) Windows Server 2022 Kernel: 10.0.20348.2031 Compiler: clang 15.0.7, gcc 14.1.0 (MinGW), and MSVC VS 19.39.33521 To view detailed results, visit: https://lab.dpdk.org/results/dashboard/patchsets/34419/ UNH-IOL DPDK Community Lab To manage your email subscriptions, visit: https://lab.dpdk.org/results/dashboard/preferences/subscriptions/