From mboxrd@z Thu Jan 1 00:00:00 1970 Return-Path: Received: from mails.dpdk.org (mails.dpdk.org [217.70.189.124]) by inbox.dpdk.org (Postfix) with ESMTP id 72B5F48A4C for ; Wed, 29 Oct 2025 19:59:38 +0100 (CET) Received: from mails.dpdk.org (localhost [127.0.0.1]) by mails.dpdk.org (Postfix) with ESMTP id 6F31440150; Wed, 29 Oct 2025 19:59:38 +0100 (CET) Received: from mail-pg1-f227.google.com (mail-pg1-f227.google.com [209.85.215.227]) by mails.dpdk.org (Postfix) with ESMTP id ADC2540150 for ; Wed, 29 Oct 2025 19:59:36 +0100 (CET) Received: by mail-pg1-f227.google.com with SMTP id 41be03b00d2f7-b6cee846998so72641a12.1 for ; Wed, 29 Oct 2025 11:59:36 -0700 (PDT) DKIM-Signature: v=1; a=rsa-sha256; c=relaxed/relaxed; d=iol.unh.edu; s=unh-iol; t=1761764376; x=1762369176; darn=dpdk.org; h=references:in-reply-to:cc:to:from:subject:message-id:date:from:to :cc:subject:date:message-id:reply-to; bh=gjdiOjcIRI0vwAVNa4mpNaEzC/p07FFc4naXKdldk2A=; b=XVbE1hOsMwYI4lvi+zsMYkkklAeWX2l0AkzjtyJR6LMm7nofgGLf5JVgM0GE4Zxmyq l8CWB3NjeMeD8KuqMnOa/qnYKTwT/rGoihhlxLBkfmk7NTT25i+PEQeOdZn+4U9CzCOX BFSkpPTTqr0cuPu+T2Hj0dAp/XzZwNWbiSQ1w= X-Google-DKIM-Signature: v=1; a=rsa-sha256; c=relaxed/relaxed; d=1e100.net; s=20230601; t=1761764376; x=1762369176; h=references:in-reply-to:cc:to:from:subject:message-id:date :x-gm-message-state:from:to:cc:subject:date:message-id:reply-to; bh=gjdiOjcIRI0vwAVNa4mpNaEzC/p07FFc4naXKdldk2A=; b=ne32Uk6AgdylPkllhPF+8lxp4SinMwobvp3fpEefN8PYeUvXeEgjKqhGhZmwHNnvvY z0tXyFNE9fxCwTdhABhZjvH0+o5tUF3B8FRc7iNKCJdlbbWimXWhYjdnE9W5Tj2z6IA0 BSr8y9Fhvt0PDZPHLtTYEWybN/3TkZmGrn5ArikMYpxUzN4PgxGshNuFs+bf2iF0flAn ucRNXBILY+OCupeGLs76g+XHQaoK810OmnaXH2dRQNLxmnAO5EIan4rtD+qebWjZOe59 DUV6lYKB3Uum8Ry48IGrNqtPOHeLsHicBP+d7s9MePTKOMgTLXFcwAFTeeb3xKlss2Oc mM8A== X-Gm-Message-State: AOJu0YzPesiRQnr+Qt3aah9Ct6uxrWIwSZQjaUoTmSvP+/iXFkvm6GhT kzpFJw82GiF6bGNhILHmvfQv8ARbUVPpMPy1pIRQA25mjxq2i5BAqf4xdgmHuc6hKecE9GYhYVa UPZesR80YRYwFf5ymvEGjiwyfhh/nxTxzYEeL3KjecW70qB4O6nRGoS/qudSF X-Gm-Gg: ASbGncuFYPJFQgdwtjqbDyul7sWUQqpI7tYVvS3Hj+3bjoEqp9e6ymUrI7u9teDGdIE MPWtZ5foxywmzedbW2RUh8wutxu2xpckdaZytKoxGdRu3wosPHxyPQhq6AGf9VJbM/6P00lRCjA 2SCfbxt84kZ8aeUKpQnPeq5Gz6Y/6y6ncXLfdYH76ZfORMKRnMX/rWudu4lrMAVoharTQRL0ZlI odE+/ZAYV3A62Njg0rKACUlQ7NyoJ2Wa7dDv7zBJunJdcARlzjXel2LKepcqSyiUaRoE/U8CNwQ Y5MAAeJfskGrDxvqmSZwU5rBPzSC4egGqx5oWePJwmnFvEDAHwIa4z1+8DdBpzJtRNJPToMlEyH 4bFhgjio/ X-Google-Smtp-Source: AGHT+IEkYWxE6rSRKa5NzlfqFMdJsaUr08l7TJe7HMmbnLK4+w9XMKiaTzm7lQbymUn/NRmDXxIij5DF1C4b X-Received: by 2002:a17:902:e2c4:b0:269:9adf:839 with SMTP id d9443c01a7336-294edba4eeemr3262925ad.19.1761764375869; Wed, 29 Oct 2025 11:59:35 -0700 (PDT) Received: from postal.iol.unh.edu (postal.iol.unh.edu. [2606:4100:3880:1234::84]) by smtp-relay.gmail.com with ESMTPS id d9443c01a7336-29498d2743esm13474125ad.35.2025.10.29.11.59.35 (version=TLS1_2 cipher=ECDHE-ECDSA-AES128-GCM-SHA256 bits=128/128); Wed, 29 Oct 2025 11:59:35 -0700 (PDT) X-Relaying-Domain: iol.unh.edu Date: Wed, 29 Oct 2025 11:59:35 -0700 (PDT) Message-ID: <69026417.170a0220.2b018f.f5b0SMTPIN_ADDED_MISSING@mx.google.com> Received: from [172.21.0.2] (unknown [172.18.0.240]) by postal.iol.unh.edu (Postfix) with ESMTP id 283C2604D420; Wed, 29 Oct 2025 14:59:35 -0400 (EDT) Subject: |SUCCESS| pw158208 [PATCH] [v2] config/arm: add HiSilicon HIP12 From: dpdklab@iol.unh.edu To: Test Report Cc: dpdk-test-reports@iol.unh.edu In-Reply-To: <20251029011626.9298-1-fengchengwen@huawei.com> References: <20251029011626.9298-1-fengchengwen@huawei.com> Content-Type: text/plain X-BeenThere: test-report@dpdk.org X-Mailman-Version: 2.1.29 Precedence: list List-Id: automatic DPDK test reports List-Unsubscribe: , List-Archive: List-Post: List-Help: List-Subscribe: , Errors-To: test-report-bounces@dpdk.org Test-Label: iol-unit-arm64-testing Test-Status: SUCCESS http://dpdk.org/patch/158208 _Testing PASS_ Submitter: fengchengwen Date: Wednesday, October 29 2025 01:16:26 DPDK git baseline: Repo:dpdk Branch: master CommitID:39b54f2dcf44ad1f91eabc7080cd5dea763607fd 158208 --> testing pass Upstream job id: Generic-Unit-Test-DPDK#386464 Test environment and result as below: +------------------------------+----------------+------------------------------+--------------+---------------------------+ | Environment | dpdk_unit_test | cryptodev_sw_snow3g_autotest | lpm_autotest | cryptodev_sw_zuc_autotest | +==============================+================+==============================+==============+===========================+ | CentOS Stream 10 | PASS | SKIPPED | SKIPPED | SKIPPED | +------------------------------+----------------+------------------------------+--------------+---------------------------+ | CentOS Stream 9 | PASS | SKIPPED | SKIPPED | SKIPPED | +------------------------------+----------------+------------------------------+--------------+---------------------------+ | Fedora Linux 40 | PASS | SKIPPED | SKIPPED | SKIPPED | +------------------------------+----------------+------------------------------+--------------+---------------------------+ | Fedora Linux 42 | PASS | SKIPPED | SKIPPED | SKIPPED | +------------------------------+----------------+------------------------------+--------------+---------------------------+ | Debian GNU/Linux 12 | PASS | SKIPPED | SKIPPED | SKIPPED | +------------------------------+----------------+------------------------------+--------------+---------------------------+ | Fedora Linux 41 | PASS | SKIPPED | SKIPPED | SKIPPED | +------------------------------+----------------+------------------------------+--------------+---------------------------+ | Ubuntu 20.04 | PASS | SKIPPED | PASS | SKIPPED | +------------------------------+----------------+------------------------------+--------------+---------------------------+ | Ubuntu 22.04 | PASS | SKIPPED | SKIPPED | SKIPPED | +------------------------------+----------------+------------------------------+--------------+---------------------------+ | Red Hat Enterprise Linux 9.5 | PASS | SKIPPED | SKIPPED | SKIPPED | +------------------------------+----------------+------------------------------+--------------+---------------------------+ | Ubuntu 24.04 | PASS | SKIPPED | SKIPPED | SKIPPED | +------------------------------+----------------+------------------------------+--------------+---------------------------+ | Debian 12 (arm) | SKIPPED | PASS | SKIPPED | PASS | +------------------------------+----------------+------------------------------+--------------+---------------------------+ CentOS Stream 10 Kernel: 5.4 Compiler: gcc gcc (GCC) 14.2.1 20250110 (Red Hat 14.2.1-8) CentOS Stream 9 Kernel: 5.4 Compiler: gcc gcc (GCC) 11.5.0 20240719 (Red Hat 11.5.0-11) Fedora Linux 40 Kernel: 5.4 Compiler: gcc gcc (GCC) 14.2.1 20240912 (Red Hat 14.2.1-3) Fedora Linux 42 Kernel: 5.4 Compiler: gcc gcc (GCC) 15.2.1 20250808 (Red Hat 15.2.1-1) Debian GNU/Linux 12 Kernel: 5.4 Compiler: gcc gcc (Debian 12.2.0-14+deb12u1) 12.2.0 Fedora Linux 41 Kernel: 5.4 Compiler: clang gcc (GCC) 14.3.1 20250523 (Red Hat 14.3.1-1) Ubuntu 20.04 Kernel: 5.4 Compiler: gcc gcc (Ubuntu 9.4.0-1ubuntu1~20.04.2) 9.4.0 Ubuntu 22.04 Kernel: 5.4 Compiler: gcc gcc (Ubuntu 11.4.0-1ubuntu1~22.04) 11.4.0 Red Hat Enterprise Linux 9.5 Kernel: 5.4 Compiler: gcc gcc (GCC) 11.5.0 20240719 (Red Hat 11.5.0-2) Ubuntu 24.04 Kernel: 5.4 Compiler: gcc gcc (Ubuntu 13.3.0-6ubuntu2~24.04) 13.3.0 Debian 12 (arm) Kernel: Depends on container host Compiler: gcc (Debian 12.2.0-14) 12.2.0 To view detailed results, visit: https://lab.dpdk.org/results/dashboard/patchsets/34411/ UNH-IOL DPDK Community Lab To manage your email subscriptions, visit: https://lab.dpdk.org/results/dashboard/preferences/subscriptions/